BEGIN:VCALENDAR
VERSION:2.0
PRODID:-//Musikwochen Millstatt - ECPv6.15.17.1//NONSGML v1.0//EN
CALSCALE:GREGORIAN
METHOD:PUBLISH
X-ORIGINAL-URL:https://www.musikwochen.com
X-WR-CALDESC:Veranstaltungen für Musikwochen Millstatt
REFRESH-INTERVAL;VALUE=DURATION:PT1H
X-Robots-Tag:noindex
X-PUBLISHED-TTL:PT1H
BEGIN:VTIMEZONE
TZID:Europe/Vienna
BEGIN:DAYLIGHT
TZOFFSETFROM:+0100
TZOFFSETTO:+0200
TZNAME:CEST
DTSTART:20220327T010000
END:DAYLIGHT
BEGIN:STANDARD
TZOFFSETFROM:+0200
TZOFFSETTO:+0100
TZNAME:CET
DTSTART:20221030T010000
END:STANDARD
BEGIN:DAYLIGHT
TZOFFSETFROM:+0100
TZOFFSETTO:+0200
TZNAME:CEST
DTSTART:20230326T010000
END:DAYLIGHT
BEGIN:STANDARD
TZOFFSETFROM:+0200
TZOFFSETTO:+0100
TZNAME:CET
DTSTART:20231029T010000
END:STANDARD
BEGIN:DAYLIGHT
TZOFFSETFROM:+0100
TZOFFSETTO:+0200
TZNAME:CEST
DTSTART:20240331T010000
END:DAYLIGHT
BEGIN:STANDARD
TZOFFSETFROM:+0200
TZOFFSETTO:+0100
TZNAME:CET
DTSTART:20241027T010000
END:STANDARD
END:VTIMEZONE
BEGIN:VEVENT
DTSTART;TZID=Europe/Vienna:20230622T220000
DTEND;TZID=Europe/Vienna:20230623T000000
DTSTAMP:20260424T021319
CREATED:20230220T102542Z
LAST-MODIFIED:20230221T125851Z
UID:17375-1687471200-1687478400@www.musikwochen.com
SUMMARY:Männergesangsverein Almrose Radenthein
DESCRIPTION:„Vom Himmel zur Erde“\nBenjamin Buchacher: Musikalische Leitung \nUnter dem Titel „Vom Himmel zur Erde“ wird der Männergesangsverein Almrose Radenthein\, der in diesem Jahr sein 111-jähriges Bestehen feiert\, geistliche und weltliche Werke zum Besten geben. Seit 2015 liegt die musikalische Führung in den Händen von Benjamin Buchacher\, der mit viel Einsatz\, Kreativität und Geschick den Männergesangsverein leitet. Der Klangkörper hat im Laufe der letzten Jahrzehnte sein Können bei nationalen und internationalen Wettbewerben erfolgreich unter Beweis gestellt und zahlreiche Tonträger veröffentlicht. Der Verein steht für musikalische Vielfalt und generationsübergreifende Chorklänge. Die programmatische Bandbreite reicht vom schneidigen Kärntnerlied über das slowenische Volkslied bis hin zu geistlichen Meisterwerken. Auch auf solistische Darbietungen dürfen Sie sich im Rahmen des Konzertabends freuen. \n© MGV Almrose Radenthein \n\n\n\n\n\n\n\n\n\n\n\n\n\n\n\n\nEintritt\n\n€\n22\,00\n\n\n\n\n\n\nKartenreservierungen
URL:https://www.musikwochen.com/konzert/maennergesangsverein-almrose-radenthein/
LOCATION:Stiftskirche Millstatt\, Stiftgasse 1\, Millstatt\, Kärnten\, 9872\, Österreich
ATTACH;FMTTYPE=image/jpeg:https://www.musikwochen.com/wp-content/uploads/2023/02/D855866a.jpg
ORGANIZER;CN="Musikwochen Millstatt":MAILTO:musikwochen@millstatt.at
END:VEVENT
END:VCALENDAR