BEGIN:VCALENDAR
VERSION:2.0
PRODID:-//Musikwochen Millstatt - ECPv6.15.17.1//NONSGML v1.0//EN
CALSCALE:GREGORIAN
METHOD:PUBLISH
X-ORIGINAL-URL:https://www.musikwochen.com
X-WR-CALDESC:Veranstaltungen für Musikwochen Millstatt
REFRESH-INTERVAL;VALUE=DURATION:PT1H
X-Robots-Tag:noindex
X-PUBLISHED-TTL:PT1H
BEGIN:VTIMEZONE
TZID:Europe/Vienna
BEGIN:DAYLIGHT
TZOFFSETFROM:+0100
TZOFFSETTO:+0200
TZNAME:CEST
DTSTART:20220327T010000
END:DAYLIGHT
BEGIN:STANDARD
TZOFFSETFROM:+0200
TZOFFSETTO:+0100
TZNAME:CET
DTSTART:20221030T010000
END:STANDARD
BEGIN:DAYLIGHT
TZOFFSETFROM:+0100
TZOFFSETTO:+0200
TZNAME:CEST
DTSTART:20230326T010000
END:DAYLIGHT
BEGIN:STANDARD
TZOFFSETFROM:+0200
TZOFFSETTO:+0100
TZNAME:CET
DTSTART:20231029T010000
END:STANDARD
BEGIN:DAYLIGHT
TZOFFSETFROM:+0100
TZOFFSETTO:+0200
TZNAME:CEST
DTSTART:20240331T010000
END:DAYLIGHT
BEGIN:STANDARD
TZOFFSETFROM:+0200
TZOFFSETTO:+0100
TZNAME:CET
DTSTART:20241027T010000
END:STANDARD
END:VTIMEZONE
BEGIN:VEVENT
DTSTART;TZID=Europe/Vienna:20230624T210000
DTEND;TZID=Europe/Vienna:20230624T233000
DTSTAMP:20260424T021404
CREATED:20220304T110747Z
LAST-MODIFIED:20230614T134143Z
UID:17169-1687640400-1687649400@www.musikwochen.com
SUMMARY:Orchester Wiener Concert-Verein
DESCRIPTION:„Jubiläen“\nOrchester Wiener Concert-Verein\nDmitry Matvienko: Dirigent\nKarl Eichinger: Klavier \nDas „Orchester Wiener Concert-Verein“ hat sich der Pflege der klassischen und zeitgenössischen Musik verschrieben. Der Klangkörper und der Pianist Karl Eichinger präsentieren sich mit einem eindrucksvollen Programm voller Jubilaren: Anlässlich des 125. Geburtstages von George Gershwin wird sein Klavierkonzert „Concerto in F“\, das in genialer Weise Klassik und symphonischen Jazz vereint\, zur Aufführung gebracht. Weiters setzen die Interpret:innen auf einen italienischen Schwerpunkt mit Gioachino Rossinis Ouvertüre aus der komischen Oper „Il signor Bruschino“ und der Ouvertüre aus der Oper „La cambiale di matrimonio“\, die ebenso aus Rossinis Feder entstammt. Als weiterer Jubilar findet sich im Programm des Klangkollektivs der österreichische Komponist Heinrich Gattermeyer wieder\, der in diesem Jahr seinen 100. Geburtstag gefeiert hätte. Bezeichnend für seinen Kompositionsstil ist sind die „Fünf Szenen für Streichorchester“\, die in Millstatt erstmals erklingen werden. Der Dirigent Dmitry Matvienko\, der ausgewiesene Gershwin-Spezialist Karl Eichinger und der renommierte Wiener Concert-Verein versprechen einen Abend voll musikalischer Intensität und Brillanz. \n© Julia Wesely \n\n\n\n\n\n\n\n\n\n\n\n\n\n\n\n\nKAT A\n\n€\n49\,00\n\n\n\n\n\nKAT B\n\n€\n45\,00\n\n\n\n\n\n\nKartenreservierungen
URL:https://www.musikwochen.com/konzert/orchester-wiener-concert-verein/
LOCATION:Kongresshaus Millstatt\, Marktplatz 14\, Millstatt\, Kärnten\, 9872\, Österreich
ATTACH;FMTTYPE=image/jpeg:https://www.musikwochen.com/wp-content/uploads/2022/03/WienerKonzertverein-5443-1-scaled.jpg
ORGANIZER;CN="Musikwochen Millstatt":MAILTO:musikwochen@millstatt.at
END:VEVENT
END:VCALENDAR