BEGIN:VCALENDAR
VERSION:2.0
PRODID:-//Musikwochen Millstatt - ECPv6.15.17.1//NONSGML v1.0//EN
CALSCALE:GREGORIAN
METHOD:PUBLISH
X-WR-CALNAME:Musikwochen Millstatt
X-ORIGINAL-URL:https://www.musikwochen.com
X-WR-CALDESC:Veranstaltungen für Musikwochen Millstatt
REFRESH-INTERVAL;VALUE=DURATION:PT1H
X-Robots-Tag:noindex
X-PUBLISHED-TTL:PT1H
BEGIN:VTIMEZONE
TZID:Europe/Vienna
BEGIN:DAYLIGHT
TZOFFSETFROM:+0100
TZOFFSETTO:+0200
TZNAME:CEST
DTSTART:20220327T010000
END:DAYLIGHT
BEGIN:STANDARD
TZOFFSETFROM:+0200
TZOFFSETTO:+0100
TZNAME:CET
DTSTART:20221030T010000
END:STANDARD
BEGIN:DAYLIGHT
TZOFFSETFROM:+0100
TZOFFSETTO:+0200
TZNAME:CEST
DTSTART:20230326T010000
END:DAYLIGHT
BEGIN:STANDARD
TZOFFSETFROM:+0200
TZOFFSETTO:+0100
TZNAME:CET
DTSTART:20231029T010000
END:STANDARD
BEGIN:DAYLIGHT
TZOFFSETFROM:+0100
TZOFFSETTO:+0200
TZNAME:CEST
DTSTART:20240331T010000
END:DAYLIGHT
BEGIN:STANDARD
TZOFFSETFROM:+0200
TZOFFSETTO:+0100
TZNAME:CET
DTSTART:20241027T010000
END:STANDARD
END:VTIMEZONE
BEGIN:VEVENT
DTSTART;TZID=Europe/Vienna:20230701T213000
DTEND;TZID=Europe/Vienna:20230702T000000
DTSTAMP:20260424T021553
CREATED:20230220T114115Z
LAST-MODIFIED:20230221T125645Z
UID:17382-1688247000-1688256000@www.musikwochen.com
SUMMARY:Duo [:klak:]
DESCRIPTION:„ELEVEN“\nStefan Kollmann: Akkordeon\nMarkus Fellner: Es/Bb/A/Bass-Klarinette\, Percussion & Gesang \nSeit über einem Jahrzehnt tritt das Duo [:klak:] auf nationaler und internationaler Ebene äußert erfolgreich auf und schaffet es auf besondere Art und Weise\, sein Publikum mitzureißen. Markus Fellner und Stefan Kollmann haben im vergangenen Jahr ihre dritte CD\, die unter dem Titel „ELEVEN“ steht\, veröffentlicht. Mit dem gleichnamigen Programm treten die beiden Vollblutmusiker\, deren musikalisches Schaffen unter dem Credo „Vielfalt und Kreativität“ steht\, erstmals im Rahmen der Musikwochen Millstatt auf. In höchsten Tönen wird „ELEVEN“ gefeiert und gelobt: „Stefan Kollmann und Markus Fellner zeigen mit ‚Eleven‘\, dass man sich in der Vielfalt der Stile nicht unbedingt verlieren muss\, sondern diese für sich auch nutzen kann\, um musikalisch etwas einzigartig Schönes entstehen zu lassen.“ (Michael Ternai\, music austria) \nDie Musik des Duos\, die berührt\, erfrischend mitreißt und bewegt\, kann nicht schubladisiert werden – mit „ELEVEN“ laden die beiden Künstler zu einer Reise rund um die Welt ein. \n© Florian Proprenter \n\n\n\n\n\n\n\n\n\n\n\n\n\n\n\n\nEINTRITT\n\n€\n35\,00\n\n\n\n\n\n\nKartenreservierungen
URL:https://www.musikwochen.com/konzert/duo-klak/
LOCATION:Kongresshaus Millstatt\, Marktplatz 14\, Millstatt\, Kärnten\, 9872\, Österreich
ATTACH;FMTTYPE=image/jpeg:https://www.musikwochen.com/wp-content/uploads/2023/02/c-Florian-Proprenter_1-scaled.jpg
ORGANIZER;CN="Musikwochen Millstatt":MAILTO:musikwochen@millstatt.at
END:VEVENT
END:VCALENDAR