BEGIN:VCALENDAR
VERSION:2.0
PRODID:-//Musikwochen Millstatt - ECPv6.15.17.1//NONSGML v1.0//EN
CALSCALE:GREGORIAN
METHOD:PUBLISH
X-ORIGINAL-URL:https://www.musikwochen.com
X-WR-CALDESC:Veranstaltungen für Musikwochen Millstatt
REFRESH-INTERVAL;VALUE=DURATION:PT1H
X-Robots-Tag:noindex
X-PUBLISHED-TTL:PT1H
BEGIN:VTIMEZONE
TZID:Europe/Vienna
BEGIN:DAYLIGHT
TZOFFSETFROM:+0100
TZOFFSETTO:+0200
TZNAME:CEST
DTSTART:20220327T010000
END:DAYLIGHT
BEGIN:STANDARD
TZOFFSETFROM:+0200
TZOFFSETTO:+0100
TZNAME:CET
DTSTART:20221030T010000
END:STANDARD
BEGIN:DAYLIGHT
TZOFFSETFROM:+0100
TZOFFSETTO:+0200
TZNAME:CEST
DTSTART:20230326T010000
END:DAYLIGHT
BEGIN:STANDARD
TZOFFSETFROM:+0200
TZOFFSETTO:+0100
TZNAME:CET
DTSTART:20231029T010000
END:STANDARD
BEGIN:DAYLIGHT
TZOFFSETFROM:+0100
TZOFFSETTO:+0200
TZNAME:CEST
DTSTART:20240331T010000
END:DAYLIGHT
BEGIN:STANDARD
TZOFFSETFROM:+0200
TZOFFSETTO:+0100
TZNAME:CET
DTSTART:20241027T010000
END:STANDARD
END:VTIMEZONE
BEGIN:VEVENT
DTSTART;TZID=Europe/Vienna:20230811T213000
DTEND;TZID=Europe/Vienna:20230812T000000
DTSTAMP:20260424T051639
CREATED:20220303T112335Z
LAST-MODIFIED:20230727T081207Z
UID:17122-1691789400-1691798400@www.musikwochen.com
SUMMARY:Klangtheater
DESCRIPTION:„Über Bach\, Bananensplit und Schildkröten“\nJulia Hofer: E-Bass & Cello\nMatthias Ortner: Gesang\, Gitarre & Loopstation\nEdgar Unterkirchner: Saxophon\nHannah Senfter: Harfe \nIn dieser neu gegründeten\, spannenden Formation spielen sich die vier ausdrucksstarken Musiker:innen Julia Hofer\, Hannah Senfter\, Matthias Ortner und Edgar Unterkirchner auf der Spielwiese der unendlichen musikalischen Möglichkeiten gemeinsam zu neuen Horizonten. \nCello & Saxophon: Interpretationen von Werken Johann Sebastian Bachs und Eigenkompositionen sowie Improvisationen über das Leben einer kleinen Schildkröte stehen ebenso auf dem Programm der einzigartigen musikalischen Entdeckungsreise\, wie ein Schlaflied für Kinder oder ein Lied über einen unbeschwerten September-Tag mit Bananensplit und guten Gesprächen. Federleicht schweben die vier Künstler:innen zwischen verschiedenen Stilen – bewahren dabei auf ganz natürliche Weise ihre eigene Art des Spielens\, stellen das „Miteinander“ in den Vordergrund – und erschaffen so Neues. Ein Konzertabend der Millstätter Bassistin & Cellistin Julia Hofer gemeinsam mit Sänger\, Gitarrist und Loopstation-Artist Matthias Ortner\, dem Saxophonisten Edgar Unterkirchner und der Harfenistin Hannah Senfter\, den man erlebt haben muss. \n© Daniel Waschnig | Martin Steinthaler | Maria Frodl \n\n\n\n\n\n\n\n\n\n\n\n\n\n\n\n\nEINTRITT\n\n€\n35\,00\n\n\n\n\n\n\nKartenreservierungen
URL:https://www.musikwochen.com/konzert/klangtheater/
LOCATION:Kongresshaus Millstatt\, Marktplatz 14\, Millstatt\, Kärnten\, 9872\, Österreich
ATTACH;FMTTYPE=image/jpeg:https://www.musikwochen.com/wp-content/uploads/2022/03/InFrame_1676895807350-e1676896000606.jpg
ORGANIZER;CN="Musikwochen Millstatt":MAILTO:musikwochen@millstatt.at
END:VEVENT
END:VCALENDAR