BEGIN:VCALENDAR
VERSION:2.0
PRODID:-//Musikwochen Millstatt - ECPv6.15.17.1//NONSGML v1.0//EN
CALSCALE:GREGORIAN
METHOD:PUBLISH
X-ORIGINAL-URL:https://www.musikwochen.com
X-WR-CALDESC:Veranstaltungen für Musikwochen Millstatt
REFRESH-INTERVAL;VALUE=DURATION:PT1H
X-Robots-Tag:noindex
X-PUBLISHED-TTL:PT1H
BEGIN:VTIMEZONE
TZID:Europe/Vienna
BEGIN:DAYLIGHT
TZOFFSETFROM:+0100
TZOFFSETTO:+0200
TZNAME:CEST
DTSTART:20220327T010000
END:DAYLIGHT
BEGIN:STANDARD
TZOFFSETFROM:+0200
TZOFFSETTO:+0100
TZNAME:CET
DTSTART:20221030T010000
END:STANDARD
BEGIN:DAYLIGHT
TZOFFSETFROM:+0100
TZOFFSETTO:+0200
TZNAME:CEST
DTSTART:20230326T010000
END:DAYLIGHT
BEGIN:STANDARD
TZOFFSETFROM:+0200
TZOFFSETTO:+0100
TZNAME:CET
DTSTART:20231029T010000
END:STANDARD
BEGIN:DAYLIGHT
TZOFFSETFROM:+0100
TZOFFSETTO:+0200
TZNAME:CEST
DTSTART:20240331T010000
END:DAYLIGHT
BEGIN:STANDARD
TZOFFSETFROM:+0200
TZOFFSETTO:+0100
TZNAME:CET
DTSTART:20241027T010000
END:STANDARD
END:VTIMEZONE
BEGIN:VEVENT
DTSTART;TZID=Europe/Vienna:20230812T213000
DTEND;TZID=Europe/Vienna:20230813T000000
DTSTAMP:20260424T064110
CREATED:20220303T111742Z
LAST-MODIFIED:20230809T142911Z
UID:17118-1691875800-1691884800@www.musikwochen.com
SUMMARY:Lied und Oper - Meisterkurs mit Thomas Hampson
DESCRIPTION:„Meisterlich: Lied und Oper“\nThomas Hampson: Bariton\nGesangstalente aus Kärnten bzw. mit Kärntenbezug\nChristian Koch: Klavier \nThomas Hampson blickt auf eine einzigartige internationale Karriere als Opern-\, Konzert- und Liedsänger. Der US-amerikanische Bariton tritt weltweit in führenden Konzert- und Opernhäusern auf und gilt als „Botschafter des Liedes“. Zu Millstatt hat der Starbariton einen besonderen Bezug – bereits zum 7. Mal tritt er im Zuge der Musikwochen auf. Sein Wissen und seinen Erfahrungsschatz wird der Künstler in diesem Jahr im Rahmen eines Meisterkurses an junge Gesangstalente weitergeben. An vier Kurstagen werden jungen Sängerinnen mit Hampson ein abwechslungsreiches Repertoire unter dem Titel „Lied und Oper“ erarbeiten. Highlight ist der gemeinsame Konzertabend\, an dem namhafte Werke von Thomas Hampson und den jungen Talenten interpretiert werden. \nHerzliche Einladung zum Hospitieren\nIm Rahmen des Meisterkurses haben Interessierte die Möglichkeit\, an einem Nachmittag in die aktive Probenarbeit mit Thomas Hampson und den Kursteilnehmerinnen einzutauchen.\nHier die Infos dazu:\nWann: Donnerstag\, 10. August 2023\nUhrzeit: 13:00 – 17:00 Uhr\nOrt: Kongresshaus Millstatt | 1. Stock | Großer Saal | Marktplatz 14\, 9872 Millstatt \n© Marshall-Light Studio \n\n\n\n\n\n\n\n\n\n\n\n\n\n\n\n\nKAT A\n\n€\n45\,00\n\n\n\n\n\nKAT B\n\n€\n41\,00\n\n\n\n\n\n\nKartenreservierungen
URL:https://www.musikwochen.com/konzert/meisterkurs-mit-thomas-hampson/
LOCATION:Kongresshaus Millstatt\, Marktplatz 14\, Millstatt\, Kärnten\, 9872\, Österreich
ATTACH;FMTTYPE=image/jpeg:https://www.musikwochen.com/wp-content/uploads/2022/03/TH-Marshall-Light-Studio2-scaled.jpg
ORGANIZER;CN="Musikwochen Millstatt":MAILTO:musikwochen@millstatt.at
END:VEVENT
END:VCALENDAR