BEGIN:VCALENDAR
VERSION:2.0
PRODID:-//Musikwochen Millstatt - ECPv6.15.17.1//NONSGML v1.0//EN
CALSCALE:GREGORIAN
METHOD:PUBLISH
X-ORIGINAL-URL:https://www.musikwochen.com
X-WR-CALDESC:Veranstaltungen für Musikwochen Millstatt
REFRESH-INTERVAL;VALUE=DURATION:PT1H
X-Robots-Tag:noindex
X-PUBLISHED-TTL:PT1H
BEGIN:VTIMEZONE
TZID:Europe/Vienna
BEGIN:DAYLIGHT
TZOFFSETFROM:+0100
TZOFFSETTO:+0200
TZNAME:CEST
DTSTART:20230326T010000
END:DAYLIGHT
BEGIN:STANDARD
TZOFFSETFROM:+0200
TZOFFSETTO:+0100
TZNAME:CET
DTSTART:20231029T010000
END:STANDARD
BEGIN:DAYLIGHT
TZOFFSETFROM:+0100
TZOFFSETTO:+0200
TZNAME:CEST
DTSTART:20240331T010000
END:DAYLIGHT
BEGIN:STANDARD
TZOFFSETFROM:+0200
TZOFFSETTO:+0100
TZNAME:CET
DTSTART:20241027T010000
END:STANDARD
BEGIN:DAYLIGHT
TZOFFSETFROM:+0100
TZOFFSETTO:+0200
TZNAME:CEST
DTSTART:20250330T010000
END:DAYLIGHT
BEGIN:STANDARD
TZOFFSETFROM:+0200
TZOFFSETTO:+0100
TZNAME:CET
DTSTART:20251026T010000
END:STANDARD
END:VTIMEZONE
BEGIN:VEVENT
DTSTART;TZID=Europe/Vienna:20240512T190000
DTEND;TZID=Europe/Vienna:20240512T210000
DTSTAMP:20260424T090607
CREATED:20240221T150230Z
LAST-MODIFIED:20240221T150230Z
UID:17775-1715540400-1715547600@www.musikwochen.com
SUMMARY:Latvian Voices
DESCRIPTION:“Folk Mass”\nBeāte Krūmiņa: Sopran\nLaura Jēkabsone: Sopran\nZane Stafecka: Sopran\nPaula Pērkone: Alt\nUna Stade: Alt\nJānis Strazdiņš: Bass \nSeit dem Jahr 2009 tritt das musisch-vielseitige Vocalensemble „Latvian Voices“ international auf und besingt Weltbühnen. Das musikalische Colorit der sechs Sänger:innen vereint das lettische Volkslied und den weltberühmten lettischen Chorklang mit Eigenkompositionen und Arrangements\, die insbesondere aus der Feder der künstlerischen Leiterin Laura Jēkabsone entstammen. Die Formation kleidet mit ihren glockenklaren und kraftvollen Stimmen das kulturelle Erbe Lettlands in moderne A-Cappella-Klänge und trägt den Namen des „singenden Landes” in die Welt hinaus. 2014 waren die Latvian Voices die offiziellen musikalischen Botschafter:innen der Europäischen Kulturhauptstadt Riga. Das Ensemble ist weltweit in Kirchen\, Konzertsälen\, bei Musikfestivals\, Wettbewerben und Meisterkursen zu Gast und hat bisher acht Alben und das Hörbuch „Sounds of Latvian Nature” veröffentlicht. Die Sänger:innen geben ihre Erfahrungswerte regelmäßig im Rahmen von Workshops und Meisterkursen im In- und Ausland weiter und haben unter diesem Aspekt ihr eigenes jährliches Festival\, das „Latvian Voices A Cappella Festival“ in Valmiera ins Leben gerufen. \nUnter dem Titel „Folk Mass“ wird das Vokalensemble geistliche und weltliche Werke in der Stiftskirche Millstatt interpretieren\, die von Eigenkompositionen bis hin zu Werken von Johann Sebastian Bach\, den Beatles und Petri Prauda reichen. Ein Debut in Millstatt\, das man erlebt haben muss! \nCredits: Kaspars Teil \n\n\n\n\n\n\n\n\n\n\n\n\n\n\n\n\nKAT A\n\n€\n49\,00\n\n\n\n\n\nKAT B\n\n€\n45\,00\n\n\n\n\n\n\nKartenreservierungen
URL:https://www.musikwochen.com/konzert/latvian-voices/
LOCATION:Stiftskirche Millstatt\, Stiftgasse 1\, Millstatt\, Kärnten\, 9872\, Österreich
ATTACH;FMTTYPE=image/jpeg:https://www.musikwochen.com/wp-content/uploads/2022/03/img-0435_c_kaspars-teilans-3a9-scaled.jpg
ORGANIZER;CN="Musikwochen Millstatt":MAILTO:musikwochen@millstatt.at
END:VEVENT
END:VCALENDAR