BEGIN:VCALENDAR
VERSION:2.0
PRODID:-//Musikwochen Millstatt - ECPv6.15.17.1//NONSGML v1.0//EN
CALSCALE:GREGORIAN
METHOD:PUBLISH
X-ORIGINAL-URL:https://www.musikwochen.com
X-WR-CALDESC:Veranstaltungen für Musikwochen Millstatt
REFRESH-INTERVAL;VALUE=DURATION:PT1H
X-Robots-Tag:noindex
X-PUBLISHED-TTL:PT1H
BEGIN:VTIMEZONE
TZID:Europe/Vienna
BEGIN:DAYLIGHT
TZOFFSETFROM:+0100
TZOFFSETTO:+0200
TZNAME:CEST
DTSTART:20230326T010000
END:DAYLIGHT
BEGIN:STANDARD
TZOFFSETFROM:+0200
TZOFFSETTO:+0100
TZNAME:CET
DTSTART:20231029T010000
END:STANDARD
BEGIN:DAYLIGHT
TZOFFSETFROM:+0100
TZOFFSETTO:+0200
TZNAME:CEST
DTSTART:20240331T010000
END:DAYLIGHT
BEGIN:STANDARD
TZOFFSETFROM:+0200
TZOFFSETTO:+0100
TZNAME:CET
DTSTART:20241027T010000
END:STANDARD
BEGIN:DAYLIGHT
TZOFFSETFROM:+0100
TZOFFSETTO:+0200
TZNAME:CEST
DTSTART:20250330T010000
END:DAYLIGHT
BEGIN:STANDARD
TZOFFSETFROM:+0200
TZOFFSETTO:+0100
TZNAME:CET
DTSTART:20251026T010000
END:STANDARD
END:VTIMEZONE
BEGIN:VEVENT
DTSTART;TZID=Europe/Vienna:20240526T190000
DTEND;TZID=Europe/Vienna:20240526T210000
DTSTAMP:20260424T091711
CREATED:20240221T123936Z
LAST-MODIFIED:20240305T092021Z
UID:17724-1716750000-1716757200@www.musikwochen.com
SUMMARY:Des Kaisers Nachtigall
DESCRIPTION:von Hans Christian Andersen | Komponist: Uģis Prauliņš  \nVocalforum Graz\nFranz M. Herzog: Dirigent\nMaria Fedotova: Flöte\nMichael Dangl: Erzähler \nEine deutschsprachige Weltpremiere\, die unter die Haut geht: Das Kunstmärchen „Des Kaisers Nachtigall“ wurde vom dänischen Dichter und Schriftsteller Hans Christian Andersen verfasst. Im Jahr 2010 setzte der lettische Komponist Uģis Prauliņš das Märchen musikalisch als Werk für Chor\, Flöte und Erzähler. Die Fassung beginnt in mystischer Atmosphäre\, um sich nach und nach zu strahlendem Glanz emporzuschwingen. Meisterhaft verbindet der Komponist Einflüsse aus Folk\, Pop\, Mittelalter und Renaissance mit klassischer Moderne und Anklängen an die große Chor- und Volksliedtradition seiner Heimat zu einem musikalischen Amalgam\, das mit seiner hochoriginellen Klangsprache sofort für sich einnimmt. Mit sphärischen Klängen entführt uns diese besondere Komposition in eine längst vergangene\, märchenhafte Zeit: Der Kaiser hatte ein Schloss\, das als das Schönste der Welt galt. Dieses Schloss wurde an Schönheit nur von dem Garten des Kaisers übertroffen. Wo die Gärtner niemals hinkamen\, in einem Wald mit hohen Bäumen und tiefen Seen\, da wohnte einst eine Nachtigall. Was nun mit dem Kaiser und der Nachtigall geschieht\, erzählt das Werk in eindrucksvollen Bildern. Die Musik von Chor und Flöte trägt die Handlung\, lässt prächtige Schlösser\, zauberhafte Gärten\, zickige Hofdamen und den herzerwärmenden Gesang der Nachtigall entstehen – einmal mit imposanten Chorklängen\, das andere Mal mit hauchzarten Stimmen. \nAuf Initiative des „Vocalforums Graz“ wurde in Zusammenarbeit mit Uģis Prauliņš und dem Verlag Musica baltica die deutsche Version des Werkes (Textübertragung von Karolin Türk) meisterhaft umgesetzt\, um das bestechende Wort-Ton-Verhältnis und den feinsinnigen Humor der Komposition für das deutschsprachige Publikum hör- und erlebbar zu machen. Den Kammerchorpart füllt das Vocalforum Graz aus\, das seit seiner Gründung unter der musikalischen Leitung des Dirigenten Franz M. Herzog steht\, für zauberhafte Flötenklänge sorgt die gebürtige Russin Maria Fedotova und in die Rolle des Erzählers schlüpft der österreichische Schauspieler und Autor Michael Dangl\, der unter anderem aus der Erfolgsserien „Tatort“\, „SOKO Donau“ oder „Kommissar Rex“ große Bekanntheit erlangt hat. Eine fabelhafte Besetzung\, die in die vertonte Welt des Märchens entführt. Abgerundet wird der Abend mit thematisch-passenden Werken rund um die „Nachtigall“. \nCredits: privat \n\n\n\n\n\n\n\n\n\n\n\n\n\n\n\n\nKAT A\n\n€\n49\,00\n\n\n\n\n\nKAT B\n\n€\n45\,00\n\n\n\n\n\n\nKartenreservierungen
URL:https://www.musikwochen.com/konzert/des-kaisers-nachtigall/
LOCATION:Stiftskirche Millstatt\, Stiftgasse 1\, Millstatt\, Kärnten\, 9872\, Österreich
ATTACH;FMTTYPE=image/jpeg:https://www.musikwochen.com/wp-content/uploads/2024/02/Vocalforum_Presse_fun.jpeg
ORGANIZER;CN="Musikwochen Millstatt":MAILTO:musikwochen@millstatt.at
END:VEVENT
END:VCALENDAR