BEGIN:VCALENDAR
VERSION:2.0
PRODID:-//Musikwochen Millstatt - ECPv6.15.17.1//NONSGML v1.0//EN
CALSCALE:GREGORIAN
METHOD:PUBLISH
X-WR-CALNAME:Musikwochen Millstatt
X-ORIGINAL-URL:https://www.musikwochen.com
X-WR-CALDESC:Veranstaltungen für Musikwochen Millstatt
REFRESH-INTERVAL;VALUE=DURATION:PT1H
X-Robots-Tag:noindex
X-PUBLISHED-TTL:PT1H
BEGIN:VTIMEZONE
TZID:Europe/Vienna
BEGIN:DAYLIGHT
TZOFFSETFROM:+0100
TZOFFSETTO:+0200
TZNAME:CEST
DTSTART:20230326T010000
END:DAYLIGHT
BEGIN:STANDARD
TZOFFSETFROM:+0200
TZOFFSETTO:+0100
TZNAME:CET
DTSTART:20231029T010000
END:STANDARD
BEGIN:DAYLIGHT
TZOFFSETFROM:+0100
TZOFFSETTO:+0200
TZNAME:CEST
DTSTART:20240331T010000
END:DAYLIGHT
BEGIN:STANDARD
TZOFFSETFROM:+0200
TZOFFSETTO:+0100
TZNAME:CET
DTSTART:20241027T010000
END:STANDARD
BEGIN:DAYLIGHT
TZOFFSETFROM:+0100
TZOFFSETTO:+0200
TZNAME:CEST
DTSTART:20250330T010000
END:DAYLIGHT
BEGIN:STANDARD
TZOFFSETFROM:+0200
TZOFFSETTO:+0100
TZNAME:CET
DTSTART:20251026T010000
END:STANDARD
END:VTIMEZONE
BEGIN:VEVENT
DTSTART;TZID=Europe/Vienna:20240609T210000
DTEND;TZID=Europe/Vienna:20240609T230000
DTSTAMP:20260424T105200
CREATED:20240221T125757Z
LAST-MODIFIED:20240607T075149Z
UID:17735-1717966800-1717974000@www.musikwochen.com
SUMMARY:Orgel- & Trompetenkonzert
DESCRIPTION:„Eine musikalische Reise von Barock bis in die Gegenwart\, von Bach bis Takemitsu“\nThomas Fleißner: Trompete\nJohannes Wilhelm: Orgel \nUnter dem Titel „Eine musikalische Reise von Barock bis in die Gegenwart\, von Bach bis Takemitsu“ gastieren Thomas Fleißner (Trompete) und Johannes Wilhelm (Orgel) in der Stiftskirche Millstatt und begeben sich gemeinsam mit dem Publikum auf eine musikalische Expedition quer durch die verschiedensten Stilistiken. Thomas Fleißner ist seit dem Jahr 2020 Solotrompeter des Mozarteumorchesters Salzburg\, seine musikalische Laufbahn begann im Alter von sieben Jahren am Musikum Salzburg bei Josef Höller. Von 2009 bis 2016 absolvierte der gebürtige Salzburger das Konzertfach-Studium Trompete an der Universität für Musik und darstellende Kunst Wien bei Prof. Josef Pomberger und Prof. Mag. Martin Mühlfellner\, von 2012 bis 2020 war Thomas Fleißner am Stadttheater Klagenfurt engagiert. \nDer österreichische Pianist und Organist Johannes Wilhelm studierte an der Universität Mozarteum Salzburg bei Andreas Weber und Karl-Heinz Kämmerling Klavier\, sowie Orgel bei Hannfried Lucke und rundete seine Studien bei Martin Hughes an der Universität für Musik und darstellende Kunst Wien ab. Als Pianist\, Organist und Korrepetitor arbeitet Johannes Wilhelm regelmäßig mit namhaften Orchestern und wirkt als Solist sowie Kammermusiker in den verschiedensten Formationen\, als Liedbegleiter konzertierte der gebürtige Salzburger in vielen Ländern Europas\, in Asien\, Afrika und in den USA. Neben seiner Konzerttätigkeit betreut Johannes Wilhelm seit 2011 eine eigene Klavierklasse an der Universität Mozarteum. Im Jahr 2016 erfolgte seine künstlerische Habilitation zum Privatdozenten und im Herbst 2022 wurde er mit der Leitung des Pre-College Lehrganges für die Abteilung Tasteninstrumente beauftragt\, welcher die Förderung von herausragenden jugendlichen Künstlerinnen und Künstlern zum Ziel hat. Die musischen Einflüsse der beiden Musiker verschmelzen zu einer Symbiose\, die hörbar ein Klangerlebnis der besonderen Art und Weise schafft. \nDie Stiftskirche Millstatt füllen sie mit Werken für Orgel und Trompete großartiger Komponisten wie unter anderem Johann Sebastian Bach\, Johann Friedrich Fasch\, Allesandro Marcello\, Felix Mendelssohn-Bartholdy\, Johann Nepomuk Hummel\, Marcel Dupré\, Frigyes Hidas und Toru Takemitsu. \nCredits: Sophie Baubin \n\n\n\n\n\n\n\n\n\n\n\n\n\n\n\n\nEintritt bei freier Platzwahl\n\n€\n35\,00\n\n\n\n\n\n\nKartenreservierungen
URL:https://www.musikwochen.com/konzert/orgel-trompetenkonzert/
LOCATION:Stiftskirche Millstatt\, Stiftgasse 1\, Millstatt\, Kärnten\, 9872\, Österreich
ATTACH;FMTTYPE=image/jpeg:https://www.musikwochen.com/wp-content/uploads/2024/02/1.-Juni.jpg
ORGANIZER;CN="Musikwochen Millstatt":MAILTO:musikwochen@millstatt.at
END:VEVENT
END:VCALENDAR