BEGIN:VCALENDAR
VERSION:2.0
PRODID:-//Musikwochen Millstatt - ECPv6.15.17.1//NONSGML v1.0//EN
CALSCALE:GREGORIAN
METHOD:PUBLISH
X-ORIGINAL-URL:https://www.musikwochen.com
X-WR-CALDESC:Veranstaltungen für Musikwochen Millstatt
REFRESH-INTERVAL;VALUE=DURATION:PT1H
X-Robots-Tag:noindex
X-PUBLISHED-TTL:PT1H
BEGIN:VTIMEZONE
TZID:Europe/Vienna
BEGIN:DAYLIGHT
TZOFFSETFROM:+0100
TZOFFSETTO:+0200
TZNAME:CEST
DTSTART:20230326T010000
END:DAYLIGHT
BEGIN:STANDARD
TZOFFSETFROM:+0200
TZOFFSETTO:+0100
TZNAME:CET
DTSTART:20231029T010000
END:STANDARD
BEGIN:DAYLIGHT
TZOFFSETFROM:+0100
TZOFFSETTO:+0200
TZNAME:CEST
DTSTART:20240331T010000
END:DAYLIGHT
BEGIN:STANDARD
TZOFFSETFROM:+0200
TZOFFSETTO:+0100
TZNAME:CET
DTSTART:20241027T010000
END:STANDARD
BEGIN:DAYLIGHT
TZOFFSETFROM:+0100
TZOFFSETTO:+0200
TZNAME:CEST
DTSTART:20250330T010000
END:DAYLIGHT
BEGIN:STANDARD
TZOFFSETFROM:+0200
TZOFFSETTO:+0100
TZNAME:CET
DTSTART:20251026T010000
END:STANDARD
END:VTIMEZONE
BEGIN:VEVENT
DTSTART;TZID=Europe/Vienna:20240616T190000
DTEND;TZID=Europe/Vienna:20240616T210000
DTSTAMP:20260424T105628
CREATED:20240221T130357Z
LAST-MODIFIED:20240226T093137Z
UID:17741-1718564400-1718571600@www.musikwochen.com
SUMMARY:Eröffnungskonzert 2024
DESCRIPTION:„Metamorphosen“\nKärntner Sinfonieorchester\nGábor Hontvári: Dirigent\nDavid Edlinger: Schlagwerk \nDieses Gastspiel ist seit langem überfällig: Zum ersten Mal in seiner Geschichte musiziert das Kärntner Sinfonieorchester im Rahmen der Musikwochen Millstatt. Zur Festivaleröffnung präsentieren die Musikerinnen und Musiker gemeinsam mit dem Würzburger Kapellmeister Gábor Hontvári ein vielfältiges Programm mit meditativen Zwischentönen. In seiner d-Moll-Serenade vereint Dvořák Marschmusik\, böhmische Tänze und klingenden Übermut\, während Séjourné im Konzert für Marimba sowohl die geheimnisvollen Tiefen als auch die kecken Höhen des Instruments erkundet. Zwei eng mit den Biografien ihrer Komponisten verknüpfte Werke beschließen das Konzert: Die 1944/45 angesichts der Zerstörungen des zweiten Weltkriegs komponierten Metamorphosen bezeichnete Strauss als „Widerschein meines ganzen vergangenen Lebens“\, während Wagner das ätherisch fließende Siegfried-Idyll seiner Frau Cosima zum 33. Geburtstag schenkte und nach dem kurz zuvor geborenen gemeinsamen Sohn benannte. \nDas Kärntner Sinfonieorchester gilt als das musikalische Aushängeschild Kärntens. Das „Orchester des Stadttheaters“ änderte in den 1990er Jahren nicht nur seinen Namen\, sondern auch sein Repertoire und wurde in das Sinfonieorchester des Landes Kärntens umgewandelt. Seitdem hat es sich\, zusätzlich zum breiten Opern-\, Operetten- und Musicalrepertoire ein umfangreiches sinfonisches Repertoire aufgebaut. Neben bedeutenden Dirigenten wie u.a. Bertrand de Billy\, Antonello Manacorda\, Lorenzo Viotti oder Alexander Joel sind international renommierte Solisten wie Bernarda Fink\, Michael Schade\, Julian Rachlin oder Phillipe Entremont musikalische Partner des Orchesters. Seit Beginn der Spielzeit 2021/2022 steht Nicholas Milton dem Kärntner Sinfonieorchester als Chefdirigent vor. \nAls junges\, regionales Talent wird der gebürtige Radentheiner David Edlinger (Jahrgang 2004) als Solist an der Marimba gemeinsam mit dem KSO auftreten. Als Solist stellte er bereits sein Können mit verschiedenen Sinfonieorchestern wie den Wiener Symphonikern\, aber auch mit Blasorchestern\, wie der Militärmusik Kärnten unter Beweis. Ein Eröffnungskonzert\, das abwechslungsreicher kaum sein könnte! \nCredits: Karlheinz Fessl \n\n\n\n\n\n\n\n\n\n\n\n\n\n\n\n\nKAT A\n\n€\n50\,00\n\n\n\n\n\nKAT B\n\n€\n46\,00\n\n\n\n\n\n\nKartenreservierungen
URL:https://www.musikwochen.com/konzert/eroeffnungskonzert-2024/
LOCATION:Stiftskirche Millstatt\, Stiftgasse 1\, Millstatt\, Kärnten\, 9872\, Österreich
ATTACH;FMTTYPE=image/jpeg:https://www.musikwochen.com/wp-content/uploads/2024/02/1-KSO_Oktober23_lowcKarlheinz-Fessl-scaled.jpg
ORGANIZER;CN="Musikwochen Millstatt":MAILTO:musikwochen@millstatt.at
END:VEVENT
END:VCALENDAR