BEGIN:VCALENDAR
VERSION:2.0
PRODID:-//Musikwochen Millstatt - ECPv6.15.17.1//NONSGML v1.0//EN
CALSCALE:GREGORIAN
METHOD:PUBLISH
X-ORIGINAL-URL:https://www.musikwochen.com
X-WR-CALDESC:Veranstaltungen für Musikwochen Millstatt
REFRESH-INTERVAL;VALUE=DURATION:PT1H
X-Robots-Tag:noindex
X-PUBLISHED-TTL:PT1H
BEGIN:VTIMEZONE
TZID:Europe/Vienna
BEGIN:DAYLIGHT
TZOFFSETFROM:+0100
TZOFFSETTO:+0200
TZNAME:CEST
DTSTART:20230326T010000
END:DAYLIGHT
BEGIN:STANDARD
TZOFFSETFROM:+0200
TZOFFSETTO:+0100
TZNAME:CET
DTSTART:20231029T010000
END:STANDARD
BEGIN:DAYLIGHT
TZOFFSETFROM:+0100
TZOFFSETTO:+0200
TZNAME:CEST
DTSTART:20240331T010000
END:DAYLIGHT
BEGIN:STANDARD
TZOFFSETFROM:+0200
TZOFFSETTO:+0100
TZNAME:CET
DTSTART:20241027T010000
END:STANDARD
BEGIN:DAYLIGHT
TZOFFSETFROM:+0100
TZOFFSETTO:+0200
TZNAME:CEST
DTSTART:20250330T010000
END:DAYLIGHT
BEGIN:STANDARD
TZOFFSETFROM:+0200
TZOFFSETTO:+0100
TZNAME:CET
DTSTART:20251026T010000
END:STANDARD
END:VTIMEZONE
BEGIN:VEVENT
DTSTART;TZID=Europe/Vienna:20240813T213000
DTEND;TZID=Europe/Vienna:20240813T233000
DTSTAMP:20260424T134232
CREATED:20240221T141345Z
LAST-MODIFIED:20240614T095155Z
UID:17772-1723584600-1723591800@www.musikwochen.com
SUMMARY:„Schubertiade“
DESCRIPTION:Chorsolist:innen des Arnold Schoenberg Chores\nErwin Ortner: Dirigent\nUrsula Langmayr: Sopran\nJohanna Krokovay: Alt\nMichael Nowak: Tenor\nJohannes Gisser: Bass\nWolfgang Brunner: Millstätter Hammerflügel \nDer 1972 von seinem künstlerischen Leiter Erwin Ortner gegründete „Arnold Schoenberg Chor“ zählt zu den vielseitigsten und gefragtesten Vokalensembles Österreichs und ist seit 2006 Hauschor des „Musiktheater an der Wien“. Sein Repertoire reicht von der Renaissance und Barockmusik bis zur Gegenwart mit Schwerpunkt auf zeitgenössische Musik. Besonderes Interesse des Chores gilt der A cappella-Literatur\, aber auch große Chor-Orchester-Werke stehen immer wieder auf dem Programm. Konzerteinladungen führen den Arnold Schoenberg Chor nach Asien und Amerika. Auch innerhalb Europas und in Österreich ist das Ensemble gern gesehener Gast bei Festivals. \nSeit 1989 befindet sich das wertvolle Instrument\, der „Millstätter Besendorfer“\, im Besitz der Musikwochen Millstatt. Der Pianist Wolfgang Brunner unterrichtet an der Universität Mozarteum in Salzburg und bespielt seit Jahren den „Millstätter Hammerflügel“ im Rahmen der Musikwochen. Die Chorsolist:innen des Arnold Schoenberg Chores und Wolfgang Brunner werden gemeinsam unter der Leitung von Erwin Ortner einen eindrucksvollen Abend gestalten\, der unter dem Titel „Schubertiade“ steht. Am Programm steht eine musisch-umfassende Bandbreite mit Werken von Franz Schubert\, die sowohl im Tutti-Ensemble\, solistisch sowie im Männer- und Damenensemble zum Besten gegeben werden. Ein fulminanter Konzertabend mit hochkarätigen Interpret:innen\, den man erlebt haben muss. \nCredits: Lukas Beck \n\n\n\n\n\n\n\n\n\n\n\n\n\n\n\n\nKAT A\n\n€\n50\,00\n\n\n\n\n\nKAT B\n\n€\n46\,00\n\n\n\n\n\n\nKartenreservierungen
URL:https://www.musikwochen.com/konzert/schubertiade/
LOCATION:Stiftskirche Millstatt\, Stiftgasse 1\, Millstatt\, Kärnten\, 9872\, Österreich
ATTACH;FMTTYPE=image/jpeg:https://www.musikwochen.com/wp-content/uploads/2024/02/©-Lukas-Beck-3-scaled.jpg
ORGANIZER;CN="Musikwochen Millstatt":MAILTO:musikwochen@millstatt.at
END:VEVENT
END:VCALENDAR