BEGIN:VCALENDAR
VERSION:2.0
PRODID:-//Musikwochen Millstatt - ECPv6.15.17.1//NONSGML v1.0//EN
CALSCALE:GREGORIAN
METHOD:PUBLISH
X-ORIGINAL-URL:https://www.musikwochen.com
X-WR-CALDESC:Veranstaltungen für Musikwochen Millstatt
REFRESH-INTERVAL;VALUE=DURATION:PT1H
X-Robots-Tag:noindex
X-PUBLISHED-TTL:PT1H
BEGIN:VTIMEZONE
TZID:Europe/Vienna
BEGIN:DAYLIGHT
TZOFFSETFROM:+0100
TZOFFSETTO:+0200
TZNAME:CEST
DTSTART:20240331T010000
END:DAYLIGHT
BEGIN:STANDARD
TZOFFSETFROM:+0200
TZOFFSETTO:+0100
TZNAME:CET
DTSTART:20241027T010000
END:STANDARD
BEGIN:DAYLIGHT
TZOFFSETFROM:+0100
TZOFFSETTO:+0200
TZNAME:CEST
DTSTART:20250330T010000
END:DAYLIGHT
BEGIN:STANDARD
TZOFFSETFROM:+0200
TZOFFSETTO:+0100
TZNAME:CET
DTSTART:20251026T010000
END:STANDARD
BEGIN:DAYLIGHT
TZOFFSETFROM:+0100
TZOFFSETTO:+0200
TZNAME:CEST
DTSTART:20260329T010000
END:DAYLIGHT
BEGIN:STANDARD
TZOFFSETFROM:+0200
TZOFFSETTO:+0100
TZNAME:CET
DTSTART:20261025T010000
END:STANDARD
END:VTIMEZONE
BEGIN:VEVENT
DTSTART;TZID=Europe/Vienna:20250601T170000
DTEND;TZID=Europe/Vienna:20250601T190000
DTSTAMP:20260424T175032
CREATED:20250214T081545Z
LAST-MODIFIED:20250505T103145Z
UID:17932-1748797200-1748804400@www.musikwochen.com
SUMMARY:VOCES8
DESCRIPTION:“Twenty!” \nAndrea Haines & Eleonora Poignant: Sopran\nKatie Jeffries-Harris & Barnaby Smith: Alt\nEuan Williamson\, Blake Morgan: Tenor\nChristopher Moore\, Dominic Carver: Bass \nVOCES8 gilt inzwischen nicht nur als eines der erfolgreichsten Ensembles Englands\, sondern auch als das vielleicht vielfältigste. Die drei Sängerinnen und fünf Sänger beherrschen das ernste Fach ebenso wie das unterhaltsame und bieten ein Repertoire von früher Polyphonie bis zu Jazz und Pop. Mit ihrer überzeugenden Kombination aus musikalischer Perfektion\, klanglichem Reiz und mitreißender Bühnenpräsenz begeistern sie weltweit. Neben ausgedehnten Konzerttourneen liegt der Schwerpunkt ihrer Arbeit im Bereich der Musikvermittlung. Durch ihre Workshops\, Schulbesuche etc. erreichen die Sänger:innen jährlich rund 20.000 Menschen. \nIn Millstatt präsentiert sich das Vokalensemble mit seinem Jubiläumsprogramm „Twenty“. Die Repertoirebandbreite reicht von Musik aus allen Jahrhunderten\, wie unter anderem Allegris „Miserere“\, Elgars „Lux Aeterna“ und Kate Rusbys „Underneath the Stars“. Ein Konzertabend\, den man erlebt haben muss. \n\n\n\n\n\n\n\n\n\n\n\n\n\n\n\n\nKAT A\n\n€\n49\,00\n\n\n\n\n\nKAT B\n\n€\n45\,00\n\n\n\n\n\n\nKartenreservierungen
URL:https://www.musikwochen.com/konzert/voces8/
LOCATION:Stiftskirche Millstatt\, Stiftgasse 1\, Millstatt\, Kärnten\, 9872\, Österreich
ATTACH;FMTTYPE=image/jpeg:https://www.musikwochen.com/wp-content/uploads/2025/02/v8_andystaples2-a95-scaled.jpg
ORGANIZER;CN="Musikwochen Millstatt":MAILTO:musikwochen@millstatt.at
END:VEVENT
END:VCALENDAR