BEGIN:VCALENDAR
VERSION:2.0
PRODID:-//Musikwochen Millstatt - ECPv6.15.17.1//NONSGML v1.0//EN
CALSCALE:GREGORIAN
METHOD:PUBLISH
X-WR-CALNAME:Musikwochen Millstatt
X-ORIGINAL-URL:https://www.musikwochen.com
X-WR-CALDESC:Veranstaltungen für Musikwochen Millstatt
REFRESH-INTERVAL;VALUE=DURATION:PT1H
X-Robots-Tag:noindex
X-PUBLISHED-TTL:PT1H
BEGIN:VTIMEZONE
TZID:Europe/Vienna
BEGIN:DAYLIGHT
TZOFFSETFROM:+0100
TZOFFSETTO:+0200
TZNAME:CEST
DTSTART:20240331T010000
END:DAYLIGHT
BEGIN:STANDARD
TZOFFSETFROM:+0200
TZOFFSETTO:+0100
TZNAME:CET
DTSTART:20241027T010000
END:STANDARD
BEGIN:DAYLIGHT
TZOFFSETFROM:+0100
TZOFFSETTO:+0200
TZNAME:CEST
DTSTART:20250330T010000
END:DAYLIGHT
BEGIN:STANDARD
TZOFFSETFROM:+0200
TZOFFSETTO:+0100
TZNAME:CET
DTSTART:20251026T010000
END:STANDARD
BEGIN:DAYLIGHT
TZOFFSETFROM:+0100
TZOFFSETTO:+0200
TZNAME:CEST
DTSTART:20260329T010000
END:DAYLIGHT
BEGIN:STANDARD
TZOFFSETFROM:+0200
TZOFFSETTO:+0100
TZNAME:CET
DTSTART:20261025T010000
END:STANDARD
END:VTIMEZONE
BEGIN:VEVENT
DTSTART;TZID=Europe/Vienna:20250629T160000
DTEND;TZID=Europe/Vienna:20250629T180000
DTSTAMP:20260424T175304
CREATED:20250214T084233Z
LAST-MODIFIED:20250505T103130Z
UID:17943-1751212800-1751220000@www.musikwochen.com
SUMMARY:Oratorium "ELIAS"
DESCRIPTION:ELIAS: Oratorium von Felix Mendelssohn Bartholdy \nKärntner Landesjugendchor\nCamerata Sinfonica Austria\nDavorin Mori: Dirigent \nSolist:innen:\nBirgit Stöckler: Sopran\nChristina M. Brunner: Alt\nMario Lerchenberger: Tenor\nGregor Einspieler-Springer: Bass  \nNur ein Jahr vor seinem Tod erzielte Felix Mendelssohn Bartholdy mit seinem Oratorium „Elias“ einen Erfolg\, der ihn bis heute zu einem der beliebtesten Oratorienkomponisten gemacht hat. Von packender Dramatik und gleichzeitig von einer Innigkeit des Gottvertrauens\, wie sie zu Mendelssohns Lebzeiten durchaus nicht mehr selbstverständlich war\, bietet dieses Oratorium eine Vielzahl an musikalischen Ausdrucksmöglichkeiten. Der alttestamentliche Bibeltext ist in den Rezitativen\, Arien und Chorsätzen recht genau aufgenommen. Um die Dramatik zu steigern\, legt Mendelssohn ihn zum Teil dialogisch an und kommentiert ihn aus den Prophetenbüchern und dem Psalter. Dadurch entsteht ein biblisches Drama\, dessen 22 Abschnitte zu ausgedehnten\, dramatischen Szenen zusammengefasst sind.  \nDas fulminante Oratorium wird vom Kärntner Landesjugendchor\, der dieses Jahr sein 20-jähriges Bestehen feiert\, der Camerata Sinfonica Austria und hervorragenden Solist:innen zur Aufführung gebracht. Die musikalische Gesamtleitung obliegt dem slowenischen Dirigenten Davorin Mori. Ein glanzvoller Konzertabend\, den man erlebt haben muss.  \n\n\n\n\n\n\n\n\n\n\n\n\n\n\n\n\nKAT A\n\n€\n52\,00\n\n\n\n\n\nKAT B\n\n€\n48\,00\n\n\n\n\n\n\nKartenreservierungen
URL:https://www.musikwochen.com/konzert/oratorium-elias/
LOCATION:Stiftskirche Millstatt\, Stiftgasse 1\, Millstatt\, Kärnten\, 9872\, Österreich
ATTACH;FMTTYPE=image/jpeg:https://www.musikwochen.com/wp-content/uploads/2025/02/29.-Juni-scaled.jpg
ORGANIZER;CN="Musikwochen Millstatt":MAILTO:musikwochen@millstatt.at
END:VEVENT
END:VCALENDAR