BEGIN:VCALENDAR
VERSION:2.0
PRODID:-//Musikwochen Millstatt - ECPv6.15.17.1//NONSGML v1.0//EN
CALSCALE:GREGORIAN
METHOD:PUBLISH
X-WR-CALNAME:Musikwochen Millstatt
X-ORIGINAL-URL:https://www.musikwochen.com
X-WR-CALDESC:Veranstaltungen für Musikwochen Millstatt
REFRESH-INTERVAL;VALUE=DURATION:PT1H
X-Robots-Tag:noindex
X-PUBLISHED-TTL:PT1H
BEGIN:VTIMEZONE
TZID:Europe/Vienna
BEGIN:DAYLIGHT
TZOFFSETFROM:+0100
TZOFFSETTO:+0200
TZNAME:CEST
DTSTART:20240331T010000
END:DAYLIGHT
BEGIN:STANDARD
TZOFFSETFROM:+0200
TZOFFSETTO:+0100
TZNAME:CET
DTSTART:20241027T010000
END:STANDARD
BEGIN:DAYLIGHT
TZOFFSETFROM:+0100
TZOFFSETTO:+0200
TZNAME:CEST
DTSTART:20250330T010000
END:DAYLIGHT
BEGIN:STANDARD
TZOFFSETFROM:+0200
TZOFFSETTO:+0100
TZNAME:CET
DTSTART:20251026T010000
END:STANDARD
BEGIN:DAYLIGHT
TZOFFSETFROM:+0100
TZOFFSETTO:+0200
TZNAME:CEST
DTSTART:20260329T010000
END:DAYLIGHT
BEGIN:STANDARD
TZOFFSETFROM:+0200
TZOFFSETTO:+0100
TZNAME:CET
DTSTART:20261025T010000
END:STANDARD
END:VTIMEZONE
BEGIN:VEVENT
DTSTART;TZID=Europe/Vienna:20250725T180000
DTEND;TZID=Europe/Vienna:20250725T233000
DTSTAMP:20260424T145316
CREATED:20250714T095247Z
LAST-MODIFIED:20250714T100019Z
UID:18045-1753466400-1753486200@www.musikwochen.com
SUMMARY:KunstNacht Stift Millstatt 2025
DESCRIPTION:Die „KunstNacht“ im Stift Millstatt geht am Freitag\, dem 25. Juli 2025 in die fünfte Auflage. Die Kunst- und Kulturschaffenden rund um das Stift Millstatt bieten Interessierten ein facettenreich-hochkarätiges Programm bei freiem Eintritt.\nDie KunstNacht steht für künstlerisches Miteinander aller im und um das Stift angesiedelten Kunstschaffenden und Kunstpräsentierenden. Für die Besucher:innen der KunstNacht bietet die Vielfalt des Programms – im besonderen Ambiente des Stifts – bis weit in die Nacht ein facettenreich-hochkarätiges Programm bei freiem Eintritt. \nDie Programmbandbreite der KunstNacht reicht von Führungen durch das Stiftsmuseum\, Ausstellungen\, Galerien\, offenen Ateliers\, Schaudruck\, Musik bis hin zu Performances & Happenings. \nMitwirkende:Musikwochen MillstattART SPACE stift millstattKunstverein millstARTkunst & co millstattStiftsmuseum MillstattEMPORIUM by Galerie AugustAtelier Gabriela KheloufiAtelier Barbara Laggner \nJunge Talente erleben\nSeitens der Musikwochen Millstatt präsentiert sich um 19:30 Uhr das „Duo Agili Digitos“ mit einem eindrucksvollen Programm.\nMarie Wiesflecker & Tin Šajinović der Musikschule Spittal-Baldramsdorf treten um 19:30 Uhr in der Stiftskirche Millstatt auf und verzaubern Sie mit Musik\, die vom Herzen kommt und dort bestimmt auch ankommt. \nHier geht´s zum detaillierten Programm
URL:https://www.musikwochen.com/konzert/kunstnacht-stift-millstatt-2025/
LOCATION:Stift Millstatt\, Stiftgasse 1\, Millstatt\, Kärnten\, 9872\, Österreich
ATTACH;FMTTYPE=image/jpeg:https://www.musikwochen.com/wp-content/uploads/2025/07/kunstnacht-25.jpg
ORGANIZER;CN="Musikwochen Millstatt":MAILTO:musikwochen@millstatt.at
END:VEVENT
END:VCALENDAR