BEGIN:VCALENDAR
VERSION:2.0
PRODID:-//Musikwochen Millstatt - ECPv6.15.17.1//NONSGML v1.0//EN
CALSCALE:GREGORIAN
METHOD:PUBLISH
X-WR-CALNAME:Musikwochen Millstatt
X-ORIGINAL-URL:https://www.musikwochen.com
X-WR-CALDESC:Veranstaltungen für Musikwochen Millstatt
REFRESH-INTERVAL;VALUE=DURATION:PT1H
X-Robots-Tag:noindex
X-PUBLISHED-TTL:PT1H
BEGIN:VTIMEZONE
TZID:Europe/Vienna
BEGIN:DAYLIGHT
TZOFFSETFROM:+0100
TZOFFSETTO:+0200
TZNAME:CEST
DTSTART:20240331T010000
END:DAYLIGHT
BEGIN:STANDARD
TZOFFSETFROM:+0200
TZOFFSETTO:+0100
TZNAME:CET
DTSTART:20241027T010000
END:STANDARD
BEGIN:DAYLIGHT
TZOFFSETFROM:+0100
TZOFFSETTO:+0200
TZNAME:CEST
DTSTART:20250330T010000
END:DAYLIGHT
BEGIN:STANDARD
TZOFFSETFROM:+0200
TZOFFSETTO:+0100
TZNAME:CET
DTSTART:20251026T010000
END:STANDARD
BEGIN:DAYLIGHT
TZOFFSETFROM:+0100
TZOFFSETTO:+0200
TZNAME:CEST
DTSTART:20260329T010000
END:DAYLIGHT
BEGIN:STANDARD
TZOFFSETFROM:+0200
TZOFFSETTO:+0100
TZNAME:CET
DTSTART:20261025T010000
END:STANDARD
END:VTIMEZONE
BEGIN:VEVENT
DTSTART;TZID=Europe/Vienna:20250727T190000
DTEND;TZID=Europe/Vienna:20250727T210000
DTSTAMP:20260424T145308
CREATED:20250217T092616Z
LAST-MODIFIED:20250505T103023Z
UID:17964-1753642800-1753650000@www.musikwochen.com
SUMMARY:„FUNtango“ mit Bernarda und Marcos Fink
DESCRIPTION:„Ein musikalisches Fest voll Melancholie und Lebenslust“ \nBernarda Fink: Mezzosopran\nMarcos Fink: Bassbariton \nBenjamin Ziervogel: Violine\nMarko Črnčec: Klavier\nLuka Herman Gaiser: Kontrabass\nMarko Hatlak: Akkordeon \nMarko Hatlak & Ensemble treten gemeinsam mit der international gefeierten Mezzosopranistin Bernarda Fink und deren Bruder Marcos Fink in Millstatt auf. Marko Hatlak\, der zu den besten Akkordeonspielern Sloweniens zählt\, hat mit seinem Projekt „FUNtango“ Spitzenmusiker zusammengeführt\, die von Kritikern als „leidenschaftlich und kompromisslos“ bezeichnet wurden. Das Ensemble besteht aus dem Klaviervirtuosen und Jazzmusiker Marko Črnec\, dem erfahrenen Kontrabassisten Luka Gaier und dem langjährigen Konzertmeister des Rundfunksymphonie Orchesters Ljubljana sowie Gründungsmitglied des Acies Quartetts\, Benjamin Ziervogel. \nBernarda Fink gilt als eine der hochkarätigsten Mezzosopranistinnen ihrer Generation. Seit Beginn ihrer Karriere feierte sie Erfolge an wichtigen Opernhäusern Europas und in ihrer argentinischen Heimat. „Das Konzert ist eine Einladung nach Argentinien und lässt den Rhythmus der Pampas spüren. Es ist ein Regenbogen an Emotionen\, von tiefer Melancholie bis zu Lebensfreude“\, erklärt Bernarda Fink. Und tatsächlich wird die schwüle und flirrende Leidenschaft einer Tanguería in Buenos Aires für das Publikum erlebbar gemacht. \n\n\n\n\n\n\n\n\n\n\n\n\n\n\n\n\nKAT A\n\n€\n46\,00\n\n\n\n\n\nKAT B\n\n€\n42\,00\n\n\n\n\n\n\nKartenreservierungen
URL:https://www.musikwochen.com/konzert/funtango-mit-bernarda-und-marcos-fink/
LOCATION:Stiftskirche Millstatt\, Stiftgasse 1\, Millstatt\, Kärnten\, 9872\, Österreich
ATTACH;FMTTYPE=image/jpeg:https://www.musikwochen.com/wp-content/uploads/2025/02/MH-FUN-1-scaled.jpg
ORGANIZER;CN="Musikwochen Millstatt":MAILTO:musikwochen@millstatt.at
END:VEVENT
END:VCALENDAR