BEGIN:VCALENDAR
VERSION:2.0
PRODID:-//Musikwochen Millstatt - ECPv6.15.17.1//NONSGML v1.0//EN
CALSCALE:GREGORIAN
METHOD:PUBLISH
X-ORIGINAL-URL:https://www.musikwochen.com
X-WR-CALDESC:Veranstaltungen für Musikwochen Millstatt
REFRESH-INTERVAL;VALUE=DURATION:PT1H
X-Robots-Tag:noindex
X-PUBLISHED-TTL:PT1H
BEGIN:VTIMEZONE
TZID:Europe/Vienna
BEGIN:DAYLIGHT
TZOFFSETFROM:+0100
TZOFFSETTO:+0200
TZNAME:CEST
DTSTART:20240331T010000
END:DAYLIGHT
BEGIN:STANDARD
TZOFFSETFROM:+0200
TZOFFSETTO:+0100
TZNAME:CET
DTSTART:20241027T010000
END:STANDARD
BEGIN:DAYLIGHT
TZOFFSETFROM:+0100
TZOFFSETTO:+0200
TZNAME:CEST
DTSTART:20250330T010000
END:DAYLIGHT
BEGIN:STANDARD
TZOFFSETFROM:+0200
TZOFFSETTO:+0100
TZNAME:CET
DTSTART:20251026T010000
END:STANDARD
BEGIN:DAYLIGHT
TZOFFSETFROM:+0100
TZOFFSETTO:+0200
TZNAME:CEST
DTSTART:20260329T010000
END:DAYLIGHT
BEGIN:STANDARD
TZOFFSETFROM:+0200
TZOFFSETTO:+0100
TZNAME:CET
DTSTART:20261025T010000
END:STANDARD
END:VTIMEZONE
BEGIN:VEVENT
DTSTART;TZID=Europe/Vienna:20250812T193000
DTEND;TZID=Europe/Vienna:20250812T213000
DTSTAMP:20260424T134353
CREATED:20250217T093836Z
LAST-MODIFIED:20250505T103012Z
UID:17970-1755027000-1755034200@www.musikwochen.com
SUMMARY:colluvio Chamber Music Academy
DESCRIPTION:“Kammermusik in ihrer Vielfalt”\n\n„Colluvio“ ist eine Werkstatt für Kammermusik und fördert weltoffene Begegnungen zwischen jungen Menschen. Sommer für Sommer lädt die „colluvio Chamber Music Academy“ junge Talente aus ganz Europa zu Probenspielen ein\, um im Rahmen von renommierten Musikfestivals ihr Können unter Beweis zu stellen. Gleichermaßen versteht sich colluvio als musikalischer Botschafter\, der die gemeinsamen Werte Europas lebt und vermittelt. \nIn Millstatt präsentieren sich die jungen Talente mit einem kammermusikalischen Programm\, das in die verschiedensten Epochen entführt. Werke von Edvard Grieg\, Myroslav Skoryk\, Edison Denisov sowie Dijana Bošković werden in der Stiftskirche Millstatt von diesem ambitionierten Ensemble zum Besten gegeben. \n\n\n\n\n\n\n\n\n\n\n\n\n\n\n\n\nKAT A\n\n€\n36\,00\n\n\n\n\n\nKAT B\n\n€\n32\,00\n\n\n\n\n\n\nKartenreservierungen
URL:https://www.musikwochen.com/konzert/colluvio-chamber-music-academy/
LOCATION:Stiftskirche Millstatt\, Stiftgasse 1\, Millstatt\, Kärnten\, 9872\, Österreich
ATTACH;FMTTYPE=image/jpeg:https://www.musikwochen.com/wp-content/uploads/2025/02/IMG_7123-scaled.jpg
ORGANIZER;CN="Musikwochen Millstatt":MAILTO:musikwochen@millstatt.at
END:VEVENT
END:VCALENDAR