BEGIN:VCALENDAR
VERSION:2.0
PRODID:-//Musikwochen Millstatt - ECPv6.15.17.1//NONSGML v1.0//EN
CALSCALE:GREGORIAN
METHOD:PUBLISH
X-WR-CALNAME:Musikwochen Millstatt
X-ORIGINAL-URL:https://www.musikwochen.com
X-WR-CALDESC:Veranstaltungen für Musikwochen Millstatt
REFRESH-INTERVAL;VALUE=DURATION:PT1H
X-Robots-Tag:noindex
X-PUBLISHED-TTL:PT1H
BEGIN:VTIMEZONE
TZID:Europe/Vienna
BEGIN:DAYLIGHT
TZOFFSETFROM:+0100
TZOFFSETTO:+0200
TZNAME:CEST
DTSTART:20240331T010000
END:DAYLIGHT
BEGIN:STANDARD
TZOFFSETFROM:+0200
TZOFFSETTO:+0100
TZNAME:CET
DTSTART:20241027T010000
END:STANDARD
BEGIN:DAYLIGHT
TZOFFSETFROM:+0100
TZOFFSETTO:+0200
TZNAME:CEST
DTSTART:20250330T010000
END:DAYLIGHT
BEGIN:STANDARD
TZOFFSETFROM:+0200
TZOFFSETTO:+0100
TZNAME:CET
DTSTART:20251026T010000
END:STANDARD
BEGIN:DAYLIGHT
TZOFFSETFROM:+0100
TZOFFSETTO:+0200
TZNAME:CEST
DTSTART:20260329T010000
END:DAYLIGHT
BEGIN:STANDARD
TZOFFSETFROM:+0200
TZOFFSETTO:+0100
TZNAME:CET
DTSTART:20261025T010000
END:STANDARD
END:VTIMEZONE
BEGIN:VEVENT
DTSTART;TZID=Europe/Vienna:20250824T170000
DTEND;TZID=Europe/Vienna:20250824T190000
DTSTAMP:20260424T133750
CREATED:20250217T100722Z
LAST-MODIFIED:20250718T064224Z
UID:17976-1756054800-1756062000@www.musikwochen.com
SUMMARY:Kammermusikalische Kostbarkeiten
DESCRIPTION:„Kammermusikalische Kostbarkeiten” \nKammermusikensemble der Wiener Philharmoniker\nDaniel Froschauer: Violine & Leitung\nRaimund Lissy: Violine\nMichael Strasser: Viola\nMichael Bladerer: Kontrabass\nLydia Rathkolb: Sopran \nKammermusik vom Feinsten erwartet Sie mit den Spitzenmusikern der Wiener Philharmoniker: Ein Kammermusikensemble der Wiener Philharmoniker\, das unter der Leitung von Daniel Froschauer (Vorstand der Wiener Philharmoniker) steht\, tritt gemeinsam mit der österreichischen Sopranistin Lydia Rathkolb (Ensemblemitglied der Wiener Staatsoper) auf. Es erwartet Sie ein fulminant-virtuoses Programm großartiger Komponisten wie Wolfgang Amadeus Mozart oder Johann Strauss Sohn. \n\n\n\n\n\n\n\n\n\n\n\n\n\n\n\n\nKAT A\n\n€\n52\,00\n\n\n\n\n\nKAT B\n\n€\n48\,00\n\n\n\n\n\n\nKartenreservierungen
URL:https://www.musikwochen.com/konzert/kammermusikensemble-der-wiener-philharmoniker-2/
LOCATION:Stiftskirche Millstatt\, Stiftgasse 1\, Millstatt\, Kärnten\, 9872\, Österreich
ATTACH;FMTTYPE=image/jpeg:https://www.musikwochen.com/wp-content/uploads/2025/02/24.-August-scaled.jpg
ORGANIZER;CN="Musikwochen Millstatt":MAILTO:musikwochen@millstatt.at
END:VEVENT
END:VCALENDAR