BEGIN:VCALENDAR
VERSION:2.0
PRODID:-//Musikwochen Millstatt - ECPv6.15.17.1//NONSGML v1.0//EN
CALSCALE:GREGORIAN
METHOD:PUBLISH
X-WR-CALNAME:Musikwochen Millstatt
X-ORIGINAL-URL:https://www.musikwochen.com
X-WR-CALDESC:Veranstaltungen für Musikwochen Millstatt
REFRESH-INTERVAL;VALUE=DURATION:PT1H
X-Robots-Tag:noindex
X-PUBLISHED-TTL:PT1H
BEGIN:VTIMEZONE
TZID:Europe/Vienna
BEGIN:DAYLIGHT
TZOFFSETFROM:+0100
TZOFFSETTO:+0200
TZNAME:CEST
DTSTART:20240331T010000
END:DAYLIGHT
BEGIN:STANDARD
TZOFFSETFROM:+0200
TZOFFSETTO:+0100
TZNAME:CET
DTSTART:20241027T010000
END:STANDARD
BEGIN:DAYLIGHT
TZOFFSETFROM:+0100
TZOFFSETTO:+0200
TZNAME:CEST
DTSTART:20250330T010000
END:DAYLIGHT
BEGIN:STANDARD
TZOFFSETFROM:+0200
TZOFFSETTO:+0100
TZNAME:CET
DTSTART:20251026T010000
END:STANDARD
BEGIN:DAYLIGHT
TZOFFSETFROM:+0100
TZOFFSETTO:+0200
TZNAME:CEST
DTSTART:20260329T010000
END:DAYLIGHT
BEGIN:STANDARD
TZOFFSETFROM:+0200
TZOFFSETTO:+0100
TZNAME:CET
DTSTART:20261025T010000
END:STANDARD
END:VTIMEZONE
BEGIN:VEVENT
DTSTART;TZID=Europe/Vienna:20251005T170000
DTEND;TZID=Europe/Vienna:20251005T190000
DTSTAMP:20260424T104149
CREATED:20250217T105052Z
LAST-MODIFIED:20250925T104845Z
UID:17997-1759683600-1759690800@www.musikwochen.com
SUMMARY:Andreas Schager & Lidia Baich
DESCRIPTION:Andreas Schager & Lidia Baich\n“ Siegfried auf Abwegen”\n\nAndreas Schager: Tenor\nLidia Baich: Violine\nHyung-ki Joo: Klavier \nDie New Yorker Metropolitan Opera bezeichnet Andreas Schager als „The Hero of our time” und die New York Times schreibt über ihn „ It’s a triumph”. Seit über einem Jahrzehnt gilt der Österreicher als einer der führenden Heldentenöre seiner Zeit. Er tritt regelmäßig u.a. an Opernhäusern wie der Metropolitan Oper New York\, der Opera Bastille\, bei den Berliner und Wiener Festspielen sowie den Bayreuther Festspielen auf. \nLidia Baich gilt als eine der vielseitigsten Geigensolistinnen der Gegenwart. Sie fasziniert weltweit Zuhörer durch intensive Musikalität und Interpretation. Lidia Baich hat eine Professur an der Musik und Kunst Universität Wien inne. \nIm Rahmen der Musikwochen Millstatt begeben sich Andreas Schager gemeinsam mit seiner Frau Lidia Baich und Klavierbegleitung auf eine musikalische Zeitreise mit Wagners Nibelungen-Helden. Dabei betritt dieser Siegfried u.a. mit Mozart\, Beethoven\, Strauss und Bernstein neue Gefilde und kann dabei doch gewisse Gewohnheiten nicht lassen… Hochkarätig gespickt mit ganz viel Humor! \n\n\n\n\n\n\n\n\n\n\n\n\n\n\n\n\nKAT A\n\n€\n56\,00\n\n\n\n\n\nKAT B\n\n€\n52\,00\n\n\n\n\n\n\nKartenreservierungen
URL:https://www.musikwochen.com/konzert/andreas-schager-lidia-baich/
LOCATION:Kongresshaus Millstatt\, Marktplatz 14\, Millstatt\, Kärnten\, 9872\, Österreich
ATTACH;FMTTYPE=image/jpeg:https://www.musikwochen.com/wp-content/uploads/2025/02/5.-Oktober-scaled.jpg
ORGANIZER;CN="Musikwochen Millstatt":MAILTO:musikwochen@millstatt.at
END:VEVENT
END:VCALENDAR