BEGIN:VCALENDAR
VERSION:2.0
PRODID:-//Musikwochen Millstatt - ECPv6.15.17.1//NONSGML v1.0//EN
CALSCALE:GREGORIAN
METHOD:PUBLISH
X-ORIGINAL-URL:https://www.musikwochen.com
X-WR-CALDESC:Veranstaltungen für Musikwochen Millstatt
REFRESH-INTERVAL;VALUE=DURATION:PT1H
X-Robots-Tag:noindex
X-PUBLISHED-TTL:PT1H
BEGIN:VTIMEZONE
TZID:Europe/Vienna
BEGIN:DAYLIGHT
TZOFFSETFROM:+0100
TZOFFSETTO:+0200
TZNAME:CEST
DTSTART:20250330T010000
END:DAYLIGHT
BEGIN:STANDARD
TZOFFSETFROM:+0200
TZOFFSETTO:+0100
TZNAME:CET
DTSTART:20251026T010000
END:STANDARD
BEGIN:DAYLIGHT
TZOFFSETFROM:+0100
TZOFFSETTO:+0200
TZNAME:CEST
DTSTART:20260329T010000
END:DAYLIGHT
BEGIN:STANDARD
TZOFFSETFROM:+0200
TZOFFSETTO:+0100
TZNAME:CET
DTSTART:20261025T010000
END:STANDARD
BEGIN:DAYLIGHT
TZOFFSETFROM:+0100
TZOFFSETTO:+0200
TZNAME:CEST
DTSTART:20270328T010000
END:DAYLIGHT
BEGIN:STANDARD
TZOFFSETFROM:+0200
TZOFFSETTO:+0100
TZNAME:CET
DTSTART:20271031T010000
END:STANDARD
END:VTIMEZONE
BEGIN:VEVENT
DTSTART;TZID=Europe/Vienna:20260531T170000
DTEND;TZID=Europe/Vienna:20260531T190000
DTSTAMP:20260424T005658
CREATED:20260209T081350Z
LAST-MODIFIED:20260209T081350Z
UID:18106-1780246800-1780254000@www.musikwochen.com
SUMMARY:BlechReiz BrassQuintett
DESCRIPTION:„Nur die Liebe/Lippe zählt“\nNico Samitz & Peter Kosz: Trompete/Gesang\nDavid Zuder: Posaune/Gesang\nHannes Burgstaller: Horn/Gesang\nMartin Kohlweis: Tuba/Gesang \nDas BlechReiz BrassQuintett besteht aus fünf kreativen\, jungen Menschen\, allesamt Musikstudenten bzw. Berufsmusiker\, die sich mit viel Humor und Feingefühl an die Grenzen der Kammermusik herantasten. Der Gedanke\, dass Musik jeder Art berührend und mitreißend sein kann und dass es nicht immer das Genre\, sondern vielmehr die Emotion ist\, die die Musik leben lässt\, beeinflusst ihre Konzerte. \nWenn es im Blechbläserleben statt Fortissimo plötzlich nur noch „Psst\, das Baby schläft!“\, heißt\, dann muss das erst mal verarbeitet werden. Und zwar in Form von Musik: Im neuen Programm „Nur die Liebe/Lippe zählt“\, geht es um die Veränderungen\, die das Beziehungsleben mit sich bringt: Kindererziehung\, Alltagsbewältigung\, Liebesfreud und Liebesleid in allen Höhen und Tiefen. Mit Eigenkompositionen und kreativen Arrangements im unverwechselbaren BlechReiz-Stil serviert das Ensemble eine gesunde Portion Herz\, Hörvergnügen und Humor. Virtuose Klänge treffen auf Alltagsbeobachtungen\, liebevoll verpackt in musikalische Momentaufnahmen\, die sowohl zum Lachen als auch zum Nachdenken anregen. \n„Nur die Liebe/Lippe zählt“ ist ein Programm für alle\, die schon mal zwischen Euphorie und Erschöpfung pendelten\, die wissen wollen\, wie die Welt eines Kindes klingen kann\, oder die einfach Lust auf Musik mit Witz\, Gefühl und Brassklänge haben. Familienchaos\, Väterhumor\, BlechReiz – was soll da schon (nicht) schiefgehen! \n\n\n\n\n\n\n\n\n\n\n\n\n\n\n\n\nEINTRITT\n\n€\n45\,00\n\n\n\n\n\n\nKartenreservierungen
URL:https://www.musikwochen.com/konzert/blechreiz-brassquintett/
LOCATION:Kongresshaus Millstatt\, Marktplatz 14\, Millstatt\, Kärnten\, 9872\, Österreich
ATTACH;FMTTYPE=image/jpeg:https://www.musikwochen.com/wp-content/uploads/2026/02/171105-BlechreizQuintett-06-2-scaled.jpg
ORGANIZER;CN="Musikwochen Millstatt":MAILTO:musikwochen@millstatt.at
END:VEVENT
END:VCALENDAR