BEGIN:VCALENDAR
VERSION:2.0
PRODID:-//Musikwochen Millstatt - ECPv6.15.17.1//NONSGML v1.0//EN
CALSCALE:GREGORIAN
METHOD:PUBLISH
X-ORIGINAL-URL:https://www.musikwochen.com
X-WR-CALDESC:Veranstaltungen für Musikwochen Millstatt
REFRESH-INTERVAL;VALUE=DURATION:PT1H
X-Robots-Tag:noindex
X-PUBLISHED-TTL:PT1H
BEGIN:VTIMEZONE
TZID:Europe/Vienna
BEGIN:DAYLIGHT
TZOFFSETFROM:+0100
TZOFFSETTO:+0200
TZNAME:CEST
DTSTART:20250330T010000
END:DAYLIGHT
BEGIN:STANDARD
TZOFFSETFROM:+0200
TZOFFSETTO:+0100
TZNAME:CET
DTSTART:20251026T010000
END:STANDARD
BEGIN:DAYLIGHT
TZOFFSETFROM:+0100
TZOFFSETTO:+0200
TZNAME:CEST
DTSTART:20260329T010000
END:DAYLIGHT
BEGIN:STANDARD
TZOFFSETFROM:+0200
TZOFFSETTO:+0100
TZNAME:CET
DTSTART:20261025T010000
END:STANDARD
BEGIN:DAYLIGHT
TZOFFSETFROM:+0100
TZOFFSETTO:+0200
TZNAME:CEST
DTSTART:20270328T010000
END:DAYLIGHT
BEGIN:STANDARD
TZOFFSETFROM:+0200
TZOFFSETTO:+0100
TZNAME:CET
DTSTART:20271031T010000
END:STANDARD
END:VTIMEZONE
BEGIN:VEVENT
DTSTART;TZID=Europe/Vienna:20260812T193000
DTEND;TZID=Europe/Vienna:20260812T210000
DTSTAMP:20260424T075216
CREATED:20260209T093505Z
LAST-MODIFIED:20260209T093541Z
UID:18139-1786563000-1786568400@www.musikwochen.com
SUMMARY:Cornelius Obonya - Kishons süße Rache
DESCRIPTION:Cornelius Obonya\n„Kishons süße Rache“\nCornelius Obonya ist einer der renommiertesten österreichischen Schauspieler. Nach Erreichen der „Mittleren Reife“ ging er mit 17 Jahren ans Max-Reinhardt-Seminar um Schauspiel zu studieren\, verließ es aber nach einem Jahr und lernte bei dem Kabarettisten Gerhard Bronner. Bronner gehörte zu den wichtigen Begegnungen in seinem Beruf ebenso wie Emmy Werner\, die ehemalige Direktorin des Volkstheater Wien und Andrea Breth\, mit der er viele Jahre an der Schaubühne Berlin und auch am Burgtheater Wien gearbeitet hat. \nSein weiterer Weg führte Ihn als „Jedermann“ zu den Salzburger Festspielen und zu zahlreichen deutschen\, wie österreichischen Produktionen in Film und Fernsehen. So bei „Tatort“ oder mit „Adults In The Room“ in der Regie von Costa-Gavras bei den Filmfestspielen von Venedig. Auch als Kommentarsprecher von Dokumentationen und als Interpret von Hörbüchern ist Cornelius Obonya bekannt.  Er erhielt vielfache Auszeichnungen u.a. den Ferdinand Raimund – Ring und den Deutschen Hörbuch Preis. Cornelius Obonya ist verheiratet mit der Regiesseurin Carolin Pienkos und Vater des gemeinsamen Sohnes Attila. \nCornelius Obonya liest Schriftsteller Ephraim Kishon\, den bedeutendsten und meistgelesensten Satiriker der Welt. Als Reisender in einem israelischen Luxushotel hat er es schwer\, die Tücken der nahöstlichen Wirtschaft sind nicht leicht zu umschiffen und der Terrorismus ist auch ständig da. Zu bezahlende Restaurant-Rechnungen und Theaterkritiker\, die aus der Vorsehung schöpfen\, machen einem das Leben schwer. Auch Vater zu sein ist bei Sohn Amir manchmal nicht ganz einfach. Kishon nimmt sie leicht\, die Tücke des Objekts. Die Tücken der Subjekte fallen ihm humorvoll aus den Taschen seiner sprachlichen Kunst. Cornelius Obonya bringt all dies zu Gehör und die Zwerchfelle in Millstatt zum Erbeben! \n\n\n\n\n\n\n\n\n\n\n\n\n\n\n\n\nEINTRITT\n\n€\n46\,00\n\n\n\n\n\n\nKartenreservierungen
URL:https://www.musikwochen.com/konzert/cornelius-obonya-kishons-suesse-rache/
LOCATION:Kongresshaus Millstatt\, Marktplatz 14\, Millstatt\, Kärnten\, 9872\, Österreich
ATTACH;FMTTYPE=image/jpeg:https://www.musikwochen.com/wp-content/uploads/2026/02/cornelius-copyright-Sasha-Ilushina-scaled.jpg
ORGANIZER;CN="Musikwochen Millstatt":MAILTO:musikwochen@millstatt.at
END:VEVENT
END:VCALENDAR