BEGIN:VCALENDAR
VERSION:2.0
PRODID:-//Musikwochen Millstatt - ECPv6.15.17.1//NONSGML v1.0//EN
CALSCALE:GREGORIAN
METHOD:PUBLISH
X-WR-CALNAME:Musikwochen Millstatt
X-ORIGINAL-URL:https://www.musikwochen.com
X-WR-CALDESC:Veranstaltungen für Musikwochen Millstatt
REFRESH-INTERVAL;VALUE=DURATION:PT1H
X-Robots-Tag:noindex
X-PUBLISHED-TTL:PT1H
BEGIN:VTIMEZONE
TZID:Europe/Vienna
BEGIN:DAYLIGHT
TZOFFSETFROM:+0100
TZOFFSETTO:+0200
TZNAME:CEST
DTSTART:20250330T010000
END:DAYLIGHT
BEGIN:STANDARD
TZOFFSETFROM:+0200
TZOFFSETTO:+0100
TZNAME:CET
DTSTART:20251026T010000
END:STANDARD
BEGIN:DAYLIGHT
TZOFFSETFROM:+0100
TZOFFSETTO:+0200
TZNAME:CEST
DTSTART:20260329T010000
END:DAYLIGHT
BEGIN:STANDARD
TZOFFSETFROM:+0200
TZOFFSETTO:+0100
TZNAME:CET
DTSTART:20261025T010000
END:STANDARD
BEGIN:DAYLIGHT
TZOFFSETFROM:+0100
TZOFFSETTO:+0200
TZNAME:CEST
DTSTART:20270328T010000
END:DAYLIGHT
BEGIN:STANDARD
TZOFFSETFROM:+0200
TZOFFSETTO:+0100
TZNAME:CET
DTSTART:20271031T010000
END:STANDARD
END:VTIMEZONE
BEGIN:VEVENT
DTSTART;TZID=Europe/Vienna:20260816T170000
DTEND;TZID=Europe/Vienna:20260816T190000
DTSTAMP:20260424T074756
CREATED:20260209T093916Z
LAST-MODIFIED:20260209T093916Z
UID:18142-1786899600-1786906800@www.musikwochen.com
SUMMARY:Liederabend mit Zurab Zurabishvili
DESCRIPTION:„Die Macht der Liebe“\nZurab Zurabishvili: Tenor\nAlessandro Misciasci: Klavier\nCarinthia Chor Millstatt \nZurab Zurabishvili gilt als einer der renommiertesten Tenöre seiner Generation. Von 1988 bis 1994 absolvierte er das Gesangsstudium am Konservatorium Tbilisi (Georgien) bei F Prof. Ana Chikhradze\, 1994 folgte das Gesangsstudium am Mozarteum in Salzburg bei Prof. Martha Sharp. Nach Festengagements am Theater Augsburg\, am Staatstheater Darmstadt und am Aalto Musiktheater Essen ist er seit 2013 international freischaffend tätig. \nGastspiele führten ihn u.a. an die Griechische Nationaloper Athen\, die Opera Vlaanderen Antwerpen\, die Deutsche Oper Berlin\, das Theater Bonn\, das Theater Chemnitz\, das Royal Opera House Copenhagen\, die Staatsoper Hannover\, das Tiroler Landestheater Innsbruck\, das Badisches Staatstheater Karlsruhe\, die Oper Krakau\, das Nationaltheater Mannheim\, die Staatsoper Tbilisi\, das Nationaltheater Zagreb und das Opernhaus Zürich. \nAlessandro Misciasci studierte Klavier am Konservatorium „A. Steffani“ in Castelfranco Veneto. Seit 1986 ist er als Liedbegleiter an der Universität Mozarteum tätig. Seine Tätigkeit als Liedbegleiter hat ihn in viele Länder Europas und Asiens geführt. Darüber hinaus hat er als musikalischer Assistent bei mehreren Produktionen der Salzburger Festspiele mitgewirkt. Unter dem Titel „Die Macht der Liebe“ erwartet Sie ein mitreißender Liederabend\, der vor georgischen Volksliedern bis hin zu Opernarien reicht\, die ganz im Zeichen der Liebe stehen. Der den Solisten freundschaftlich verbundene Carinthia-Chor Millstatt wird einige Lieder chorisch begleiten. \n\n\n\n\n\n\n\n\n\n\n\n\n\n\n\n\nKAT A\n\n€\n56\,00\n\n\n\n\n\nKAT B\n\n€\n52\,00\n\n\n\n\n\n\nKartenreservierungen
URL:https://www.musikwochen.com/konzert/liederabend-mit-zurab-zurabishvili/
LOCATION:Stiftskirche Millstatt\, Stiftgasse 1\, Millstatt\, Kärnten\, 9872\, Österreich
ATTACH;FMTTYPE=image/jpeg:https://www.musikwochen.com/wp-content/uploads/2026/02/Foto-Zurab.jpg
ORGANIZER;CN="Musikwochen Millstatt":MAILTO:musikwochen@millstatt.at
END:VEVENT
END:VCALENDAR