BEGIN:VCALENDAR
VERSION:2.0
PRODID:-//Musikwochen Millstatt - ECPv6.15.17.1//NONSGML v1.0//EN
CALSCALE:GREGORIAN
METHOD:PUBLISH
X-ORIGINAL-URL:https://www.musikwochen.com
X-WR-CALDESC:Veranstaltungen für Musikwochen Millstatt
REFRESH-INTERVAL;VALUE=DURATION:PT1H
X-Robots-Tag:noindex
X-PUBLISHED-TTL:PT1H
BEGIN:VTIMEZONE
TZID:Europe/Vienna
BEGIN:DAYLIGHT
TZOFFSETFROM:+0100
TZOFFSETTO:+0200
TZNAME:CEST
DTSTART:20250330T010000
END:DAYLIGHT
BEGIN:STANDARD
TZOFFSETFROM:+0200
TZOFFSETTO:+0100
TZNAME:CET
DTSTART:20251026T010000
END:STANDARD
BEGIN:DAYLIGHT
TZOFFSETFROM:+0100
TZOFFSETTO:+0200
TZNAME:CEST
DTSTART:20260329T010000
END:DAYLIGHT
BEGIN:STANDARD
TZOFFSETFROM:+0200
TZOFFSETTO:+0100
TZNAME:CET
DTSTART:20261025T010000
END:STANDARD
BEGIN:DAYLIGHT
TZOFFSETFROM:+0100
TZOFFSETTO:+0200
TZNAME:CEST
DTSTART:20270328T010000
END:DAYLIGHT
BEGIN:STANDARD
TZOFFSETFROM:+0200
TZOFFSETTO:+0100
TZNAME:CET
DTSTART:20271031T010000
END:STANDARD
END:VTIMEZONE
BEGIN:VEVENT
DTSTART;TZID=Europe/Vienna:20260924T100000
DTEND;TZID=Europe/Vienna:20260924T120000
DTSTAMP:20260424T091737
CREATED:20260209T101457Z
LAST-MODIFIED:20260209T101457Z
UID:18162-1790244000-1790251200@www.musikwochen.com
SUMMARY:Musikvermittlungsprojekt: MISSION PLANET B
DESCRIPTION:MISSION PLANET B\n„Musikvermittlungsprojekt für Kinder“\nDas Posaunenquartett „Trombone Attraction“\nRaphael Stieger: Astronaut\, Posaune\nStefan Obmann: Astronaut\, Posaune\nChristian Poitinger: Astronaut\, Bassposaune\nMartin Riener: Astronaut\, Posaune\nBerenike Heidecker-Nusser: Astronautin\, Musikvermittlung\, Konzept\, Dramaturgie \nUm besonders das junge Publikum anzusprechen und Kinder für die Vielfalt der Musik zu begeistern\, initiieren die Musikwochen Millstatt auch in diesem Jahr ein Musikvermittlungsprojekt für Volksschüler:innen\, das unter dem Titel „MISSION PLANET B“ steht. Unsere Erde leidet unter Umweltzerstörung und Ressourcenknappheit. Doch statt sich den Herausforderungen direkt zu stellen\, wird eine mutige Crew ins All geschickt – auf die Suche nach einem neuen Zuhause! Für das Posaunenquartett Trombone Attraction und Musikvermittlerin Berenike Heidecker-Nusser beginnt eine aufregende Mission – „Planet B“ muss her! \nDie intergalaktische Reise führt die fünf Held:innen zu neuen Welten\, durch technische Schwierigkeiten und gefährliche Abenteuer. Dabei entdecken sie nicht nur ferne Planeten und sonderbare Lebensformen\, sondern auch wichtige Werte wie Freundschaft\, Zusammenhalt und Mut. Doch je länger die Reise dauert\, desto klarer wird: Vielleicht ist unsere Erde doch der beste Planet\, den wir haben. Neben jeder Menge Spannung greift „Mission Planet B“ auch Themen der „Sustainable Development Goals“ auf – die globalen Ziele für eine bessere Zukunft. \nDie Crew lernt\, wie wichtig es ist\, verantwortungsvoll mit unserer Umwelt und unseren Ressourcen umzugehen. Ihre Abenteuer erinnern uns daran\, wie bedeutend Bildung und globale Partnerschaften sind\, um gemeinsam eine lebenswerte Zukunft zu gestalten. „Mission Planet B“ ist eine spannende und unterhaltsame\, musikalische Reise für Kinder und alle\, die mitreisen möchten – lehrreich\, ohne zu belehren\, und mit einer Botschaft\, die aktueller nicht sein könnte: Unsere Zukunft hängt von unseren Entscheidungen ab – sowohl im Weltall als auch hier auf der Erde! … mit Musik u.a. von Felix Mendelssohn Bartholdy\, Hoagy Carmichael\, Henry Fillmore\, Gustav Holst\, Eric Idle\, Thelonious Monk und John Williams. \nDiese Veranstaltung richtet sich gezielt an Volksschulklassen.\nAnmeldung per Mail unter musikwochen@millstatt.at\nEintritt frei! \n\n\n\n\n\n\n\n\n\n\n\n\n\n\n\nKartenreservierungen
URL:https://www.musikwochen.com/konzert/musikvermittlungsprojekt-mission-planet-b/
LOCATION:Kongresshaus Millstatt\, Marktplatz 14\, Millstatt\, Kärnten\, 9872\, Österreich
ATTACH;FMTTYPE=image/jpeg:https://www.musikwochen.com/wp-content/uploads/2026/02/mission_planet_b_07-scaled-1.jpg
ORGANIZER;CN="Musikwochen Millstatt":MAILTO:musikwochen@millstatt.at
END:VEVENT
END:VCALENDAR