BEGIN:VCALENDAR
VERSION:2.0
PRODID:-//Musikwochen Millstatt - ECPv6.15.17.1//NONSGML v1.0//EN
CALSCALE:GREGORIAN
METHOD:PUBLISH
X-WR-CALNAME:Musikwochen Millstatt
X-ORIGINAL-URL:https://www.musikwochen.com
X-WR-CALDESC:Veranstaltungen für Musikwochen Millstatt
REFRESH-INTERVAL;VALUE=DURATION:PT1H
X-Robots-Tag:noindex
X-PUBLISHED-TTL:PT1H
BEGIN:VTIMEZONE
TZID:Europe/Vienna
BEGIN:DAYLIGHT
TZOFFSETFROM:+0100
TZOFFSETTO:+0200
TZNAME:CEST
DTSTART:20250330T010000
END:DAYLIGHT
BEGIN:STANDARD
TZOFFSETFROM:+0200
TZOFFSETTO:+0100
TZNAME:CET
DTSTART:20251026T010000
END:STANDARD
BEGIN:DAYLIGHT
TZOFFSETFROM:+0100
TZOFFSETTO:+0200
TZNAME:CEST
DTSTART:20260329T010000
END:DAYLIGHT
BEGIN:STANDARD
TZOFFSETFROM:+0200
TZOFFSETTO:+0100
TZNAME:CET
DTSTART:20261025T010000
END:STANDARD
BEGIN:DAYLIGHT
TZOFFSETFROM:+0100
TZOFFSETTO:+0200
TZNAME:CEST
DTSTART:20270328T010000
END:DAYLIGHT
BEGIN:STANDARD
TZOFFSETFROM:+0200
TZOFFSETTO:+0100
TZNAME:CET
DTSTART:20271031T010000
END:STANDARD
END:VTIMEZONE
BEGIN:VEVENT
DTSTART;TZID=Europe/Vienna:20260927T170000
DTEND;TZID=Europe/Vienna:20260927T190000
DTSTAMP:20260424T092252
CREATED:20260209T102353Z
LAST-MODIFIED:20260209T102353Z
UID:18165-1790528400-1790535600@www.musikwochen.com
SUMMARY:kelagBIGband feat. BAMLAK WERNER
DESCRIPTION:„LADIES OF SONG“\n\nkelagBIGband\nHans Lassnig-Walder: Leitung\nBamlak Werner: Gesang \nDie kelagBIGband wird vom Kärntner Energiekonzern KELAG finanziell unterstützt\, besteht seit 2001 und ist die südlichste professionelle Bigband Österreichs. Seit 2009 finden unter der Leitung von Hans Lassnig-Walder regelmäßig Konzerte mit Gastsolisten statt – sowohl mit regionalen Künstlern als auch mit internationalen Stars verschiedener Stilrichtungen des Jazz und der Popularmusik. Konzertreisen führten die Bigband bereits auf die Jazz-Festivals Bansko (Bulgarien) und Niš (Serbien). \nDie junge Sängerin\, Songwriterin und Moderatorin Bamlak Werner gilt als Social-Media-Star. Im ORF war sie als Moderatorin und Sängerin der Talkshow „Im Hafen“ und als Host der Kindertalkshow „Talk mit Bamlak“ zu sehen und zu hören. Künstlerisch bewegt sie sich zwischen Welten – kulturell\, musikalisch und emotional. Geboren in Äthiopien\, aufgewachsen in Österreich\, als Schwarze Frau adoptiert in ein weißes Umfeld\, trägt sie eine Biografie\, die von innerer Zerrissenheit\, Resilienz und der Suche nach Zugehörigkeit geprägt ist. Ihre Musik entsteht aus diesem Spannungsfeld. Sie vereint klassische und jazzige Gesangsausbildung\, afrikanische und kärntnerische Chor-Klangtraditionen\, europäische Kunstmusik\, Pop und elektronische Einflüsse zu einem neuen Genre\, das sie selbst „Ethno Pop“ nennt. \nMit der kelagBIGband unter der Leitung von Hans Lassnig-Walder präsentiert die charismatische Sängerin mit LADIES OF SONG ihre persönliche Auswahl großer weiblicher Stimmen der Vergangenheit bis zur Gegenwart: Von Ella Fitzgerald\, Nina Simone\, Etta James\, über Adèle und Cynthia Erivo bis Little Simz – von anspruchsvollen Jazz-Klassikern über Neo-Soul bis zu britischem Rap und eigenen Songs. \n \nStyling: Andres Ortiz | Foto: Markus Spatzier \n\n\n\n\n\n\n\n\n\n\n\n\n\n\n\n\nEINTRITT\n\n€\n48\,00\n\n\n\n\n\n\nKartenreservierungen
URL:https://www.musikwochen.com/konzert/kelagbigband-feat-bamlak-werner/
LOCATION:Kongresshaus Millstatt\, Marktplatz 14\, Millstatt\, Kärnten\, 9872\, Österreich
ATTACH;FMTTYPE=image/jpeg:https://www.musikwochen.com/wp-content/uploads/2026/02/20260209_112215-scaled.jpg
ORGANIZER;CN="Musikwochen Millstatt":MAILTO:musikwochen@millstatt.at
END:VEVENT
END:VCALENDAR