BEGIN:VCALENDAR
VERSION:2.0
PRODID:-//Musikwochen Millstatt - ECPv6.15.17.1//NONSGML v1.0//EN
CALSCALE:GREGORIAN
METHOD:PUBLISH
X-ORIGINAL-URL:https://www.musikwochen.com
X-WR-CALDESC:Veranstaltungen für Musikwochen Millstatt
REFRESH-INTERVAL;VALUE=DURATION:PT1H
X-Robots-Tag:noindex
X-PUBLISHED-TTL:PT1H
BEGIN:VTIMEZONE
TZID:Europe/Vienna
BEGIN:DAYLIGHT
TZOFFSETFROM:+0100
TZOFFSETTO:+0200
TZNAME:CEST
DTSTART:20220327T010000
END:DAYLIGHT
BEGIN:STANDARD
TZOFFSETFROM:+0200
TZOFFSETTO:+0100
TZNAME:CET
DTSTART:20221030T010000
END:STANDARD
BEGIN:DAYLIGHT
TZOFFSETFROM:+0100
TZOFFSETTO:+0200
TZNAME:CEST
DTSTART:20230326T010000
END:DAYLIGHT
BEGIN:STANDARD
TZOFFSETFROM:+0200
TZOFFSETTO:+0100
TZNAME:CET
DTSTART:20231029T010000
END:STANDARD
BEGIN:DAYLIGHT
TZOFFSETFROM:+0100
TZOFFSETTO:+0200
TZNAME:CEST
DTSTART:20240331T010000
END:DAYLIGHT
BEGIN:STANDARD
TZOFFSETFROM:+0200
TZOFFSETTO:+0100
TZNAME:CET
DTSTART:20241027T010000
END:STANDARD
END:VTIMEZONE
BEGIN:VEVENT
DTSTART;TZID=Europe/Vienna:20230701T213000
DTEND;TZID=Europe/Vienna:20230702T000000
DTSTAMP:20260424T021801
CREATED:20230220T114115Z
LAST-MODIFIED:20230221T125645Z
UID:17382-1688247000-1688256000@www.musikwochen.com
SUMMARY:Duo [:klak:]
DESCRIPTION:„ELEVEN“\nStefan Kollmann: Akkordeon\nMarkus Fellner: Es/Bb/A/Bass-Klarinette\, Percussion & Gesang \nSeit über einem Jahrzehnt tritt das Duo [:klak:] auf nationaler und internationaler Ebene äußert erfolgreich auf und schaffet es auf besondere Art und Weise\, sein Publikum mitzureißen. Markus Fellner und Stefan Kollmann haben im vergangenen Jahr ihre dritte CD\, die unter dem Titel „ELEVEN“ steht\, veröffentlicht. Mit dem gleichnamigen Programm treten die beiden Vollblutmusiker\, deren musikalisches Schaffen unter dem Credo „Vielfalt und Kreativität“ steht\, erstmals im Rahmen der Musikwochen Millstatt auf. In höchsten Tönen wird „ELEVEN“ gefeiert und gelobt: „Stefan Kollmann und Markus Fellner zeigen mit ‚Eleven‘\, dass man sich in der Vielfalt der Stile nicht unbedingt verlieren muss\, sondern diese für sich auch nutzen kann\, um musikalisch etwas einzigartig Schönes entstehen zu lassen.“ (Michael Ternai\, music austria) \nDie Musik des Duos\, die berührt\, erfrischend mitreißt und bewegt\, kann nicht schubladisiert werden – mit „ELEVEN“ laden die beiden Künstler zu einer Reise rund um die Welt ein. \n© Florian Proprenter \n\n\n\n\n\n\n\n\n\n\n\n\n\n\n\n\nEINTRITT\n\n€\n35\,00\n\n\n\n\n\n\nKartenreservierungen
URL:https://www.musikwochen.com/konzert/duo-klak/
LOCATION:Kongresshaus Millstatt\, Marktplatz 14\, Millstatt\, Kärnten\, 9872\, Österreich
ATTACH;FMTTYPE=image/jpeg:https://www.musikwochen.com/wp-content/uploads/2023/02/c-Florian-Proprenter_1-scaled.jpg
ORGANIZER;CN="Musikwochen Millstatt":MAILTO:musikwochen@millstatt.at
END:VEVENT
BEGIN:VEVENT
DTSTART;TZID=Europe/Vienna:20230712T213000
DTEND;TZID=Europe/Vienna:20230713T003000
DTSTAMP:20260424T021801
CREATED:20220304T110221Z
LAST-MODIFIED:20230221T125539Z
UID:17165-1689197400-1689208200@www.musikwochen.com
SUMMARY:Gedenkkonzert zu Ehren Dr. Franz Nikolasch
DESCRIPTION:„Master Pieces“\nArjan Breukhoven: Orgel\n \nZu Ehren des verstorbenen Gründungsvaters der Musikwochen Millstatt\, univ.Prof.em.Dr. Franz Nikolasch\, durch dessen unermüdliche Schaffenskraft das Musikfestival weit über die Grenzen hinaus an Bekanntheit erlangt hat\, wird der renommierte Organist Arjan Breukhoven unter dem Titel „Master Pieces“ einen Konzertabend musikalisch gestalten. Mit der schönsten Musik aus aller Welt präsentiert sich der vielseitige Musiker in der Stiftskirche Millstatt. Der Niederländer studierte zunächst Orgel bei Jan Brandwijk und später Orgel- und Kirchenmusik am Royal Conservatory in Den Haag\, wo Wim van Beek und Bert Matter seine Lehrer waren. Am Konservatorium studierte Breukhoven Klavier bei Albert Brussee\, des Weiteren widmete er sich den Fächern Gesang\, Improvisation und Chorleitung. Arjan Breukhoven ist in vielen Ländern der Welt ein gefragter Konzertorganist. \nFrei nach den Worten des französischen Komponisten und Organisten César Franck „Meine Orgel ist mein Orchester“ erklingen die schönsten Werke auf der eindrucksvollen Marcussen-Orgel in der Stiftskirche. \n© Arjan Schiedam\n\n\n\n\n\n\n\n\n\n\n\n\n\n\n\n\nEINTRITT\n\n€\n33\,00\n\n\n\n\n\n\nKartenreservierungen
URL:https://www.musikwochen.com/konzert/gedenkkonzert-zu-ehren-dr-franz-nikolasch/
LOCATION:Stiftskirche Millstatt\, Stiftgasse 1\, Millstatt\, Kärnten\, 9872\, Österreich
ATTACH;FMTTYPE=image/jpeg:https://www.musikwochen.com/wp-content/uploads/2022/03/Arjan-Schiedam-scaled.jpeg
ORGANIZER;CN="Musikwochen Millstatt":MAILTO:musikwochen@millstatt.at
END:VEVENT
BEGIN:VEVENT
DTSTART;TZID=Europe/Vienna:20230717T213000
DTEND;TZID=Europe/Vienna:20230717T233000
DTSTAMP:20260424T021801
CREATED:20220304T105245Z
LAST-MODIFIED:20230323T085155Z
UID:17158-1689629400-1689636600@www.musikwochen.com
SUMMARY:Canadian Brass
DESCRIPTION:„A Tribute to London“\nJoe Burgstaller: Trompete\nFabio Brum: Trompete\nJeff Nelsen: Horn\nAchilles Liarmakopoulos: Posaune\nChuck Daellenbach: Tuba \nAls „ The World’s Most Famous Brass Group“ gilt die soundvolle Formation “Canadian Brass”. Jeder für sich ein Virtuose auf seinem Instrument\, teilen die fünf Musiker ihre Begeisterung für den Bläserklang mit ihrem Publikum. In den vergangenen Jahrzehnten füllten Canadian Brass Konzerthäuser in den USA\, Kanada\, Japan und Europa. Sie traten als erstes westliches Bläser-Ensemble in der Volksrepublik China auf\, musizierten in Australien\, im Mittleren Osten\, in Russland und in Südamerika. Überall präsentieren sie sich als Meister der Blechbläserkunst\, mit einzigartiger Bühnenpräsenz und einer aufregenden Mischung aus Hingabe\, Spielfreude und Spontanität. Canadian Brass verblüffen immer wieder aufs Neue mit den ungeahnten Möglichkeiten ihrer Instrumente und humorvollem Entertainment. Unter dem Titel „A Tribute to London“ wird die Formation die größten Werke englischer Komponisten meisterhaft interpretieren. \nAb 18:30 Uhr haben Sie übrigens die Möglichkeit\, in die Welt der Blechblasinstrumente der Meisterwerkstätte Anton Possegger einzutauchen. \n© Marilyn Catasus \n\n\n\n\n\n\n\n\n\n\n\n\n\n\n\n\nKAT A\n\n€\n52\,00\n\n\n\n\n\nKAT B\n\n$\n€48\,00\n\n\n\n\n\n\nKartenreservierungen
URL:https://www.musikwochen.com/konzert/canadian-brass/
LOCATION:Kongresshaus Millstatt\, Marktplatz 14\, Millstatt\, Kärnten\, 9872\, Österreich
ATTACH;FMTTYPE=image/jpeg:https://www.musikwochen.com/wp-content/uploads/2022/03/CanadianBrass-Credit-Marilyn-Catasus-scaled.jpg
ORGANIZER;CN="Musikwochen Millstatt":MAILTO:musikwochen@millstatt.at
END:VEVENT
BEGIN:VEVENT
DTSTART;TZID=Europe/Vienna:20230730T213000
DTEND;TZID=Europe/Vienna:20230731T000000
DTSTAMP:20260424T021801
CREATED:20220304T104603Z
LAST-MODIFIED:20230323T085048Z
UID:17152-1690752600-1690761600@www.musikwochen.com
SUMMARY:Junge Philharmonie Wien
DESCRIPTION:„Sommernachtstraum“\nJunge Philharmonie Wien\nClaire Elizabeth Craig: Sopran\nClaudio Mansutti: Klarinette\nMichael Lessky: Dirigent \nDie Junge Philharmonie Wien ist ein seit über 25 Jahren professionell auftretendes\, gesamtösterreichisches Jugendorchester talentierter Musikerinnen und Musiker im Alter von 17 bis 27 Jahren. Mit dem Konzert „Sommernachtstraum“ bringt der Klangkörper zauberhafte Musik von Mendelsohns berühmter Schauspielmusik\, begleitet von der deutsch-britischen Sopranistin Claire Elizabeth Craig\, nach Millstatt. Des Weiteren wird der Solist Claudio Mansutti mit Mozarts Klarinettenkonzert in A-Dur (KV 622) die Stiftskirche klanglich füllen. Ein Konzertabend\, der von Highlights geprägt ist. \n© Monarca Studios Vienna \n\n\n\n\n\n\n\n\n\n\n\n\n\n\n\n\nKAT A\n\n€\n42\,00\n\n\n\n\n\nKAT B\n\n€\n38\,00\n\n\n\n\n\n\nKartenreservierungen
URL:https://www.musikwochen.com/konzert/junge-philharmonie-wien-2/
LOCATION:Stiftskirche Millstatt\, Stiftgasse 1\, Millstatt\, Kärnten\, 9872\, Österreich
ATTACH;FMTTYPE=image/jpeg:https://www.musikwochen.com/wp-content/uploads/2022/03/Claire-Elizabeth-Craig-Portrait-2-scaled.jpg
ORGANIZER;CN="Musikwochen Millstatt":MAILTO:musikwochen@millstatt.at
END:VEVENT
END:VCALENDAR