BEGIN:VCALENDAR
VERSION:2.0
PRODID:-//Musikwochen Millstatt - ECPv6.15.17.1//NONSGML v1.0//EN
CALSCALE:GREGORIAN
METHOD:PUBLISH
X-WR-CALNAME:Musikwochen Millstatt
X-ORIGINAL-URL:https://www.musikwochen.com
X-WR-CALDESC:Veranstaltungen für Musikwochen Millstatt
REFRESH-INTERVAL;VALUE=DURATION:PT1H
X-Robots-Tag:noindex
X-PUBLISHED-TTL:PT1H
BEGIN:VTIMEZONE
TZID:Europe/Vienna
BEGIN:DAYLIGHT
TZOFFSETFROM:+0100
TZOFFSETTO:+0200
TZNAME:CEST
DTSTART:20220327T010000
END:DAYLIGHT
BEGIN:STANDARD
TZOFFSETFROM:+0200
TZOFFSETTO:+0100
TZNAME:CET
DTSTART:20221030T010000
END:STANDARD
BEGIN:DAYLIGHT
TZOFFSETFROM:+0100
TZOFFSETTO:+0200
TZNAME:CEST
DTSTART:20230326T010000
END:DAYLIGHT
BEGIN:STANDARD
TZOFFSETFROM:+0200
TZOFFSETTO:+0100
TZNAME:CET
DTSTART:20231029T010000
END:STANDARD
BEGIN:DAYLIGHT
TZOFFSETFROM:+0100
TZOFFSETTO:+0200
TZNAME:CEST
DTSTART:20240331T010000
END:DAYLIGHT
BEGIN:STANDARD
TZOFFSETFROM:+0200
TZOFFSETTO:+0100
TZNAME:CET
DTSTART:20241027T010000
END:STANDARD
END:VTIMEZONE
BEGIN:VEVENT
DTSTART;TZID=Europe/Vienna:20230901T220000
DTEND;TZID=Europe/Vienna:20230902T013000
DTSTAMP:20260424T051448
CREATED:20220303T105043Z
LAST-MODIFIED:20230221T120632Z
UID:17105-1693605600-1693618200@www.musikwochen.com
SUMMARY:Pongauer Tanzlmusi & JMK Millstätterberg
DESCRIPTION:„Aufg´spielt in Millstatt“\n\nAndreas Fleißner: Klarinette\nStefan Fleißner: Trompete\nThomas Fleißner: Trompete\nMigu Krimplstätter: Basstrompete\nThomas Weiß: Bassposaune\nDominik Meissnitzer: Sterische Harmonika\nBernhard Klieber: Gitarre \nWas wäre wohl ein lauer Sommerabend ohne feine\, volkstümliche Klänge der Extraklasse? Ein beschwingter Abend voller Tanz\, Musik und Geselligkeit erwartet Sie in einer musikalisch-spannenden Kombination aus Blasmusik und Tanzlmusi: Für Dynamik\, Jugendlichkeit und Leidenschaft zum Musizieren steht die Jugendmusikkapelle Millstätterberg\, die unter der musikalischen Leitung von Stefanie Glabischnig steht. Das Blasorchester wird den Abend musikalisch einleiten und wartet mit einer blasmusikalischen Bandbreite\, die von Traditionsmusik bis hin zu moderner Unterhaltungsliteratur reicht\, auf. \nAnschließend darf man sich auf die sieben Spitzenmusiker der „Pongauer Tanzlmusi“ freuen\, die mit ihrem unverkennbaren Tanzlmusiklang und der Extraportion Charme für Stimmung im Kongresshaus Millstatt sorgen werden. Geprägt durch die gemeinsame Leidenschaft zur Musik\, vielen Eigenkompositionen und Arrangements und erfrischenden Moderationen entwickelte sich die typische Art der „Pongauer Tanzlmusi“\, verschiedenste Veranstaltungen mit schneidigen Tanzlmusiklängen zu bereichern. \n© Flora Bacher | KBV Bezirk Spittal \n\n\n\n\n\n\n\n\n\n\n\n\n\n\n\n\nEINTRITT\n\n€\n25\,00\n\n\n\n\n\n\nKartenreservierungen
URL:https://www.musikwochen.com/konzert/pongauer-tanzlmusi-jmk-millstaetterberg/
LOCATION:Kongresshaus Millstatt\, Marktplatz 14\, Millstatt\, Kärnten\, 9872\, Österreich
ATTACH;FMTTYPE=image/jpeg:https://www.musikwochen.com/wp-content/uploads/2022/03/output_1676977934714.jpg
ORGANIZER;CN="Musikwochen Millstatt":MAILTO:musikwochen@millstatt.at
END:VEVENT
BEGIN:VEVENT
DTSTART;TZID=Europe/Vienna:20230917T190000
DTEND;TZID=Europe/Vienna:20230917T210000
DTSTAMP:20260424T051448
CREATED:20220303T103017Z
LAST-MODIFIED:20230227T130417Z
UID:17091-1694977200-1694984400@www.musikwochen.com
SUMMARY:Liederabend mit Rolando Villazón
DESCRIPTION:„Eine musikalische Reise“\n\nRolando Villazón: Tenor\nCarrie-Ann Matheson: Klavier \nDurch seine einzigartig fesselnden Auftritte auf den wichtigsten Bühnen der Welt hat sich der Tenor Rolando Villazón als einer von Kritikern am meisten gefeierten und geliebten Stars der Musikwelt und als einer der führenden Künstler unserer Zeit etabliert. Angekündigt als „der charmanteste der heutigen Diven“ (The Times) mit „einer wunderbar virilen Stimme… Grandezza\, Eleganz und Kraft“ (Süddeutsche Zeitung)\, ist Rolando Villazóns Vielseitigkeit unvergleichlich. Neben seiner Bühnenkarriere ist er auch Regisseur\, Autor\, künstlerischer Leiter sowie Radio- und Fernsehpersönlichkeit. Gemeinsam mit der kanadischen Pianistin Carrie-Ann Matheson wird der Sänger Arien und Werke großer Komponisten wie unter anderem von Liszt\, Bellini\, Verdi und Tosti zum Besten geben! \nAufzahlung für Konzertpass-Inhaber:innen. Bei diesem Konzert können keine Preisnachlässe gegeben werden. Wir bitten um Verständnis! \n© Monika Hoefler | Fay Fox \n\n\n\n\n\n\n\n\n\n\n\n\n\n\n\n\nKAT A\n\n€\n115\n\n\n\n\n\nKAT B\n\n€\n100\n\n\n\n\n\nKAT C\n\n€\n85\n\n\n\n\n\n\nKartenreservierungen
URL:https://www.musikwochen.com/konzert/liederabend-mit-rolando-villazon-2/
LOCATION:Stiftskirche Millstatt\, Stiftgasse 1\, Millstatt\, Kärnten\, 9872\, Österreich
ATTACH;FMTTYPE=image/jpeg:https://www.musikwochen.com/wp-content/uploads/2022/03/output_1676980265910.jpg
ORGANIZER;CN="Musikwochen Millstatt":MAILTO:musikwochen@millstatt.at
END:VEVENT
END:VCALENDAR