BEGIN:VCALENDAR
VERSION:2.0
PRODID:-//Musikwochen Millstatt - ECPv6.15.17.1//NONSGML v1.0//EN
CALSCALE:GREGORIAN
METHOD:PUBLISH
X-WR-CALNAME:Musikwochen Millstatt
X-ORIGINAL-URL:https://www.musikwochen.com
X-WR-CALDESC:Veranstaltungen für Musikwochen Millstatt
REFRESH-INTERVAL;VALUE=DURATION:PT1H
X-Robots-Tag:noindex
X-PUBLISHED-TTL:PT1H
BEGIN:VTIMEZONE
TZID:Europe/Vienna
BEGIN:DAYLIGHT
TZOFFSETFROM:+0100
TZOFFSETTO:+0200
TZNAME:CEST
DTSTART:20230326T010000
END:DAYLIGHT
BEGIN:STANDARD
TZOFFSETFROM:+0200
TZOFFSETTO:+0100
TZNAME:CET
DTSTART:20231029T010000
END:STANDARD
BEGIN:DAYLIGHT
TZOFFSETFROM:+0100
TZOFFSETTO:+0200
TZNAME:CEST
DTSTART:20240331T010000
END:DAYLIGHT
BEGIN:STANDARD
TZOFFSETFROM:+0200
TZOFFSETTO:+0100
TZNAME:CET
DTSTART:20241027T010000
END:STANDARD
BEGIN:DAYLIGHT
TZOFFSETFROM:+0100
TZOFFSETTO:+0200
TZNAME:CEST
DTSTART:20250330T010000
END:DAYLIGHT
BEGIN:STANDARD
TZOFFSETFROM:+0200
TZOFFSETTO:+0100
TZNAME:CET
DTSTART:20251026T010000
END:STANDARD
END:VTIMEZONE
BEGIN:VEVENT
DTSTART;TZID=Europe/Vienna:20240703T213000
DTEND;TZID=Europe/Vienna:20240703T233000
DTSTAMP:20260424T105119
CREATED:20240221T132859Z
LAST-MODIFIED:20240701T070254Z
UID:17753-1720042200-1720049400@www.musikwochen.com
SUMMARY:ensemble minui
DESCRIPTION:„Oper ohne Gesang“\n\nAnna Morgoulets: Violine\nLuka Kusztrich: Violine\nNejc Mikolic: Bratsche\nWilhelm Pflegerl: Violoncello\nAnna Gruchmann: Kontrabass\nSieglinde Größinger: Flöte\nStefan Potzmann: Klarinette\nClemens Böhm: Fagott\nMarkus Höller: Horn \nAngesiedelt zwischen Kammermusik und Orchester\, widmet sich das in Kärnten beheimatete „ensemble minui“\, bestehend aus fünf Streichern und vier Bläsern\, seit seiner Gründung im Jahr 2016 den musikalischen Möglichkeiten für großes Kammermusikensemble. Standen anfangs einfache Reduktionen großer Orchesterwerke am Programm\, so wurde nach und nach die Opernmusik zur großen Leidenschaft der Formation. Konzertreisen führten die neun Musiker:innen neben namhaften Festivals in Österreich nach Deutschland\, Slowenien und Spanien. Ihre beiden ersten CDs mit Opernsuiten wurden in mehreren Kategorien sowohl für den deutschen „Opus Klassik“\, als auch für den Preis der deutschen Schallplattenkritik nominiert. \nOper ohne Gesang\, rein instrumental\, geht das? Wenn die Musikerinnen und Musiker des Ensembles mit ihrer unbändigen Spielfreude ans Werk gehen\, lautet die Antwort: Ja! Dabei verwandeln sie die Bühne in einen Orchestergraben eines großen Opernhauses und entführen das Publikum unter dem gleichnamigen Titel in eine Welt voller Liebe\, Leidenschaft und Dramatik. Mit orchestralen Klängen und kammermusikalischer Präzision erforscht das Ensemble elegant und raffiniert die musikalischen Möglichkeiten für großes Kammermusikensemble. Den Ausgangspunkt dazu liefern die ausgefeilten Arrangements des Klarinettisten Stefan Potzmann. Neben Puccinis „Manon Lescaut“ stehen u.a. Musik aus Tschaikowskis „Eugen Onegin“ und „Frau ohne Schatten“ von Richard Strauss auf dem Programm. Ein Klangerlebnis\, dass sich Opernliebhaber und alle\, die es noch werden wollen\, nicht entgehen lassen sollten. \nCredits: Severin Koller \n\n\n\n\n\n\n\n\n\n\n\n\n\n\n\n\nKAT A\n\n€\n49\,00\n\n\n\n\n\nKAT B\n\n€\n45\,00\n\n\n\n\n\n\nKartenreservierungen
URL:https://www.musikwochen.com/konzert/ensemble-minui/
LOCATION:Stiftskirche Millstatt\, Stiftgasse 1\, Millstatt\, Kärnten\, 9872\, Österreich
ATTACH;FMTTYPE=image/jpeg:https://www.musikwochen.com/wp-content/uploads/2024/02/Ensemble-Minui_2023_8_©Severin-Koller-1-scaled.jpg
ORGANIZER;CN="Musikwochen Millstatt":MAILTO:musikwochen@millstatt.at
END:VEVENT
BEGIN:VEVENT
DTSTART;TZID=Europe/Vienna:20240712T213000
DTEND;TZID=Europe/Vienna:20240713T013000
DTSTAMP:20260424T105119
CREATED:20240221T133518Z
LAST-MODIFIED:20240710T100615Z
UID:17756-1720819800-1720834200@www.musikwochen.com
SUMMARY:Die WüdaraMusi
DESCRIPTION:„Aufg´spielt in Millstatt“\n\nPeter Fliecher: Flügelhorn\nBernhard Holl: Basstrompete\nWolfgang Gastager: Basstrompete\nJohann Schiestl: Tuba\nDominik Meißnitzer: Steirische Harmonika\nMarie-Theres Fehringer: Harfe \nWas wäre wohl ein lauer Sommerabend ohne feine\, volkstümliche Klänge der Extraklasse? Ein beschwingter Abend voller Tanz\, Musik und Geselligkeit erwartet Sie in einer musikalisch-spannenden Kombination aus Profimusiker:innen der Tanzlmusiszene: Die „WüdaraMusi“ gilt als eine gefragtesten Tanzlmusi-Formationen Österreichs und zeichnen sich durch ihren markanten Bläserklang und speziell arrangierten Stücken für diese besondere Besetzung aus. Seit mehr als zehn Jahren treten die Musiker:innen quer durch den alpenländischen Raum auf und begeistern mit ihrem unverkennbaren Tanzlmusiklang. Die einzigartige Namensgebung „WüdaraMusi“ führt auf ihre ersten Auftritte zurück: Die ersten drei offiziellen Auftritte der WüdaraMusi waren ein Wildererball beim „Raxkönig“ in Nasswald\, ein Wilderer Gschnas in Wien und ein Wilderer Kranz‘l in Oberösterreich. Zusammengewildert aus Salzburg\, der Steiermark\, Südtirol\, Kärnten\, Bayern\, dem Burgenland sowie Ober- und Niederösterreich sind die Musikant:innen durchaus amtsbekannt in der hiesigen Volksmusikszene. Mittlerweile „wild“ etabliert ist auch die anfangs ungewöhnliche\, sechsköpfige Besetzung mit einem Flügelhorn\, zwei Basstrompeten\, Tuba\, Steirischer Harmonika und Harfe. \nDie „WüdaraMusi“ lädt im Millstätter Kongresshaus zum Tanzen\, Mitsingen und Feiern im Sinne der echten Volksmusik ein – ein Abend\, der ganz im Zeichen des Miteinanders\, der Spielfreude und der Musik steht. \nCredits: Andreas Zechner \n\n\n\n\n\n\n\n\n\n\n\n\n\n\n\n\nEintritt bei freier Platzwahl\n\n€\n25\,00\n\n\n\n\n\n\nKartenreservierungen
URL:https://www.musikwochen.com/konzert/die-wuedaramusi/
LOCATION:Kongresshaus Millstatt\, Marktplatz 14\, Millstatt\, Kärnten\, 9872\, Österreich
ATTACH;FMTTYPE=image/jpeg:https://www.musikwochen.com/wp-content/uploads/2024/02/Pressefoto-6a-2019-c-Andreas-Zechner-scaled.jpg
ORGANIZER;CN="Musikwochen Millstatt":MAILTO:musikwochen@millstatt.at
END:VEVENT
BEGIN:VEVENT
DTSTART;TZID=Europe/Vienna:20240716T213000
DTEND;TZID=Europe/Vienna:20240716T233000
DTSTAMP:20260424T105119
CREATED:20240221T134339Z
LAST-MODIFIED:20240709T065733Z
UID:17759-1721165400-1721172600@www.musikwochen.com
SUMMARY:Schlusskonzert des Meisterkurses
DESCRIPTION:„Lied und Oper“\nThomas Hampson: Bariton\nGesangstalente mit Kärntenbezug \nThomas Hampson blickt auf eine einzigartige internationale Karriere als Opern-\, Konzert- und Liedsänger. Der US-amerikanische Bariton tritt weltweit in führenden Konzert- und Opernhäusern auf und gilt als „Botschafter des Liedes“. Thomas Hampson ist nicht nur für seine herausragenden Leistungen als Sänger bekannt\, sondern auch als angesehener Dozent und Mahler-Interpret. Zu Millstatt hat der Starbariton einen besonderen Bezug – bereits zum 8. Mal tritt er im Zuge der Musikwochen auf. Sein Wissen und seinen Erfahrungsschatz gab der Kammersänger bereits im Jahr 2023 im Rahmen eines Meisterkurses an junge Sängerinnen und Sänger weiter. Daraus entstand eine synergienschaffende Kooperation zwischen der Carinthischen Musikakademie Stift Ossiach (CMA) und der Gustav Mahler Privatuniversität für Musik sowie den Musikwochen Millstatt. In diesem Jahr haben junge Gesangstalente die Möglichkeit\, im Rahmen eines Meisterkurses in der Carinthischen Musikakademie mit dem Künstler ein spannendes Programm zu erarbeiten. \nDas Abschlusskonzert des Meisterkurses findet im Rahmen der Musikwochen Millstatt unter dem Titel „Lied und Oper“ statt. Der Kammersänger von Weltformat wird einen Konzertabend gemeinsam mit jungen Talenten in der Stiftskirche Millstatt gestalten. Namhafte Werke großer Komponisten werden im Zuge dessen erklingen. \nEin herzlicher Dank gilt unseren Kooperationspartnern:\n \nCredits: Marshall Light Studio \n\n\n\n\n\n\n\n\n\n\n\n\n\n\n\n\nKAT A\n\n€\n46\,00\n\n\n\n\n\nKAT B\n\n€\n41\,00\n\n\n\n\n\n\nKartenreservierungen
URL:https://www.musikwochen.com/konzert/schlusskonzert-des-meisterkurses/
LOCATION:Stiftskirche Millstatt\, Stiftgasse 1\, Millstatt\, Kärnten\, 9872\, Österreich
ATTACH;FMTTYPE=image/jpeg:https://www.musikwochen.com/wp-content/uploads/2024/02/TH-Marshall-Light-Studio2-scaled.jpg
ORGANIZER;CN="Musikwochen Millstatt":MAILTO:musikwochen@millstatt.at
END:VEVENT
BEGIN:VEVENT
DTSTART;TZID=Europe/Vienna:20240726T213000
DTEND;TZID=Europe/Vienna:20240727T015900
DTSTAMP:20260424T105119
CREATED:20230703T093923Z
LAST-MODIFIED:20240625T123412Z
UID:17651-1722029400-1722045540@www.musikwochen.com
SUMMARY:KunstNacht Stift Millstatt 2024
DESCRIPTION:Die „KunstNacht“ im Stift Millstatt geht am Freitag\, dem 26. Juli 2024 in die vierte Auflage. Die Kunst- und Kulturschaffenden rund um das Stift Millstatt bieten Interessierten ein facettenreich-hochkarätiges Programm bei freiem Eintritt.\nDie Programmbandbreite der „KunstNacht Stift Millstatt“ reicht von Führungen durch das Stiftsmuseum\, Ausstellungen\, Galerien\, offenen Ateliers\, Schaudruck\, Musik\, Tanz bis hin zu Performances & Happenings. Das Kollektiv „KunstNacht“ setzt sich aus dem „ART SPACE stift millstatt“ (Andrea K. Schlehwein & Eleonore Schäfer)\, dem Kunstverein „millstART“\, dem Verein „kunst & co millstatt“\, dem „Stiftsmuseum Millstatt“\, den „Musikwochen Millstatt“\, den Galeristen Jens August\, der Malerin Barbara Laggner und der Malerin Gabriela Kheloufi zusammen. Alle Mitwirkenden prägen die Region durch ihr ganz individuelles Schaffen. Die „KunstNacht“ gilt einerseits als Leuchtturmprojekt im Sinne des Miteinanders\, andererseits haben die Besucher:innen so die Möglichkeit\, ein möglichst großes Angebot an einem Abend zu erleben und aufzunehmen. \nKunstvoll durch die Nacht\nDie Eröffnung findet am Freitag\, dem 26. Juli 2024 um 19:30 Uhr in der Stiftskirche Millstatt statt\, anschließend und bereits zuvor haben die Besucher:innen die Möglichkeit\, das breite Kunstangebot des Stiftes Millstatt bis „open End“ in Anspruch zu nehmen. \nDas Team der „KunstNacht“ freut sich auf Ihren geschätzten Besuch und eine aufregende Nacht! \n\n\n\n\n\n\n\n\n\n\n\n\n\n\nDas Programm der KunstNacht 2024:\nProgramm Kunstnacht 24
URL:https://www.musikwochen.com/konzert/kunstnacht-stift-millstatt-2024/
LOCATION:Stift Millstatt\, Stiftgasse 1\, Millstatt\, Kärnten\, 9872\, Österreich
ATTACH;FMTTYPE=image/jpeg:https://www.musikwochen.com/wp-content/uploads/2023/07/KunstNacht24.jpg
ORGANIZER;CN="Musikwochen Millstatt":MAILTO:musikwochen@millstatt.at
END:VEVENT
BEGIN:VEVENT
DTSTART;TZID=Europe/Vienna:20240728T200000
DTEND;TZID=Europe/Vienna:20240728T220000
DTSTAMP:20260424T105119
CREATED:20240221T135204Z
LAST-MODIFIED:20240221T135245Z
UID:17765-1722196800-1722204000@www.musikwochen.com
SUMMARY:AIMS Spiritual Ensemble
DESCRIPTION:„Spirituals\, Gospels & More“\nAIMS Spiritual Ensemble\nAlfonse Anderson: Dirigent\n\nSeit mehr als 50 Jahren ist das „American Institute of Musical Studies“\, kurz AIMS\, die erfolgreichste amerikanische Sommerakademie für Opernsängerinnen und Opernsänger. Zahlreiche Weltstars haben ihre ersten musikalischen Schritte im Rahmen von AIMS in Graz gemeistert. Das „AIMS Spiritual Ensemble“ ist ein singuläres vokales Ereignis\, da der Chor ausschließlich aus jungen\, hochtalentierten und stimmgewaltigen Solistinnen und Solisten besteht. Dessen künstlerischer Leiter\, Dr. Alfonse Anderson\, ist einer der zentralen Figuren des amerikanischen Musiklebens und ist außerdem Professor für Gesang an der University of Nevada Las Vegas. \nDie jungen Künstler:innen gestalten ihr musikalisches Erbe\, amerikanische Spirituals und Gospels\, mit einem unvergleichbaren Maß an Musikalität\, Intensität\, Authentizität und Glaubensfreude\, die sich auf das Publikum übertragen und jedes Konzert des AIMS Spiritual Ensembles zu einem unvergleichlichen Erlebnis werden lassen. Tauchen Sie gemeinsam mit den jungen Sänger:innen unter dem Titel „Spirituals\, Gospels & More“ in die facettenreiche Klangwelt einer einzigartigen Singkultur ein. \nCredits: Gerald Hirl \n\n\n\n\n\n\n\n\n\n\n\n\n\n\n\n\nKAT A\n\n€\n45\,00\n\n\n\n\n\nKAT B\n\n€\n41\,00\n\n\n\n\n\n\nKartenreservierungen
URL:https://www.musikwochen.com/konzert/aims-spiritual-ensemble/
LOCATION:Stiftskirche Millstatt\, Stiftgasse 1\, Millstatt\, Kärnten\, 9872\, Österreich
ATTACH;FMTTYPE=image/jpeg:https://www.musikwochen.com/wp-content/uploads/2024/02/CGH_5944-scaled.jpg
ORGANIZER;CN="Musikwochen Millstatt":MAILTO:musikwochen@millstatt.at
END:VEVENT
END:VCALENDAR