BEGIN:VCALENDAR
VERSION:2.0
PRODID:-//Musikwochen Millstatt - ECPv6.15.17.1//NONSGML v1.0//EN
CALSCALE:GREGORIAN
METHOD:PUBLISH
X-ORIGINAL-URL:https://www.musikwochen.com
X-WR-CALDESC:Veranstaltungen für Musikwochen Millstatt
REFRESH-INTERVAL;VALUE=DURATION:PT1H
X-Robots-Tag:noindex
X-PUBLISHED-TTL:PT1H
BEGIN:VTIMEZONE
TZID:Europe/Vienna
BEGIN:DAYLIGHT
TZOFFSETFROM:+0100
TZOFFSETTO:+0200
TZNAME:CEST
DTSTART:20230326T010000
END:DAYLIGHT
BEGIN:STANDARD
TZOFFSETFROM:+0200
TZOFFSETTO:+0100
TZNAME:CET
DTSTART:20231029T010000
END:STANDARD
BEGIN:DAYLIGHT
TZOFFSETFROM:+0100
TZOFFSETTO:+0200
TZNAME:CEST
DTSTART:20240331T010000
END:DAYLIGHT
BEGIN:STANDARD
TZOFFSETFROM:+0200
TZOFFSETTO:+0100
TZNAME:CET
DTSTART:20241027T010000
END:STANDARD
BEGIN:DAYLIGHT
TZOFFSETFROM:+0100
TZOFFSETTO:+0200
TZNAME:CEST
DTSTART:20250330T010000
END:DAYLIGHT
BEGIN:STANDARD
TZOFFSETFROM:+0200
TZOFFSETTO:+0100
TZNAME:CET
DTSTART:20251026T010000
END:STANDARD
END:VTIMEZONE
BEGIN:VEVENT
DTSTART;TZID=Europe/Vienna:20240906T213000
DTEND;TZID=Europe/Vienna:20240906T233000
DTSTAMP:20260424T151948
CREATED:20240221T144247Z
LAST-MODIFIED:20240314T093425Z
UID:17784-1725658200-1725665400@www.musikwochen.com
SUMMARY:TRIO „BuZuRu“
DESCRIPTION:“Ein italienischer Konzertabend“\nNicola Bulfone: Klarinette\nValentino Zucchiatti: Fagott\nAndrea Rucli: Klavier\n\nFür beeindruckende Klangvielfalt steht das „TRIO BuZuRu“ aus Italien. Das Ensemble setzt sich aus den drei Spitzenmusikern Nicola Bulfone (Klarinette)\, Valentino Zucchiatti (Fagott) und Andrea Rucli (Klavier) zusammen. \nDer Klarinettist Nicola Bulfone ist mehrfacher Preisträger nationaler sowie internationaler Wettbewerbe und hat in namhaften Orchestern wie dem Orchestra del Teatro alla Scala in Mailand\, dem Orchestra del Teatro G. Verdi di Trieste oder dem Orchestra Sinfonica di San Remo musiziert. Sowohl solistisch als auch kammermusikalisch hat der gebürtige Schwede vielfach sein musisches Können unter Beweis gestellt und hat außerdem den Lehrstuhl für Klarinette am Konservatorium von Udine inne. \nFür musikalische Vielfalt steht der italienische Fagottist Valentino Zucchiatti. Im Alter von 23 Jahren ernannten ihn das Orchestra della Scala und Maestro Riccardo Muti zum ersten Solo-Fagottisten. Sein musisches Schaffen reicht von solistischen Darbietungen bis hin zum kammermusikalischen Musizieren. Sein Wissen gibt er u.a. an den Universitäten Maastricht und Köln an Studierende weiter. \nDer italienische Pianist Andrea Rucli ist Preisträger zahlreicher Klavierwettbewerbe\, ist seit über 25 Jahren sowohl als Solist als auch in verschiedenen Kammermusikensembles tätig und arbeitet mit führenden Persönlichkeiten der Konzertwelt zusammen. Außerdem hat Andrea Rucli den ministeriellen Wettbewerb am Liceo Musicale Pareggiato „G.Puccini“ in Gallarate für das Lehramt Klavier gewonnen. In Millstatt präsentiert sich das hochkarätige TRIO „BuZuRu“ mit einem eindrucksvollen Programm italienischer Komponisten\, das u.a. von Ernesto Cavallinis „Adagio und Tarantella für Klarinette und Klavier“ bis hin zu Nino Rotas „Toccata für Fagott und Klavier“ reicht. \nDieses Konzert wird gemeinsam mit der Dante Alighieri Gesellschaft Spittal-Millstätter See veranstaltet. \nCredits: privat \n\n\n\n\n\n\n\n\n\n\n\n\n\n\n\n\nKAT A\n\n€\n45\,00\n\n\n\n\n\nKAT B\n\n€\n41\,00\n\n\n\n\n\n\nKartenreservierungen
URL:https://www.musikwochen.com/konzert/trio-buzuru/
LOCATION:Stiftskirche Millstatt\, Stiftgasse 1\, Millstatt\, Kärnten\, 9872\, Österreich
ATTACH;FMTTYPE=image/jpeg:https://www.musikwochen.com/wp-content/uploads/2024/02/Foto-Trio-Nicola-Bulfone-druckfaehig-02-2024.jpg
ORGANIZER;CN="Musikwochen Millstatt":MAILTO:musikwochen@millstatt.at
END:VEVENT
BEGIN:VEVENT
DTSTART;TZID=Europe/Vienna:20240912T213000
DTEND;TZID=Europe/Vienna:20240912T233000
DTSTAMP:20260424T151948
CREATED:20240221T150127Z
LAST-MODIFIED:20240221T150127Z
UID:17790-1726176600-1726183800@www.musikwochen.com
SUMMARY:Cobario
DESCRIPTION:“Strings on Fire!”\nHerwig Schaffner: Violine\nGeorg Aichberger: Gitarre\nPeter Weiss: Gitarre\n\nMitreißende Rhythmen – orchestraler Sound – energiegeladene Show. Das erwartet das Publikum bei Cobarios feurigem Programm „Strings on Fire!“. Nicht selten sucht man nach dem Orchester – es sind tatsächlich nur die drei Musiker\, Herwig Schaffner (Violine)\, Peter Weiss (Gitarre) und Georg Aichberger (Gitarre)\, welche die Bühne zum Beben bringen und dabei ein musikalisches Feuerwerk der Extraklasse zünden. Die Gitarrensaiten glühen\, der Geiger verzaubert mit atemberaubender Virtuosität auf der Violine: Mit der Energie ihrer Kompositionen zieht das Wiener Trio seit Jahren weltweit das Publikum in seinen Bann – in Millstatt tritt die Formation erstmals auf. \nDas mehrfach ausgezeichnete Trio startete 2006 in Barcelona als Straßenmusikanten. Schon bald wurden „Cobario“ auf Festivals und folgend in die Konzerthäuser Europas\, Nordamerikas und Asiens eingeladen. Mittlerweile haben die Wiener Musiker in über 30 Ländern konzertiert und das Publikum von New York bis Hong Kong begeistert. Oft genügen schon ein paar Takte in der ungewöhnlichen Besetzung aus Geige und zwei Gitarren\, um eine wahre Explosion von Bildern im Kopf auszulösen. Der unwiderstehliche Charme und die ansteckende Spielfreude\, mit der die drei Vollblutmusiker das alles auf die Bühne bringen\, machen jedes ihrer Konzerte zum Genuss. Die virtuose Show ist ein musikalischer Tanz mit dem Feuer. Bei der Komposition „Avanti“ duellieren sich die beiden Gitarristen mit treibenden Riffs und spanischen Soli. Beim Titelsong „Strings On Fire“ kommt es zum ultimativen Showdown. „Strings on Fire!“ bietet ein außergewöhnliches Konzerterlebnis. Saiten-Feuer frei! \nCredits: privat \n\n\n\n\n\n\n\n\n\n\n\n\n\n\n\n\nEintritt bei freier Platzwahl\n\n€\n45\,00\n\n\n\n\n\n\nKartenreservierungen
URL:https://www.musikwochen.com/konzert/cobario/
LOCATION:Kongresshaus Millstatt\, Marktplatz 14\, Millstatt\, Kärnten\, 9872\, Österreich
ATTACH;FMTTYPE=image/jpeg:https://www.musikwochen.com/wp-content/uploads/2024/02/Cobario-Street.jpg
ORGANIZER;CN="Musikwochen Millstatt":MAILTO:musikwochen@millstatt.at
END:VEVENT
BEGIN:VEVENT
DTSTART;TZID=Europe/Vienna:20240922T190000
DTEND;TZID=Europe/Vienna:20240922T210000
DTSTAMP:20260424T151948
CREATED:20240221T150706Z
LAST-MODIFIED:20240221T150706Z
UID:17794-1727031600-1727038800@www.musikwochen.com
SUMMARY:Carinthia Saxophon Quartett
DESCRIPTION:„playful“\nGilbert Sabitzer: Sopran- und Altsaxophon\nGerhard Lippauer: Altsaxophon\nRudolf Kaimbacher: Tenorsaxophon\nGünter Lenart: Baritonsaxophon\n\nDas „Carinthia Saxophon Quartett“ belebt seit 1988 das Kärntner Kulturleben und fungierte im Laufe der Jahre immer wieder als Kulturbotschafter im Ausland\, um zeitgenössische österreichische Musik\, darunter auch Bearbeitungen von Kärntnerliedern für klassisches Saxophonquartett\, dem Publikum zu unterbreiten. Das Ensemble setzt sich aus den vier Vollblutmusikern Gilbert Sabitzer\, Gerhard Lippauer\, Rudolf Kaimbacher und Günter Lenart zusammen\, die es auf besondere Art und Weise verstehen\, ihr Publikum in die Klangwelten des klassischen Saxophons zu entführen. Die Formation setzt in ihrer Repertoireauswahl Schwerpunkte in der Pflege der französischen Originalliteratur für Saxophonquartett\, Uraufführungen zeitgenössischer österreichischer Komponisten und in der Bearbeitung von Werken der verschiedensten Stile. Vor allem das österreichische Kompositionsgut liegt dem Carinthia Saxophon Quartett am Herzen. So haben sie bereits Uraufführungen von Günther Antesberger\, Franz Cibulka\, Erich Eder de Lastra\, Anton Feinig\, Dieter Kaufmann\, Stephan Kühne\, Günter Lenart\, Gabriel Lipuš\, Günter Mattitsch\, Guido Mancusi\, Bernhard Maurer\, Manfred Plessl\, Hannes Raffaseder\, Michael Rot\, Hans-Jörg Scherr\, Alfred Stingl oder Hans-Peter Stinnig auf die Bühne gebracht. \nUnter dem Titel „playful – richtig verspielt“\, unter dem auch ihre brandneue CD veröffentlicht wurde\, präsentiert sich das Quartett mit einem schwungvollen Programm im Rahmen der Musikwochen Millstatt. Neben Volksweisen und Traditionals werden die vier Musiker eindrucksvolle Bearbeitungen unter anderem von George Gershwin\, Claude Debussy\, Robert Schumann\, Franz Schubert\, Leonard Bernstein oder den Beatles zum Besten geben. \nCredits: Gerhard Maurer \n\n\n\n\n\n\n\n\n\n\n\n\n\n\n\n\nKAT A\n\n€\n45\,00\n\n\n\n\n\nKAT B\n\n€\n41\,00\n\n\n\n\n\n\nKartenreservierungen
URL:https://www.musikwochen.com/konzert/carinthia-saxophon-quartett/
LOCATION:Stiftskirche Millstatt\, Stiftgasse 1\, Millstatt\, Kärnten\, 9872\, Österreich
ATTACH;FMTTYPE=image/jpeg:https://www.musikwochen.com/wp-content/uploads/2024/02/CSQ_foto_gerhard_maurer__MGL7064_2-scaled.jpg
ORGANIZER;CN="Musikwochen Millstatt":MAILTO:musikwochen@millstatt.at
END:VEVENT
BEGIN:VEVENT
DTSTART;TZID=Europe/Vienna:20240926T123000
DTEND;TZID=Europe/Vienna:20240926T140000
DTSTAMP:20260424T151948
CREATED:20240221T152618Z
LAST-MODIFIED:20240221T153104Z
UID:17797-1727353800-1727359200@www.musikwochen.com
SUMMARY:Turbo Thilda in Millstatt
DESCRIPTION:„Heldin im Schlummerland“\nEsther Planton: Turbo-Thilda (Konzeption und Text\, Schauspiel\, Gesang\, Tanz)\nJohanna Gossner: Superheldin Sausewind-Girl (Klarinette\, Schauspiel\, Komposition)\nDamian Keller: Superheld Besserwisser-Boy (Akkordeon\, Schauspiel\, Komposition)\n\nUm besonders das junge Publikum anzusprechen und Kinder für die Vielfalt der Musik zu begeistern\, initiieren die Musikwochen Millstatt ein Musikvermittlungsprojekt für Volksschüler:innen\, das unter dem Titel „Turbo Thilda in Millstatt“ steht. Ein inszeniertes Konzert\, das von Interaktion lebt: Mathilda ist ein ganz gewöhnliches Mädchen. In ihren Träumen erwacht sie im phantastischen Schlummerland zur Turbo-Thilda und trifft dabei auf zwei »echte« Superheld:innen. Der schlaue Besserwisser-Boy mit seinem Akkordeon ist klüger als die Polizei erlaubt und das flinke Sausewind-Girl mit ihrer Klarinette ist so schnell wie das Licht. So beginnt ein heldenhaftes Abenteuer mit kniffligen Superhelden-Aufgaben\, in dem die beiden musikalischen Alleskönner so richtig aufspielen und ihre Superkräfte unter Beweis stellen. Und genau das möchte Turbo-Thilda auch\, so sein wie diese Superheld:innen\, doch ob das der richtige Weg für Mathilda ist? \nDie schwungvolle Inszenierung von Susanne Preissl erzählt davon die eigene Superkraft in sich selbst zu finden\, auf diesem Weg auch zu scheitern\, aber nicht aufzugeben und weiter an sich zu glauben. Alle Talente stecken bereits in dir\, du musst sie nur finden. Mit viel Wortwitz und einer großen Auswahl bekannter Musikstücke (Kinderlieder\, Moderne\, Klassik\, Volksmusik)\, Auftragskompositionen von Matthias Werner und Eigenkompositionen begleiten die jungen Zuschauer:innen Turbo Thilda auf ihrer Heldinnen-Reise und erleben\, wie sie ihre Superkraft mit Hilfe der Musik entdeckt. Seitens des Vereins der Komödienspiele Porcia führt Florian Eisner das junge Publikum in die Vielfalt der Kultur ein! Ein Vormittag voller Erlebnisse\, Spaß und Musik\, die vom Herzen kommt. \nDiese Veranstaltung richtet sich gezielt an Volksschulklassen.\nAnmeldung per Mail unter musikwochen@millstatt.at\nEintritt frei! \n \nCredits: Alexander Müller \n\n\n\n\n\n\n\n\n\n\n\n\n\n\n\nKartenreservierungen
URL:https://www.musikwochen.com/konzert/turbo-thilda-in-millstatt/
LOCATION:Kongresshaus Millstatt\, Marktplatz 14\, Millstatt\, Kärnten\, 9872\, Österreich
ATTACH;FMTTYPE=image/jpeg:https://www.musikwochen.com/wp-content/uploads/2024/02/Gruppenfoto_2_FotoAlexanderMueller.jpg
ORGANIZER;CN="Musikwochen Millstatt":MAILTO:musikwochen@millstatt.at
END:VEVENT
BEGIN:VEVENT
DTSTART;TZID=Europe/Vienna:20240929T190000
DTEND;TZID=Europe/Vienna:20240929T210000
DTSTAMP:20260424T151948
CREATED:20240221T154027Z
LAST-MODIFIED:20240919T090126Z
UID:17808-1727636400-1727643600@www.musikwochen.com
SUMMARY:Junge Philharmonie Wien & Ambidravi Vocal
DESCRIPTION:„Jubiläumsklänge“\nJunge Philharmonie Wien\nAmbidravi Vocal\nMännerchor des Coro del Friuli Venezia Giulia\nMichael Lessky: Dirigent\nNikolaus Lessky: Sprecher\nBianca Calinescu: Klavier\nDaria Kalinina: Sopran\nMarlen Bieber: Alt\nGernot Heinrich: Tenor\nGünter Haumer: Bass \nAnlässlich des 200. Geburtstags von Anton Bruckner präsentieren sich die „Junge Philharmonie Wien“\, der „Ambidravi Vocal“ und zahlreiche Solist:innen mit einem eindrucksvollen Programm zum Saisonabschluss 2024.  Die Junge Philharmonie Wien ist ein seit über 25 Jahren professionell auftretendes\, gesamtösterreichisches Jugendorchester talentierter Musikerinnen und Musiker im Alter von 17 bis 27 Jahren\, das unter der Leitung von Michael Lessky steht. Im Jahr 1997 wurde aus einer dynamischen Gruppe musizierfreudiger Sänger:innen der Verein Ambidravi Vocal gegründet. Die Bezeichnung „Ambidravi“ ist keltischen Ursprungs und steht für „beiderseits der Drau Wohnende“. Geografisch gesehen bedeutet dies\, dass die Mitglieder des gemischten Chores aus dem Großraum Spittal an der Drau entstammen. Im übertragenen Sinn wollen diese damit zum Ausdruck bringen\, dass sie offen für verschiedene musikalische Richtungen sind: Für alte und neue Musik\, für geistliche und weltliche Lieder\, für Volkslieder Kärntens und Lieder der Welt. Heute steht der Chor unter der musikalischen Leitung der temperamentvollen Chorleiterin Nataliya Lukina. Unter dem Titel „Jubiläumsklänge“ präsentieren sich die Klangkörper und Solist:innen mit Schönbergs „Ein Überlebender aus Warschau op. 46“ sowie „Friede auf Erden“ und Anton Bruckners „Te Deum“ – einer Widmung an den lieben Gott. Mit diesem Werk erntete Bruckner größeren Erfolg als mit den meisten seiner Symphonien. Weiteres Programmhighlight ist Tschaikowskis „Konzert für Klavier Nr. 1 in b-Moll“. Als Solistin wird die international-renommierte Pianistin Bianca Calinescu die Stiftskirche Millstatt klanglich füllen. \nDas Jahr 2024 steht ganz im Zeichen des 150. Geburtstages von Arnold Schönberg. Passend dazu stellt das Schönberg Center Wissenswertes rund um den Komponisten im Rahmen des Konzertabends in der Stiftskirche Millstatt aus. \nCredits: Stefan Panfili | Eric Auer | privat \n\n\n\n\n\n\n\n\n\n\n\n\n\n\n\n\nKAT A\n\n€\n45\,00\n\n\n\n\n\nKAT B\n\n€\n41\,00\n\n\n\n\n\n\nKartenreservierungen
URL:https://www.musikwochen.com/konzert/junge-philharmonie-wien-ambidravi-vocal/
LOCATION:Stiftskirche Millstatt\, Stiftgasse 1\, Millstatt\, Kärnten\, 9872\, Österreich
ATTACH;FMTTYPE=image/jpeg:https://www.musikwochen.com/wp-content/uploads/2024/02/output_1708529879681.jpg
ORGANIZER;CN="Musikwochen Millstatt":MAILTO:musikwochen@millstatt.at
END:VEVENT
END:VCALENDAR