BEGIN:VCALENDAR
VERSION:2.0
PRODID:-//Musikwochen Millstatt - ECPv6.15.17.1//NONSGML v1.0//EN
CALSCALE:GREGORIAN
METHOD:PUBLISH
X-WR-CALNAME:Musikwochen Millstatt
X-ORIGINAL-URL:https://www.musikwochen.com
X-WR-CALDESC:Veranstaltungen für Musikwochen Millstatt
REFRESH-INTERVAL;VALUE=DURATION:PT1H
X-Robots-Tag:noindex
X-PUBLISHED-TTL:PT1H
BEGIN:VTIMEZONE
TZID:Europe/Vienna
BEGIN:DAYLIGHT
TZOFFSETFROM:+0100
TZOFFSETTO:+0200
TZNAME:CEST
DTSTART:20240331T010000
END:DAYLIGHT
BEGIN:STANDARD
TZOFFSETFROM:+0200
TZOFFSETTO:+0100
TZNAME:CET
DTSTART:20241027T010000
END:STANDARD
BEGIN:DAYLIGHT
TZOFFSETFROM:+0100
TZOFFSETTO:+0200
TZNAME:CEST
DTSTART:20250330T010000
END:DAYLIGHT
BEGIN:STANDARD
TZOFFSETFROM:+0200
TZOFFSETTO:+0100
TZNAME:CET
DTSTART:20251026T010000
END:STANDARD
BEGIN:DAYLIGHT
TZOFFSETFROM:+0100
TZOFFSETTO:+0200
TZNAME:CEST
DTSTART:20260329T010000
END:DAYLIGHT
BEGIN:STANDARD
TZOFFSETFROM:+0200
TZOFFSETTO:+0100
TZNAME:CET
DTSTART:20261025T010000
END:STANDARD
END:VTIMEZONE
BEGIN:VEVENT
DTSTART;TZID=Europe/Vienna:20250706T170000
DTEND;TZID=Europe/Vienna:20250706T190000
DTSTAMP:20260424T133829
CREATED:20250217T090256Z
LAST-MODIFIED:20250505T103124Z
UID:17951-1751821200-1751828400@www.musikwochen.com
SUMMARY:LA SINFONIETTA & Luisa Sello
DESCRIPTION:„Vivaldi\, Natur und Mystik“\n\nLA SINFONIETTA\nLuisa Sello: Flöte & Gesamtleitung \nLUISA SELLO\, vom Kritiker der „New York Concert Review“ beschrieben als „eine wundervolle Mischung aus extrovertierter Leidenschaft und echter Zärtlichkeit\, mit hervorragender Atemkontrolle\, brillanter Technik\, fesselnder Intensität\, wohlklingendem Tonumfang und einer Fülle von Charme“\, ist Flötistin der Marke Miyazawa und Botschafterin der Musik und der italienischen Kultur im Auftrag des Italienischen Kulturministeriums. Der international-renommierten Flötistin obliegt auch die Leitung des Streichorchesters „La Sinfonietta“. Eine Besonderheit des Streichorchesters ist die Arbeitsweise als flexibles Ensemble\, das offen für die Zusammenarbeit mit Musiker:innen aus verschiedenen Ländern ist und somit einen intergenerationellen sowie interkulturellen künstlerischen „Humus“ schafft. Das Repertoire reicht vom Barock bis zur Moderne\, wobei besonderes Augenmerk auf letzteres gelegt wird. \nGemeinsam werden die Künstler:innen ein eindrucksvolles Programm zum Besten geben. Die Bandbreite erstreckt sich u.a. von Antonio Vivaldis „Concerto in F-Dur“ für Flöte und Streichorchester\, Carlo Corazzas „Maravee“\, einer Suite über volkstümliche Themen für Flöte und Streichorchester\, dem „Concertino mystico für Flöte und Streichorchester“ von Gerhard Habl bis hin zu Valter Sivilottis „L’incantesimo della luna nuova“.\nDieses Konzert wird gemeinsam mit der Dante Alighieri Gesellschaft Spittal-Millstätter See veranstaltet. \n \n\n\n\n\n\n\n\n\n\n\n\n\n\n\n\n\nKAT A\n\n€\n48\,00\n\n\n\n\n\nKAT B\n\n€\n44\,00\n\n\n\n\n\n\nKartenreservierungen
URL:https://www.musikwochen.com/konzert/la-sinfonietta-luisa-sello/
LOCATION:Stiftskirche Millstatt\, Stiftgasse 1\, Millstatt\, Kärnten\, 9872\, Österreich
ATTACH;FMTTYPE=image/jpeg:https://www.musikwochen.com/wp-content/uploads/2025/02/LA-SINFONIETTA-10-scaled.jpg
ORGANIZER;CN="Musikwochen Millstatt":MAILTO:musikwochen@millstatt.at
END:VEVENT
BEGIN:VEVENT
DTSTART;TZID=Europe/Vienna:20250711T190000
DTEND;TZID=Europe/Vienna:20250711T210000
DTSTAMP:20260424T133829
CREATED:20250217T090934Z
LAST-MODIFIED:20250505T103118Z
UID:17957-1752260400-1752267600@www.musikwochen.com
SUMMARY:UAS-Upper Austrian Sinfonietta
DESCRIPTION:„Johann Strauss zum 200. Geburtstag“\nUAS-UpperAustrianSinfonietta\nLeonie Marie Felbinger: Zither\nPeter Aigner: Dirigent \nDie „UAS-UpperAustrianSinfonietta“ ist eines der Jugendorchester des oberösterreichischen Landesmusikschulwerkes. In der nun über 20-jährigen Geschichte des Orchesters wurden\, an Zahlen gemessen\, mehr als 1300 junge Musikschülerinnen und Musikschüler aus ganz Oberösterreich im Alter zwischen 14 und 18 Jahren im Orchesterspiel ausgebildet. Unterstützt werden sie dabei von einem erfahrenen Referententeam\, bestehend u.a. aus Instrumentalpädagog:innen und Mitgliedern österreichischer Berufsorchester.  \nAls Dirigent steht dem Klangkörper Peter Aigner vor\, der Solobratschist des „ensemble aktuell“ unter Franz Welser-Möst und des Orchesters „Wiener Akademie“ sowie Mitglied des oberösterreichischen David-Trios war. Peter Aigner leitet seit 2003 die UAS-UpperAustrianSinfonietta und ist Intendant der „Internationalen Kammermusiktage St. Marien“.  \nUnter dem Titel „Johann Strauss zum 200. Geburtstag“ präsentiert sich das Orchester mit Werken des Jubilars Johann Strauss Sohn\, Josef Strauss\, Edvard Grieg und Piotr Iljitsch Tschaikowsky.  \n\n\n\n\n\n\n\n\n\n\n\n\n\n\n\n\nKAT A\n\n€\n39\,00\n\n\n\n\n\nKAT B\n\n€\n35\,00\n\n\n\n\n\n\nKartenreservierungen
URL:https://www.musikwochen.com/konzert/uas-upper-austrian-sinfonietta/
LOCATION:Stiftskirche Millstatt\, Stiftgasse 1\, Millstatt\, Kärnten\, 9872\, Österreich
ATTACH;FMTTYPE=image/jpeg:https://www.musikwochen.com/wp-content/uploads/2025/02/UAS-2024-©-Reinhard-Winkler.jpg
ORGANIZER;CN="Musikwochen Millstatt":MAILTO:musikwochen@millstatt.at
END:VEVENT
BEGIN:VEVENT
DTSTART;TZID=Europe/Vienna:20250716T193000
DTEND;TZID=Europe/Vienna:20250716T213000
DTSTAMP:20260424T133829
CREATED:20250217T092139Z
LAST-MODIFIED:20250505T103027Z
UID:17961-1752694200-1752701400@www.musikwochen.com
SUMMARY:Abschlusskonzert der Meisterklasse für Gesang  von Kammersänger Thomas Hampson
DESCRIPTION:„Lied und Oper“\nThomas Hampson: Bariton\nGesangstalente aus Kärnten \nThomas Hampson\, Ehrenmitglied der Musikwochen Millstatt\, ist einer der weltweit meistgefragten Pädagogen und Lehrer für Meisterkurse. Der Kammersänger blickt auf eine einzigartige internationale Karriere als Opern-\, Konzert- und Liedsänger. Der US-amerikanische Bariton tritt weltweit in führenden Konzert- und Opernhäusern auf und gilt als „Botschafter des Liedes“. Thomas Hampson ist nicht nur für seine herausragenden Leistungen als Sänger bekannt\, sondern auch als angesehener Dozent und Mahler-Interpret. Zu Millstatt hat der Starbariton einen besonderen Bezug – bereits zum 9. Mal tritt er im Rahmen der Musikwochen auf. \nDie im Vorjahr begonnene Reihe eines Gesangs- und Interpretationskurses wird heuer mit großem\, internationalem Interesse fortgesetzt. Die Teilnehmerinnen und Teilnehmer kommen aus vielen Ländern nach Ossiach und Millstatt\, um von einem der ganz Großen des internationalen Musiklebens zu lernen. Das Abschlusskonzert findet im Rahmen der Musikwochen Millstatt unter dem Titel „Lied und Oper“ statt. Der Kammersänger von Weltformat wird einen Konzertabend gemeinsam mit jungen Talenten in der Stiftskirche Millstatt gestalten. Namhafte Werke großer Komponisten werden im Zuge dessen erklingen. Es erwartet Sie ein Abend voll stimmlicher Schönheit und jugendlichem Elan. \n\n\n\n\n\n\n\n\n\n\n\n\n\n\n\n\nKAT A\n\n€\n46\,00\n\n\n\n\n\nKAT B\n\n€\n42\,00\n\n\n\n\n\n\nKartenreservierungen
URL:https://www.musikwochen.com/konzert/abschlusskonzert-der-meisterklasse-fuer-gesang-von-kammersaenger-thomas-hampson/
LOCATION:Stiftskirche Millstatt\, Stiftgasse 1\, Millstatt\, Kärnten\, 9872\, Österreich
ATTACH;FMTTYPE=image/jpeg:https://www.musikwochen.com/wp-content/uploads/2024/02/TH-Marshall-Light-Studio2-scaled.jpg
ORGANIZER;CN="Musikwochen Millstatt":MAILTO:musikwochen@millstatt.at
END:VEVENT
BEGIN:VEVENT
DTSTART;TZID=Europe/Vienna:20250725T180000
DTEND;TZID=Europe/Vienna:20250725T233000
DTSTAMP:20260424T133829
CREATED:20250714T095247Z
LAST-MODIFIED:20250714T100019Z
UID:18045-1753466400-1753486200@www.musikwochen.com
SUMMARY:KunstNacht Stift Millstatt 2025
DESCRIPTION:Die „KunstNacht“ im Stift Millstatt geht am Freitag\, dem 25. Juli 2025 in die fünfte Auflage. Die Kunst- und Kulturschaffenden rund um das Stift Millstatt bieten Interessierten ein facettenreich-hochkarätiges Programm bei freiem Eintritt.\nDie KunstNacht steht für künstlerisches Miteinander aller im und um das Stift angesiedelten Kunstschaffenden und Kunstpräsentierenden. Für die Besucher:innen der KunstNacht bietet die Vielfalt des Programms – im besonderen Ambiente des Stifts – bis weit in die Nacht ein facettenreich-hochkarätiges Programm bei freiem Eintritt. \nDie Programmbandbreite der KunstNacht reicht von Führungen durch das Stiftsmuseum\, Ausstellungen\, Galerien\, offenen Ateliers\, Schaudruck\, Musik bis hin zu Performances & Happenings. \nMitwirkende:Musikwochen MillstattART SPACE stift millstattKunstverein millstARTkunst & co millstattStiftsmuseum MillstattEMPORIUM by Galerie AugustAtelier Gabriela KheloufiAtelier Barbara Laggner \nJunge Talente erleben\nSeitens der Musikwochen Millstatt präsentiert sich um 19:30 Uhr das „Duo Agili Digitos“ mit einem eindrucksvollen Programm.\nMarie Wiesflecker & Tin Šajinović der Musikschule Spittal-Baldramsdorf treten um 19:30 Uhr in der Stiftskirche Millstatt auf und verzaubern Sie mit Musik\, die vom Herzen kommt und dort bestimmt auch ankommt. \nHier geht´s zum detaillierten Programm
URL:https://www.musikwochen.com/konzert/kunstnacht-stift-millstatt-2025/
LOCATION:Stift Millstatt\, Stiftgasse 1\, Millstatt\, Kärnten\, 9872\, Österreich
ATTACH;FMTTYPE=image/jpeg:https://www.musikwochen.com/wp-content/uploads/2025/07/kunstnacht-25.jpg
ORGANIZER;CN="Musikwochen Millstatt":MAILTO:musikwochen@millstatt.at
END:VEVENT
BEGIN:VEVENT
DTSTART;TZID=Europe/Vienna:20250727T190000
DTEND;TZID=Europe/Vienna:20250727T210000
DTSTAMP:20260424T133829
CREATED:20250217T092616Z
LAST-MODIFIED:20250505T103023Z
UID:17964-1753642800-1753650000@www.musikwochen.com
SUMMARY:„FUNtango“ mit Bernarda und Marcos Fink
DESCRIPTION:„Ein musikalisches Fest voll Melancholie und Lebenslust“ \nBernarda Fink: Mezzosopran\nMarcos Fink: Bassbariton \nBenjamin Ziervogel: Violine\nMarko Črnčec: Klavier\nLuka Herman Gaiser: Kontrabass\nMarko Hatlak: Akkordeon \nMarko Hatlak & Ensemble treten gemeinsam mit der international gefeierten Mezzosopranistin Bernarda Fink und deren Bruder Marcos Fink in Millstatt auf. Marko Hatlak\, der zu den besten Akkordeonspielern Sloweniens zählt\, hat mit seinem Projekt „FUNtango“ Spitzenmusiker zusammengeführt\, die von Kritikern als „leidenschaftlich und kompromisslos“ bezeichnet wurden. Das Ensemble besteht aus dem Klaviervirtuosen und Jazzmusiker Marko Črnec\, dem erfahrenen Kontrabassisten Luka Gaier und dem langjährigen Konzertmeister des Rundfunksymphonie Orchesters Ljubljana sowie Gründungsmitglied des Acies Quartetts\, Benjamin Ziervogel. \nBernarda Fink gilt als eine der hochkarätigsten Mezzosopranistinnen ihrer Generation. Seit Beginn ihrer Karriere feierte sie Erfolge an wichtigen Opernhäusern Europas und in ihrer argentinischen Heimat. „Das Konzert ist eine Einladung nach Argentinien und lässt den Rhythmus der Pampas spüren. Es ist ein Regenbogen an Emotionen\, von tiefer Melancholie bis zu Lebensfreude“\, erklärt Bernarda Fink. Und tatsächlich wird die schwüle und flirrende Leidenschaft einer Tanguería in Buenos Aires für das Publikum erlebbar gemacht. \n\n\n\n\n\n\n\n\n\n\n\n\n\n\n\n\nKAT A\n\n€\n46\,00\n\n\n\n\n\nKAT B\n\n€\n42\,00\n\n\n\n\n\n\nKartenreservierungen
URL:https://www.musikwochen.com/konzert/funtango-mit-bernarda-und-marcos-fink/
LOCATION:Stiftskirche Millstatt\, Stiftgasse 1\, Millstatt\, Kärnten\, 9872\, Österreich
ATTACH;FMTTYPE=image/jpeg:https://www.musikwochen.com/wp-content/uploads/2025/02/MH-FUN-1-scaled.jpg
ORGANIZER;CN="Musikwochen Millstatt":MAILTO:musikwochen@millstatt.at
END:VEVENT
END:VCALENDAR