BEGIN:VCALENDAR
VERSION:2.0
PRODID:-//Musikwochen Millstatt - ECPv6.15.17.1//NONSGML v1.0//EN
CALSCALE:GREGORIAN
METHOD:PUBLISH
X-WR-CALNAME:Musikwochen Millstatt
X-ORIGINAL-URL:https://www.musikwochen.com
X-WR-CALDESC:Veranstaltungen für Musikwochen Millstatt
REFRESH-INTERVAL;VALUE=DURATION:PT1H
X-Robots-Tag:noindex
X-PUBLISHED-TTL:PT1H
BEGIN:VTIMEZONE
TZID:Europe/Vienna
BEGIN:DAYLIGHT
TZOFFSETFROM:+0100
TZOFFSETTO:+0200
TZNAME:CEST
DTSTART:20240331T010000
END:DAYLIGHT
BEGIN:STANDARD
TZOFFSETFROM:+0200
TZOFFSETTO:+0100
TZNAME:CET
DTSTART:20241027T010000
END:STANDARD
BEGIN:DAYLIGHT
TZOFFSETFROM:+0100
TZOFFSETTO:+0200
TZNAME:CEST
DTSTART:20250330T010000
END:DAYLIGHT
BEGIN:STANDARD
TZOFFSETFROM:+0200
TZOFFSETTO:+0100
TZNAME:CET
DTSTART:20251026T010000
END:STANDARD
BEGIN:DAYLIGHT
TZOFFSETFROM:+0100
TZOFFSETTO:+0200
TZNAME:CEST
DTSTART:20260329T010000
END:DAYLIGHT
BEGIN:STANDARD
TZOFFSETFROM:+0200
TZOFFSETTO:+0100
TZNAME:CET
DTSTART:20261025T010000
END:STANDARD
END:VTIMEZONE
BEGIN:VEVENT
DTSTART;TZID=Europe/Vienna:20250907T170000
DTEND;TZID=Europe/Vienna:20250907T190000
DTSTAMP:20260424T105446
CREATED:20250217T102148Z
LAST-MODIFIED:20250505T102925Z
UID:17982-1757264400-1757271600@www.musikwochen.com
SUMMARY:trio legno nero
DESCRIPTION:“MOODS”\n\nJohannes Hirschler: Klarinette\nMichael Singer: Klarinette\nThomas Unterrainer: Klarinette \nDie Mitglieder des trio legno nero („Trio des schwarzen Holzes“) verbindet eine mittlerweile mehr als 20-jährige musikalische Freundschaft. Gegründet als „Gschäftltruppe“ dreier Studienkollegen am damaligen Kärntner Landeskonservatorium\, wurde das Ensemble schnell ein Fixpunkt in der Kärntner Kammermusikszene. \nBesonderes Augenmerk legt das trio legno nero auf die klangliche Vielfalt der verschiedenen Instrumente der Klarinettenfamilie – daher sind sowohl die Bassklarinette als auch das Bassetthorn (eine Klarinette in Altlage und wohl Mozarts Lieblingsinstrument) seit vielen Jahren fixer Bestandteil der Besetzung. \nIn seinem neuen Programm „MOODS“ erforscht das trio legno nero unterschiedlichste emotionale Stimmungslagen in all ihren Schattierungen. Sei es die Leichtigkeit eines sonnigen Frühlingsvormittages\, dessen angenehme Wärme zu Entdeckungsreisen einlädt oder die tiefe Melancholie\, die aus der Erzählung einer russischen Großmutter über längst vergangene Zeiten spricht – sei es die überbordende Freude und Ausgelassenheit kindlicher Begeisterung oder die Ruhe eines regnerischen Sonntagnachmittags\, wenn die Zeit fast stillzustehen scheint. \nDabei verbinden sich Musik\, Gesang\, gesprochenes Wort\, Bilder und Aktionen zu einer stimmigen und poetischen Gesamt-„Komposition“\, bei der es nicht um Stile oder Genres\, nicht um E- oder U-Musik geht\, sondern stets die unbändige Lust am Musizieren und der Versuch\, das Publikum an den eigenen Emotionen teilhaben zu lassen\, im Zentrum stehen. \n\n\n\n\n\n\n\n\n\n\n\n\n\n\n\n\nKAT A\n\n€\n36\,00\n\n\n\n\n\nKAT B\n\n€\n32\,00\n\n\n\n\n\n\nKartenreservierungen
URL:https://www.musikwochen.com/konzert/trio-legno-nero/
LOCATION:Stiftskirche Millstatt\, Stiftgasse 1\, Millstatt\, Kärnten\, 9872\, Österreich
ATTACH;FMTTYPE=image/jpeg:https://www.musikwochen.com/wp-content/uploads/2025/02/Trio-scaled.jpg
ORGANIZER;CN="Musikwochen Millstatt":MAILTO:musikwochen@millstatt.at
END:VEVENT
BEGIN:VEVENT
DTSTART;TZID=Europe/Vienna:20250914T170000
DTEND;TZID=Europe/Vienna:20250914T190000
DTSTAMP:20260424T105446
CREATED:20250217T103431Z
LAST-MODIFIED:20250505T102920Z
UID:17985-1757869200-1757876400@www.musikwochen.com
SUMMARY:Junge Philharmonie Wien
DESCRIPTION:“Sternstunden der Oper”\n\nJunge Philharmonie Wien\nKristin Lewis: Sopran\nEli Our: Alt\nRaffael Alvarez: Tenor\nJinxin Chen: Bass\nCoro del Friuli Venezia Giulia\nMichael Lessky: Dirigent \nDie Junge Philharmonie Wien ist ein seit über 25 Jahren professionell auftretendes\, gesamtösterreichisches Jugendorchester talentierter Musikerinnen und Musiker im Alter von 17 bis 27 Jahren\, das unter der Leitung von Michael Lessky steht. Als „offizieller österreichischer Kulturbotschafter“ führten das Orchester Auslandsengagements bereits nach China\, Brasilien/Peru und in die verschiedensten Länder Europas. Die gefeierte Sopranistin Kristin Lewis wurde in Little Rock\, Arkansas (USA) geboren und studierte Gesang an der University of Central Arkansas und an der University of Tennessee. \nDer Klangkörper wird mit der großartigen Sopranistin Kristin Lewis ganz besondere Momente der italienischen Oper erklingen lassen\, die sich ideal ins Ambiente der Stiftskirche Millstatt fügen. Ein Opernkonzert der Extraklasse. Unter dem Titel „Sternstunden der Oper“ stehen Werke von Guiseppe Verdi\, Francesco Cilea und Giacomo Puccini am Programm. \n\n\n\n\n\n\n\n\n\n\n\n\n\n\n\n\nKAT A\n\n€\n45\,00\n\n\n\n\n\nKAT B\n\n€\n41\,00\n\n\n\n\n\n\nKartenreservierungen
URL:https://www.musikwochen.com/konzert/junge-philharmonie-wien/
LOCATION:Stiftskirche Millstatt\, Stiftgasse 1\, Millstatt\, Kärnten\, 9872\, Österreich
ATTACH;FMTTYPE=image/jpeg:https://www.musikwochen.com/wp-content/uploads/2025/02/14.-September-scaled.jpg
ORGANIZER;CN="Musikwochen Millstatt":MAILTO:musikwochen@millstatt.at
END:VEVENT
BEGIN:VEVENT
DTSTART;TZID=Europe/Vienna:20250921T170000
DTEND;TZID=Europe/Vienna:20250921T190000
DTSTAMP:20260424T105446
CREATED:20250217T103721Z
LAST-MODIFIED:20250505T102900Z
UID:17988-1758474000-1758481200@www.musikwochen.com
SUMMARY:Orgelkonzert mit Arjan Breukhoven
DESCRIPTION:„Ein Abend in der Oper“\n\nArjan Breukhoven: Orgel \nDer renommierte Organist Arjan Breukhoven wird unter dem Titel „Ein Abend in der Oper“ einen Konzertabend musikalisch gestalten\, in dessen Fokus berühmte Opernwerke stehen. \nMit der schönsten Musik großer Opernkomponisten präsentiert sich der vielseitige Musiker in der Stiftskirche Millstatt. Der Niederländer studierte zunächst Orgel bei Jan Brandwijk und später Orgel- und Kirchenmusik am Royal Conservatory in Den Haag\, wo Wim van Beek und Bert Matter seine Lehrer waren. Am Konservatorium studierte Breukhoven Klavier bei Albert Brussee\, des Weiteren widmete er sich den Fächern Gesang\, Improvisation und Chorleitung. Arjan Breukhoven ist in vielen Ländern der Welt ein gefragter Konzertorganist. \nAm Programm stehen Werke von Verdi\, Händel\, Rossini\, Puccini\, Beethoven\, Gershwin und Smetana. Frei nach den Worten des französischen Komponisten und Organisten César Franck „Meine Orgel ist mein Orchester“ wird der Musiker die eindrucksvolle Marcussen-Orgel in der Stiftskirche durch seine Künste zum Klingen bringen. \n\n\n\n\n\n\n\n\n\n\n\n\n\n\n\n\nEINTRITT\n\n€\n35\,00\n\n\n\n\n\n\nKartenreservierungen
URL:https://www.musikwochen.com/konzert/orgelkonzert-mit-arjan-breukhoven/
LOCATION:Stiftskirche Millstatt\, Stiftgasse 1\, Millstatt\, Kärnten\, 9872\, Österreich
ATTACH;FMTTYPE=image/jpeg:https://www.musikwochen.com/wp-content/uploads/2025/02/Arjan-Schiedam-scaled.jpeg
ORGANIZER;CN="Musikwochen Millstatt":MAILTO:musikwochen@millstatt.at
END:VEVENT
BEGIN:VEVENT
DTSTART;TZID=Europe/Vienna:20250925T100000
DTEND;TZID=Europe/Vienna:20250925T120000
DTSTAMP:20260424T105446
CREATED:20250217T104529Z
LAST-MODIFIED:20250505T102855Z
UID:17994-1758794400-1758801600@www.musikwochen.com
SUMMARY:Musikvermittlungsprojekt: „Konzert für Groß und Klein“
DESCRIPTION:Ensemble 5fürEva\n„Konzert für Groß und Klein“\n\nEva-Maria Fleischhacker: Klarinette\, Bassklarinette\, Gesang\nIsabell Kollegger: Steirische Harmonika\, Hackbrett\, Gesang\nChristine Rainer: Geige\, Gesang\nTheresa Winkler: Harfe\, Gesang \nUm besonders das junge Publikum anzusprechen und Kinder für die Vielfalt der Musik zu begeistern\, initiieren die Musikwochen Millstatt auch in diesem Jahr ein Musikvermittlungsprojekt für Volksschüler:innen\, das unter dem Titel „Konzert für Groß und Klein“ steht.Wir schreiben das Jahr 2236. In einer fernen Galaxie reisen die vier Musikerinnen des Ensembles „5fürEva“ in ihrem Raumschiff durch das Weltall. Jahrhunderte sind vergangen\, als sie noch durch die Konzertsäle tourten und gemeinsam Musik machten. Davon ist nicht viel übergeblieben. Der Alltag und die Langeweile haben die Vier fest im Griff. Bis sie ein Flyer erreicht\, der ihre Galaxie auf den Kopf stellt! \nDas Konzert startet im Raumschiff. Die Instrumente wurden auf Grund der jahrhundertelangen Schaffenspause zweckentfremdet. Eva stürmt die Bühne mit dem Flyer des Planeten Fantasia und überzeugt ihre Freundinnen\, eine Reise dorthin zu unternehmen. Um das Raumschiff zu starten\, brauchen sie jedoch die Hilfe des Publikums. Am Planeten angekommen\, sind die Mädchen frustriert – auf dem ersten Blick gibt es keine Musik. Sie starten ihre erste Musik-Suchaktion. Schon bald finden sie erste Hinweise: Eva’s Klarinette wird verzaubert\, Christine entdeckt ihre Gesangsstimme und sogar ein neues Instrument wird gefunden! In einer weiteren Suche verlieren sich die Freundinnen. Doch dank der Zauberkräfte des magischen Hackbrettes finden sie sich und ihre Liebe zur Musik wieder. \nDiese Veranstaltung richtet sich gezielt an Volksschulklassen.\nAnmeldung per Mail unter musikwochen@millstatt.at\nEintritt frei! \n\n\n\n\n\n\n\n\n\n\n\n\n\n\n\nKartenreservierungen
URL:https://www.musikwochen.com/konzert/musikvermittlungsprojekt-konzert-fuer-gross-und-klein/
LOCATION:Kongresshaus Millstatt\, Marktplatz 14\, Millstatt\, Kärnten\, 9872\, Österreich
ATTACH;FMTTYPE=image/jpeg:https://www.musikwochen.com/wp-content/uploads/2025/02/1039_kug_planet_fantasia_©_johannes_gellner_3mp.jpg
ORGANIZER;CN="Musikwochen Millstatt":MAILTO:musikwochen@millstatt.at
END:VEVENT
BEGIN:VEVENT
DTSTART;TZID=Europe/Vienna:20250928T170000
DTEND;TZID=Europe/Vienna:20250928T190000
DTSTAMP:20260424T105446
CREATED:20250217T104149Z
LAST-MODIFIED:20250505T102847Z
UID:17991-1759078800-1759086000@www.musikwochen.com
SUMMARY:Ensemble BachWerkVokal Salzburg
DESCRIPTION:„Musica veneziana di donne e uomini“\n\nEnsemble BachWerkVokal Salzburg\nGordon Safari: Dirigent \n2015 gründete Gordon Safari das Ensemble BachWerkVokal Salzburg\, das seinen zentralen künstlerischen Bezugspunkt im Vokalwerk Johann Sebastian Bachs definiert. Innerhalb kurzer Zeit entwickelte sich BachWerkVokal zu einem anerkannten Ensemble für historische Aufführungspraxis in Österreich\, das inzwischen international gastiert. \nUnter dem Titel „Musica veneziana di donne e uomini“ erklingt ausschließlich venezianische Kirchenmusik des Barock und der Vorklassik. Das Programm stellt Kompositionen von venezianischen Komponist:innen nebeneinander und zeigt\, trotz aller damals geltenden Unterschiede in der sozialen Stellung von Frauen und Männern\, wie modern die Metropole Venedig hinsichtlich einer musikalischen Ausbildung für begabte junge Frauen ausgerichtet war\, die aufgrund dessen internationale Karrieren beginnen konnten. Werke großer Meister:innen wie u.a. von Antonio Vivaldi\, Anna Bon di Venezia\, Antonio Lotti\, Francesco Cavalli\, Maddalena Laura Sirmen und Benedetto Marcello werden in diesem Rahmen in der Stiftskirche Millstatt erklingen.\nDieses Konzert wird gemeinsam mit der Dante Alighieri Gesellschaft Spittal-Millstätter See veranstaltet. \n \n\n\n\n\n\n\n\n\n\n\n\n\n\n\n\n\nKAT A\n\n€\n48\,00\n\n\n\n\n\nKAT B\n\n€\n44\,00\n\n\n\n\n\n\nKartenreservierungen
URL:https://www.musikwochen.com/konzert/ensemble-bachwerkvokal-salzburg/
LOCATION:Stiftskirche Millstatt\, Stiftgasse 1\, Millstatt\, Kärnten\, 9872\, Österreich
ATTACH;FMTTYPE=image/jpeg:https://www.musikwochen.com/wp-content/uploads/2025/02/Ensemble-BachWerkVokal-┬®M.-Brauer-scaled.jpg
ORGANIZER;CN="Musikwochen Millstatt":MAILTO:musikwochen@millstatt.at
END:VEVENT
END:VCALENDAR