BEGIN:VCALENDAR
VERSION:2.0
PRODID:-//Musikwochen Millstatt - ECPv6.15.17.1//NONSGML v1.0//EN
CALSCALE:GREGORIAN
METHOD:PUBLISH
X-ORIGINAL-URL:https://www.musikwochen.com
X-WR-CALDESC:Veranstaltungen für Musikwochen Millstatt
REFRESH-INTERVAL;VALUE=DURATION:PT1H
X-Robots-Tag:noindex
X-PUBLISHED-TTL:PT1H
BEGIN:VTIMEZONE
TZID:Europe/Vienna
BEGIN:DAYLIGHT
TZOFFSETFROM:+0100
TZOFFSETTO:+0200
TZNAME:CEST
DTSTART:20250330T010000
END:DAYLIGHT
BEGIN:STANDARD
TZOFFSETFROM:+0200
TZOFFSETTO:+0100
TZNAME:CET
DTSTART:20251026T010000
END:STANDARD
BEGIN:DAYLIGHT
TZOFFSETFROM:+0100
TZOFFSETTO:+0200
TZNAME:CEST
DTSTART:20260329T010000
END:DAYLIGHT
BEGIN:STANDARD
TZOFFSETFROM:+0200
TZOFFSETTO:+0100
TZNAME:CET
DTSTART:20261025T010000
END:STANDARD
BEGIN:DAYLIGHT
TZOFFSETFROM:+0100
TZOFFSETTO:+0200
TZNAME:CEST
DTSTART:20270328T010000
END:DAYLIGHT
BEGIN:STANDARD
TZOFFSETFROM:+0200
TZOFFSETTO:+0100
TZNAME:CET
DTSTART:20271031T010000
END:STANDARD
END:VTIMEZONE
BEGIN:VEVENT
DTSTART;TZID=Europe/Vienna:20260607T170000
DTEND;TZID=Europe/Vienna:20260607T190000
DTSTAMP:20260424T035830
CREATED:20260209T082019Z
LAST-MODIFIED:20260423T113835Z
UID:18110-1780851600-1780858800@www.musikwochen.com
SUMMARY:Eröffnungskonzert 2026
DESCRIPTION:„Klassische Kostbarkeiten“\n\nMillstatt Festival Orchester\nDaniel Loipold: Horn\nMarcus Merkel: Dirigent \nBestehend vornehmlich aus den Reihen des Kärntner Sinfonieorchesters\, der Gustav Mahler Privatuniversität sowie Musiker:innen aus renommierten Orchestern Österreichs (Bruckner Orchester Linz\, Grazer Philharmoniker\, Staatsoper Wien) wurde das „Millstatt Festival Orchester“\, ein wendiges und spielfreudiges Kollektiv\, extra für die Musikwochen Millstatt ins Leben gerufen. Der Klangkörper hat in den vergangenen Jahren mit Talenten wie Emmanuel Tjeknavorian\, Benjamin Schmid\, Tobias Wögerer und Elias Keller zusammengearbeitet. Der Klangkörper steht in diesem Jahr unter der musikalischen Leitung von Marcus Merkel. \nMarcus Merkel studierte Dirigieren\, Komposition\, Klavier und Gesang in Berlin. Seit der Saison 2022/23 ist er Chefdirigent am Theater Koblenz. Gemeinsam mit dem Millstatt Festival Orchester wird Marcus Merkel Mozarts Ouvertüre Clemenza\, Haydns Sinfonie Nr. 49 „La passione“\, Mozarts Sinfonie Nr. 41 und Mozarts Hornkonzert Nr. 1 (KV 412) in Millstatt zur Aufführung bringen. Als Solist wird der Kärntner Daniel Loipold (Solohornist des Bruckner Orchester Linz) Mozarts Hornkonzert Nr. 1 zum Besten geben.  \n\n\n\n\n\n\n\n\n\n\n\n\n\n\n\n\nKAT A\n\n€\n60\,00\n\n\n\n\n\nKAT B\n\n€\n56\,00\n\n\n\n\n\n\nKartenreservierungen
URL:https://www.musikwochen.com/konzert/eroeffnungskonzert-2026/
LOCATION:Stiftskirche Millstatt\, Stiftgasse 1\, Millstatt\, Kärnten\, 9872\, Österreich
ATTACH;FMTTYPE=image/jpeg:https://www.musikwochen.com/wp-content/uploads/2026/02/20260423_133622-scaled.jpg
ORGANIZER;CN="Musikwochen Millstatt":MAILTO:musikwochen@millstatt.at
END:VEVENT
BEGIN:VEVENT
DTSTART;TZID=Europe/Vienna:20260612T190000
DTEND;TZID=Europe/Vienna:20260612T210000
DTSTAMP:20260424T035830
CREATED:20260209T082807Z
LAST-MODIFIED:20260327T100420Z
UID:18113-1781290800-1781298000@www.musikwochen.com
SUMMARY:TrioVanBeethoven
DESCRIPTION:„Musikalische Geisterbeschwörung“\nClemens Zeilinger: Klavier\nVerena Stourzh: Violine\nFlorian Berner: Violoncello \nWarum „van Beethoven“? Beethoven steht für Unabhängigkeit im Denken\, für das Revolutionäre\, für das über seine Zeit Hinausweisende. So ist er einerseits Einzelgänger\, andererseits zentrale Basis für viele Kompositionstraditionen der Zukunft\, die sich auf ihn beriefen – wie zum Beispiel für die Achse von Brahms bis Schönberg. \nBeethoven als Symbol der Verbundenheit mit den Meistern der Wiener Klassik\, aber auch als Visionär und Ventil für Neues – dies passt zum „Haupt-Thema“ des TrioVanBeethoven: Die Pflege der klassischen Trio-Literatur\, aber auch Kompositionsaufträge für Uraufführungen oder Crossover-Projekte prägen seine Tätigkeit. Das Trio besteht seit dem Jahr 2011 und hat sich seither auf nationalen und internationalen Bühnen einen Namen gemacht. \nUnter dem Titel „Musikalische Geisterbeschwörung“ präsentiert sich das Trio mit Ludwig van Beethovens Trio in D-Dur op.70/2\, dem “Geistertrio“\, dem Klaviertrio Nr. 2 der österreichischen Komponistin Johanna Doderer und Felix Mendelssohn-Bartholdys Trio in c-moll op. 66. \n\n\n\n\n\n\n\n\n\n\n\n\n\n\n\n\nKAT A\n\n€\n44\,00\n\n\n\n\n\nKAT B\n\n€\n40\,00\n\n\n\n\n\n\nKartenreservierungen
URL:https://www.musikwochen.com/konzert/triovanbeethoven/
LOCATION:Stiftskirche Millstatt\, Stiftgasse 1\, Millstatt\, Kärnten\, 9872\, Österreich
ATTACH;FMTTYPE=image/jpeg:https://www.musikwochen.com/wp-content/uploads/2026/02/COPYRIGHT-MARIA-FRODL.jpg
ORGANIZER;CN="Musikwochen Millstatt":MAILTO:musikwochen@millstatt.at
END:VEVENT
BEGIN:VEVENT
DTSTART;TZID=Europe/Vienna:20260615T190000
DTEND;TZID=Europe/Vienna:20260615T210000
DTSTAMP:20260424T035830
CREATED:20260209T083149Z
LAST-MODIFIED:20260209T083149Z
UID:18116-1781550000-1781557200@www.musikwochen.com
SUMMARY:The King´s Singers
DESCRIPTION:„Live in Concert”\nPeter Hicks: Countertenor \nEdward Button: Countertenor \nJulian Gregory: Tenor \nJoseph Edwards: Bariton \nNick Ashby: Bariton \nPiers Connor Kennedy: Bass \nDas britische A-cappella-Ensemble “The King’s Singers” gastiert bereits zum vierten Mal in Millstatt. Seit seiner Gründung zeichnet sich das international-renommierte Vokalensemble durch ein sehr breitgefächertes Repertoire aus. Einerseits berühmt für ihre Interpretation der „alten Meister“\, sind die Sänger andererseits ebenso im Genre der populären Musik zuhause. \nSeit ihrem Bestehen sind „The King’s Singers“ gern gesehene Gäste aller großen Konzertsäle. Von der Royal Albert Hall in London über das Opernhaus Sydney bis zur Carnegie Hall New York sind die Künstler weltweit als Botschafter für höchste musikalische Qualität angesehen. In diesem Jahr präsentiert sich das Ensemble mit dem Programm „Live in Concert“\, das die Schwerpunkte „The Golden Renaissance“\, „Sounds of South Africa“\, „Old Romantics“\, „Tribute to the Real Group“ und “A selection of Close Harmony favourites” umfasst. Freuen Sie sich auf ein berührendes Programm voller Schönheit\, Dramatik und Energie der „King´s“ in Millstatt! \nAufzahlung für Konzertpass-Inhaber:innen. Bei diesem Konzert können keine Preisnachlässe gegeben werden. Wir bitten um Verständnis! \n\n\n\n\n\n\n\n\n\n\n\n\n\n\n\n\nKAT A\n\n€\n60\,00\n\n\n\n\n\nKAT B\n\n€\n56\,00\n\n\n\n\n\n\nKartenreservierungen
URL:https://www.musikwochen.com/konzert/the-kings-singers-2/
LOCATION:Stiftskirche Millstatt\, Stiftgasse 1\, Millstatt\, Kärnten\, 9872\, Österreich
ATTACH;FMTTYPE=image/jpeg:https://www.musikwochen.com/wp-content/uploads/2026/02/353571b8_181-colour-medium-sRGB-3000px-The-Kings-Singers-photographer-Benjamin-Ealovega-scaled.jpg
ORGANIZER;CN="Musikwochen Millstatt":MAILTO:musikwochen@millstatt.at
END:VEVENT
BEGIN:VEVENT
DTSTART;TZID=Europe/Vienna:20260628T170000
DTEND;TZID=Europe/Vienna:20260628T190000
DTSTAMP:20260424T035830
CREATED:20260209T083917Z
LAST-MODIFIED:20260209T084148Z
UID:18119-1782666000-1782673200@www.musikwochen.com
SUMMARY:Sax Arte Quartett & Robert Jäger
DESCRIPTION:„Klangwelten”\nAlexandra Pichler: Sopransaxophon\nFerenc Takács: Altsaxophon\nViola Jank: Tenorsaxophon\nMarkus Holzer: Baritonsaxophon\nRobert Jäger: Klavier \nDas Sax Arte Quartett entfaltet eine Klangwelt\, die weit über die Grenzen der traditionellen Saxophonmusik hinausgeht. Ihre musikalische Reise führt sie durch verschiedene Genres und Stile\, von klassischen Werken bis hin zu zeitgenössischen Kompositionen. Mit ihrer Leidenschaft für die Musik und technischer Präzision erwecken sie klassische Meisterwerke\, moderne Kompositionen und eigene Arrangements zum Leben und vereinen ihre individuellen Stimmen zu einem harmonischen Gesamterlebnis. Ihr Publikum nehmen sie mit auf eine einzigartige musikalische Entdeckungsreise\, die begeistert und inspiriert.  \nGemeinsam mit dem Pianisten Robert Jäger\, der regelmäßig als Kammermusiker und Liedbegleiter im In- und Ausland auftritt\, wird das Klangkollektiv ein außergewöhnliches musikalisches Erlebnis bieten\, das die klangliche Vielfalt des Saxophons in den Mittelpunkt stellt. Die fünf Instrumente – Sopran-\, Alt-\, Tenor- und Baritonsaxophon und Klavier verschmelzen zu einem harmonischen Klangkörper\, der sowohl klassische Werke als auch moderne Kompositionen eindrucksvoll interpretiert. Am Programm stehen Werke von Leonard Bernstein\, George Gershwin\, Georg Friedrich Händel und Robert Schumann. Ein Konzertabend\, den man erleben muss! \n\n\n\n\n\n\n\n\n\n\n\n\n\n\n\n\nKAT A\n\n€\n44\,00\n\n\n\n\n\nKAT B\n\n€\n40\,00\n\n\n\n\n\n\nKartenreservierungen
URL:https://www.musikwochen.com/konzert/sax-arte-quartett-robert-jaeger/
LOCATION:Stiftskirche Millstatt\, Stiftgasse 1\, Millstatt\, Kärnten\, 9872\, Österreich
ATTACH;FMTTYPE=image/jpeg:https://www.musikwochen.com/wp-content/uploads/2026/02/20260209_094012-scaled.jpg
ORGANIZER;CN="Musikwochen Millstatt":MAILTO:musikwochen@millstatt.at
END:VEVENT
END:VCALENDAR