BEGIN:VCALENDAR
VERSION:2.0
PRODID:-//Musikwochen Millstatt - ECPv6.15.17.1//NONSGML v1.0//EN
CALSCALE:GREGORIAN
METHOD:PUBLISH
X-ORIGINAL-URL:https://www.musikwochen.com
X-WR-CALDESC:Veranstaltungen für Musikwochen Millstatt
REFRESH-INTERVAL;VALUE=DURATION:PT1H
X-Robots-Tag:noindex
X-PUBLISHED-TTL:PT1H
BEGIN:VTIMEZONE
TZID:Europe/Vienna
BEGIN:DAYLIGHT
TZOFFSETFROM:+0100
TZOFFSETTO:+0200
TZNAME:CEST
DTSTART:20250330T010000
END:DAYLIGHT
BEGIN:STANDARD
TZOFFSETFROM:+0200
TZOFFSETTO:+0100
TZNAME:CET
DTSTART:20251026T010000
END:STANDARD
BEGIN:DAYLIGHT
TZOFFSETFROM:+0100
TZOFFSETTO:+0200
TZNAME:CEST
DTSTART:20260329T010000
END:DAYLIGHT
BEGIN:STANDARD
TZOFFSETFROM:+0200
TZOFFSETTO:+0100
TZNAME:CET
DTSTART:20261025T010000
END:STANDARD
BEGIN:DAYLIGHT
TZOFFSETFROM:+0100
TZOFFSETTO:+0200
TZNAME:CEST
DTSTART:20270328T010000
END:DAYLIGHT
BEGIN:STANDARD
TZOFFSETFROM:+0200
TZOFFSETTO:+0100
TZNAME:CET
DTSTART:20271031T010000
END:STANDARD
END:VTIMEZONE
BEGIN:VEVENT
DTSTART;TZID=Europe/Vienna:20260705T170000
DTEND;TZID=Europe/Vienna:20260705T190000
DTSTAMP:20260424T051639
CREATED:20260209T084538Z
LAST-MODIFIED:20260209T084831Z
UID:18124-1783270800-1783278000@www.musikwochen.com
SUMMARY:Quartetto RILKE
DESCRIPTION:„Kammermusik in ihrer Vielfalt”\nGiulia Gambaro: Violine \nGiada Visentin: Violine\nGiulietta Bianca Bondio: Viola  \nMarina Pavani: Violoncello \nDas Rilke-Quartett\, gegründet im Jahr 2022\, ist eine der vielversprechendsten kammermusikalischen Formationen der neuen Generation Italiens. Benannt nach einem sehr beliebten lyrischen Dichter\, ist das Quartetto Rilke das Ergebnis eines gemeinsamen Projekts junger Musikerinnen\, die in den besten Akademien und Konservatorien Italiens und im Ausland ausgebildet wurden. In kurzer Zeit hat das Quartett bereits zahlreiche Auszeichnungen erhalten\, zuletzt einen Gastaufenthalt im Jahr 2025 im Rahmen des Festivals Ticino Musica\, den Erwerb des Diploms der besonderen Verdienste an der Accademia Chigiana in der Klasse von Maestro Clive Greensmith und die jungen Musikerinnen gewannen den ersten Preis sowie den Sonderpreis beim ersten Streichquartett-Wettbewerb der Internationalen Giulio Rospigliosi Kammermusik-Wettbewerbe im Jahr 2025. \nDieser Konzertabend ist der Beginn einer musikalischen Kooperation zwischen der Stadt Triest und den Musikwochen Millstatt und hat den Austausch junger und hochbegabter Musiker:innen aus beiden geographischen Räumen zum Ziel. Die Geigerin Giada Visentin ist unter anderem Primgeigerin im Triestiner Orchestra Busoni und wurde vom Dirigenten des Orchesters für Millstatt empfohlen. Ziel ist es\, dass sich auch junge und hochbegabte Musikerinnen aus Kärnten infolge in Triest musikalisch vorstellen können.  Das Streichquartett präsentiert sich in der Stiftskirche Millstatt mit Luigi Boccherinis Quartetto G213\, mit Beetovens Streichquartett Nr. 7 in F-Dur\, op. 59\, Nr. 1\, dem ersten der drei sogenannten „Rasumowsky-Quartette“ und Giacomo Puccinis “Chrysanthemen”. \nDieses Konzert wird gemeinsam mit der Dante Alighieri Gesellschaft Spittal-Millstätter See veranstaltet.\n\n\n\n\n\n\n\n\n\n\n\n\n\n\n\n\nKAT A\n\n€\n44\,00\n\n\n\n\n\nKAT B\n\n€\n40\,00\n\n\n\n\n\n\nKartenreservierungen
URL:https://www.musikwochen.com/konzert/quartetto-rilke/
LOCATION:Stiftskirche Millstatt\, Stiftgasse 1\, Millstatt\, Kärnten\, 9872\, Österreich
ATTACH;FMTTYPE=image/jpeg:https://www.musikwochen.com/wp-content/uploads/2026/02/Rilke130435-copia-scaled.jpg
ORGANIZER;CN="Musikwochen Millstatt":MAILTO:musikwochen@millstatt.at
END:VEVENT
BEGIN:VEVENT
DTSTART;TZID=Europe/Vienna:20260717T193000
DTEND;TZID=Europe/Vienna:20260717T213000
DTSTAMP:20260424T051639
CREATED:20260209T090704Z
LAST-MODIFIED:20260209T090734Z
UID:18129-1784316600-1784323800@www.musikwochen.com
SUMMARY:Camerata Novi Sad & Friedrich Kleinhapl
DESCRIPTION:„VIVA ENNIO MORRICONE – Unsterbliche Filmmusik”\nCamerata Novi Sad\nFriedrich Kleinhapl: Cello \nEnnio Morricone wurde mit zwei Oscars für seine Musik gekrönt. Wer würde denken\, dass er seine Zukunft nie in der Musik und ganz sicher nicht in der Filmmusik sah? Dass er im Grunde seines Herzens Avantgardist war\, Verfechter von zeitgenössischer und experimenteller Musik? Nur um überleben zu können\, nahm er einen Auftrag aus Hollywood an. Aus dem Notfall wurde Weltruhm. „Popmusik ist geschrieben für die Massen“\, sagte er später einmal. „Auch ich schreibe für die Massen\, aber ich schreibe wirkliche Musik!“ Kompromisslos setzte Morricone von Beginn an genau jene Techniken ein\, die er in der experimentellen Musik kreiert hat. Entstanden sind daraus Meisterwerke\, die sich ins kollektive Unterbewusstsein eingebrannt haben. Seine Musik übt auch auf den klassischen Cellisten Friedrich Kleinhapl Faszination aus. Gemeinsam mit dem Wiener Arrangeur Alexander Wagendristel entstand so das Programm „Viva Ennio Morricone“ – ein Rausch an Klangfarben und Emotionen. \nDie Camerata Novi Sad ist das offizielle Kammerorchester der Stadt und tritt unter der Schirmherrschaft des Kulturzentrums von Novi Sad auf. Gemeinsam mit dem international-renommierten Cellisten Friedrich Kleinhapl werden rund um Ennio Morricones Filmmusik die großartigsten Werke in Millstatt zum Besten gegeben. \nAufzahlung für Konzertpass-Inhaber:innen. Bei diesem Konzert können keine Preisnachlässe gegeben werden. Wir bitten um Verständnis!\n\n\n\n\n\n\n\n\n\n\n\n\n\n\n\n\nKAT A\n\n€\n60\,00\n\n\n\n\n\nKAT B\n\n€\n56\,00\n\n\n\n\n\n\nKartenreservierungen
URL:https://www.musikwochen.com/konzert/camerata-novi-sad-friedrich-kleinhapl/
LOCATION:Kongresshaus Millstatt\, Marktplatz 14\, Millstatt\, Kärnten\, 9872\, Österreich
ATTACH;FMTTYPE=image/jpeg:https://www.musikwochen.com/wp-content/uploads/2026/02/Friedrich-Kleinhapl-Credits-Christian-Jungwirth-2-scaled.jpeg
ORGANIZER;CN="Musikwochen Millstatt":MAILTO:musikwochen@millstatt.at
END:VEVENT
BEGIN:VEVENT
DTSTART;TZID=Europe/Vienna:20260719T170000
DTEND;TZID=Europe/Vienna:20260719T190000
DTSTAMP:20260424T051639
CREATED:20260209T091159Z
LAST-MODIFIED:20260209T091159Z
UID:18133-1784480400-1784487600@www.musikwochen.com
SUMMARY:Orgelkonzert mit Johannes Strobl
DESCRIPTION:„Inspiration Barock“\nJohannes Strobl: Orgel \nJohannes Strobl ist in Seeboden am Millstätter See aufgewachsen. In der Klasse von Heribert Metzger an der Hochschule «Mozarteum» Salzburg erwarb er das Lehr- und das Konzertdiplom im Fach Orgel sowie das A-Diplom in Katholischer Kirchenmusik mit Auszeichnung. Ein umfassendes Studium der Alten Musik an der Schola Cantorum Basiliensis bei Jean-Claude Zehnder und Jörg-Andreas Bötticher beendete er mit Diplomen in Orgel und Cembalo. 1998 wurde ihm beim renommierten Innsbrucker Paul-Hofhaimer-Wettbewerb der zweite Preis zuerkannt. Seither konzertierte er als Solist und Ensemblemusiker in weiten Teilen Europas\, in Israel\, Japan\, den USA\, Brasilien und Argentinien. \nSeit 2011 trägt Johannes Strobl an der Hochschule Luzern in unterschiedlichen Fachbereichen (Haupt- und Nebenfach Orgel\, Liturgisches Orgelspiel und Improvisation\, Generalbass und Aufführungspraxis\, Ensemble und Kammermusik\, Oratorium und Barockoper) zur Ausbildung junger Musikerinnen und Musiker bei. 2021 wurde ihm zusätzlich zu seiner Unterrichtstätigkeit die Leitung der Studiengänge Bachelor Klassik Instrumental\, Bachelor Blasmusikdirektion sowie Bachelor und Master Kirchenmusik übertragen. \nUnter dem Titel „Inspiration Barock“ präsentiert sich der Künstler mit Werken von Johannes Brahms\, Dieterich Buxtehude\, Georg Muffat\, Felix Mendelssohn und Johann Sebastian Bach an der Marcussen-Orgel in der Stiftskirche Millstatt. \n\n\n\n\n\n\n\n\n\n\n\n\n\n\n\n\nKAT A\n\n€\n38\,00\n\n\n\n\n\nKAT B\n\n€\n34\,00\n\n\n\n\n\n\nKartenreservierungen
URL:https://www.musikwochen.com/konzert/orgelkonzert-mit-johannes-strobl/
LOCATION:Stiftskirche Millstatt\, Stiftgasse 1\, Millstatt\, Kärnten\, 9872\, Österreich
ATTACH;FMTTYPE=image/jpeg:https://www.musikwochen.com/wp-content/uploads/2026/02/Johannes-Strobl.jpg
ORGANIZER;CN="Musikwochen Millstatt":MAILTO:musikwochen@millstatt.at
END:VEVENT
BEGIN:VEVENT
DTSTART;TZID=Europe/Vienna:20260731T193000
DTEND;TZID=Europe/Vienna:20260731T213000
DTSTAMP:20260424T051639
CREATED:20260209T093111Z
LAST-MODIFIED:20260209T093137Z
UID:18136-1785526200-1785533400@www.musikwochen.com
SUMMARY:Abschlusskonzert der Meisterklasse für Gesang  von Kammersänger Thomas Hampson
DESCRIPTION:„Lied und Oper“\nThomas Hampson: Bariton\nJunge Gesangstalente \nThomas Hampson\, Ehrenmitglied der Musikwochen Millstatt\, ist einer der weltweit meistgefragten Pädagogen und Lehrer für Meisterkurse. Der Kammersänger blickt auf eine einzigartige internationale Karriere als Opern-\, Konzert- und Liedsänger. Der US-amerikanische Bariton tritt weltweit in führenden Konzert- und Opernhäusern auf und gilt als „Botschafter des Liedes“. Thomas Hampson ist nicht nur für seine herausragenden Leistungen als Sänger bekannt\, sondern auch als angesehener Dozent und Mahler-Interpret. Zu Millstatt hat der Starbariton einen besonderen Bezug – bereits zum 10. Mal tritt er im Rahmen der Musikwochen auf. \nDie Reihe eines Gesangs- und Interpretationskurses wird auch heuer mit großem\, internationalem Interesse fortgesetzt. Die Teilnehmerinnen und Teilnehmer kommen aus vielen Ländern nach Ossiach und Millstatt\, um von einem der ganz Großen des internationalen Musiklebens zu lernen. Das Abschlusskonzert findet im Rahmen der Musikwochen Millstatt unter dem Titel „Lied und Oper“ statt. Der Kammersänger von Weltformat wird einen Konzertabend gemeinsam mit jungen Talenten in der Stiftskirche Millstatt gestalten. Namhafte Werke großer Komponisten werden im Zuge dessen erklingen. Es erwartet Sie ein Abend voll stimmlicher Schönheit und jugendlichem Elan. \nEin herzlicher Dank gilt unseren Kooperationspartnern: \n \n\n\n\n\n\n\n\n\n\n\n\n\n\n\n\n\nKAT A\n\n€\n50\,00\n\n\n\n\n\nKAT B\n\n€\n46\,00\n\n\n\n\n\n\nKartenreservierungen
URL:https://www.musikwochen.com/konzert/abschlusskonzert-der-meisterklasse-fuer-gesang-von-kammersaenger-thomas-hampson-2/
LOCATION:Stiftskirche Millstatt\, Stiftgasse 1\, Millstatt\, Kärnten\, 9872\, Österreich
ATTACH;FMTTYPE=image/jpeg:https://www.musikwochen.com/wp-content/uploads/2025/02/TH-Marshall-Light-Studio2-scaled.jpg
ORGANIZER;CN="Musikwochen Millstatt":MAILTO:musikwochen@millstatt.at
END:VEVENT
END:VCALENDAR